BEGIN:VCALENDAR
VERSION:2.0
PRODID:-//Visit Pikeville - ECPv6.15.20//NONSGML v1.0//EN
CALSCALE:GREGORIAN
METHOD:PUBLISH
X-ORIGINAL-URL:https://visitpikeville.com
X-WR-CALDESC:Events for Visit Pikeville
REFRESH-INTERVAL;VALUE=DURATION:PT1H
X-Robots-Tag:noindex
X-PUBLISHED-TTL:PT1H
BEGIN:VTIMEZONE
TZID:America/Kentucky/Louisville
BEGIN:DAYLIGHT
TZOFFSETFROM:-0500
TZOFFSETTO:-0400
TZNAME:EDT
DTSTART:20240310T070000
END:DAYLIGHT
BEGIN:STANDARD
TZOFFSETFROM:-0400
TZOFFSETTO:-0500
TZNAME:EST
DTSTART:20241103T060000
END:STANDARD
BEGIN:DAYLIGHT
TZOFFSETFROM:-0500
TZOFFSETTO:-0400
TZNAME:EDT
DTSTART:20250309T070000
END:DAYLIGHT
BEGIN:STANDARD
TZOFFSETFROM:-0400
TZOFFSETTO:-0500
TZNAME:EST
DTSTART:20251102T060000
END:STANDARD
BEGIN:DAYLIGHT
TZOFFSETFROM:-0500
TZOFFSETTO:-0400
TZNAME:EDT
DTSTART:20260308T070000
END:DAYLIGHT
BEGIN:STANDARD
TZOFFSETFROM:-0400
TZOFFSETTO:-0500
TZNAME:EST
DTSTART:20261101T060000
END:STANDARD
END:VTIMEZONE
BEGIN:VEVENT
DTSTART;VALUE=DATE:20251121
DTEND;VALUE=DATE:20251122
DTSTAMP:20260423T140609
CREATED:20251110T130149Z
LAST-MODIFIED:20251110T130149Z
UID:71064-1763683200-1763769599@visitpikeville.com
SUMMARY:Blackout Friday "Friends Giving"
DESCRIPTION:@The Mine 606
URL:https://visitpikeville.com/event/mystery-beer-monday-2-3-2/
LOCATION:The Mine 606\, 121 Main St\, Pikeville\, KY\, 41501\, United States
CATEGORIES:Other
ATTACH;FMTTYPE=image/jpeg:https://visitpikeville.com/wp-content/uploads/2025/11/mine-events.jpg
END:VEVENT
BEGIN:VEVENT
DTSTART;VALUE=DATE:20251121
DTEND;VALUE=DATE:20251122
DTSTAMP:20260423T140609
CREATED:20251031T185645Z
LAST-MODIFIED:20251031T185645Z
UID:70553-1763683200-1763769599@visitpikeville.com
SUMMARY:FNM: Casual Commander with Travis
DESCRIPTION:@ 6:00pm
URL:https://visitpikeville.com/event/fnm-spider-man-play-booster-draft-with-travis-2-2/
LOCATION:The Gaming Co.\, 265 Hambley Boulevard\,\, Pikeville\, KY\, 41501\, United States
CATEGORIES:Other
ATTACH;FMTTYPE=image/jpeg:https://visitpikeville.com/wp-content/uploads/2025/10/gaming-.jpg
END:VEVENT
BEGIN:VEVENT
DTSTART;TZID=America/Kentucky/Louisville:20251121T160000
DTEND;TZID=America/Kentucky/Louisville:20251121T170000
DTSTAMP:20260423T140609
CREATED:20251103T142613Z
LAST-MODIFIED:20251103T142613Z
UID:70815-1763740800-1763744400@visitpikeville.com
SUMMARY:Chess Club: Beginner's Theory
DESCRIPTION:New to chess? Learn the basics of the game in a fun\, beginner-friendly setting! \n\n\n\n\n\n\nWe’ll cover piece movement\, rules\, simple tactics\, and opening strategies to help you build a strong foundation. No experience needed! \nMeets alternating Fridays at 4:00 at the Pike County Public Library (Lee Avenue).
URL:https://visitpikeville.com/event/chess-club-beginners-theory-2-3-2/
LOCATION:Pike County Public Library\, 126 Lee Avenue\, Pikeville\, KY\, 41501\, United States
CATEGORIES:Pike County Public Library
ATTACH;FMTTYPE=image/png:https://visitpikeville.com/wp-content/uploads/2025/09/Chess_ClubUPDATED.png
END:VEVENT
BEGIN:VEVENT
DTSTART;TZID=America/Kentucky/Louisville:20251121T173000
DTEND;TZID=America/Kentucky/Louisville:20251121T193000
DTSTAMP:20260423T140609
CREATED:20251117T200111Z
LAST-MODIFIED:20251117T200111Z
UID:71418-1763746200-1763753400@visitpikeville.com
SUMMARY:Fun Paint Class
DESCRIPTION:Deck the halls with your very own ornament canvas \n\n\nJoin us Friday\, Nov. 21 at 5:30 for this fun paint class! We will assist as you create this cute ornament painting\, and you can customize it with your choice of colors and your own monogram. Perfect for gifts or holiday décor!\n\n\n No experience needed\n $25\n All supplies included\n Fun\, relaxing night out\n\n\nSpots are limited
URL:https://visitpikeville.com/event/fun-paint-class/
LOCATION:2 Broke Art Teachers\, 4505 Weddington Square\,\, Pikeville\, KY\, 41501\, United States
CATEGORIES:Other
ATTACH;FMTTYPE=image/jpeg:https://visitpikeville.com/wp-content/uploads/2025/11/FUN-FRIDAY-NOV-21.jpg
END:VEVENT
BEGIN:VEVENT
DTSTART;TZID=America/Kentucky/Louisville:20251121T173000
DTEND;TZID=America/Kentucky/Louisville:20251121T210000
DTSTAMP:20260423T140609
CREATED:20251031T175625Z
LAST-MODIFIED:20251031T175625Z
UID:70529-1763746200-1763758800@visitpikeville.com
SUMMARY:Open War Gaming
DESCRIPTION:The Gaming Co @ 5:30pm
URL:https://visitpikeville.com/event/rpg-day-with-steven-2-3-3-2-2-2-2-2-2-2/
LOCATION:The Gaming Co.\, 265 Hambley Boulevard\,\, Pikeville\, KY\, 41501\, United States
CATEGORIES:Other
ATTACH;FMTTYPE=image/jpeg:https://visitpikeville.com/wp-content/uploads/2025/10/gaming-.jpg
END:VEVENT
BEGIN:VEVENT
DTSTART;TZID=America/Kentucky/Louisville:20251121T180000
DTEND;TZID=America/Kentucky/Louisville:20251121T200000
DTSTAMP:20260423T140609
CREATED:20250929T123946Z
LAST-MODIFIED:20250929T123946Z
UID:68990-1763748000-1763755200@visitpikeville.com
SUMMARY:Bob Ross Painting Class
DESCRIPTION:Brad Mullins is an artist and studio owner in Carmi\, IL. Brad became a CRI\, or Certified Ross Instructor\, by taking a series of required classes at Bob Ross Incorporated\, which now enables him to teach others how Bob Ross’ favored landscape methods were used to create his beautiful works of art. The classes he teaches are designed for painters of any skill level and expertise using only Bob Ross supplies\, (all provided). Brad not only provides these opportunities at his studio monthly but also works with many organizations throughout Illinois and Indiana. Currently\, his classes are offered at several local colleges\, library’s\, art organizations\, and even as Paint and Sip events at area restaurants. He has been featured in articles in his local newspaper and on Talk of the Town\, which is a radio broadcast in Carmi\, IL. His work has been well received as he continues to honor Bob’s legacy by spreading the joy of painting across the Midwest\, and beyond. \nNon alcoholic refreshments\, wine and charcuterie will be served.
URL:https://visitpikeville.com/event/bob-ross-painting-class/
LOCATION:Appalachian Center for the Arts\, 218 2nd St\,\, Pikeville\, Ky\, 41501
CATEGORIES:The Appalachian Center for the Arts
ATTACH;FMTTYPE=image/jpeg:https://visitpikeville.com/wp-content/uploads/2025/09/bob.jpg
END:VEVENT
BEGIN:VEVENT
DTSTART;TZID=America/Kentucky/Louisville:20251121T180000
DTEND;TZID=America/Kentucky/Louisville:20251121T200000
DTSTAMP:20260423T140609
CREATED:20251110T142516Z
LAST-MODIFIED:20251110T142516Z
UID:71105-1763748000-1763755200@visitpikeville.com
SUMMARY:Herbie Hancock & Stephen Sondheim
DESCRIPTION:@The Appalachian Center for the Arts
URL:https://visitpikeville.com/event/herbie-hancock-stephen-sondheim/
LOCATION:Appalachian Center for the Arts\, 218 2nd St\,\, Pikeville\, Ky\, 41501
CATEGORIES:The Appalachian Center for the Arts
ATTACH;FMTTYPE=image/jpeg:https://visitpikeville.com/wp-content/uploads/2025/11/jazz-band.jpg
END:VEVENT
BEGIN:VEVENT
DTSTART;TZID=America/Kentucky/Louisville:20251121T193000
DTEND;TZID=America/Kentucky/Louisville:20251121T223000
DTSTAMP:20260423T140609
CREATED:20251110T133438Z
LAST-MODIFIED:20251110T133438Z
UID:71087-1763753400-1763764200@visitpikeville.com
SUMMARY:Daryl Amburgey
DESCRIPTION:  \n@7:30pm – 10:00pm
URL:https://visitpikeville.com/event/live-music-at-bank-253-3-2-2-2-2-2-2-2-2-2-2-2-2-2-2-2-2-2-2-2-2-2-2-2-2-2-2-2-2-2-2-2-2-2-2-2-2-2-3/
LOCATION:Bank 253\, 253 2nd St\,\, Pikeville\, KY\, 41501\, United States
CATEGORIES:Other
ATTACH;FMTTYPE=image/jpeg:https://visitpikeville.com/wp-content/uploads/2025/09/BANK-253.jpg
END:VEVENT
END:VCALENDAR