BEGIN:VCALENDAR
VERSION:2.0
PRODID:-//Visit Pikeville - ECPv6.15.20//NONSGML v1.0//EN
CALSCALE:GREGORIAN
METHOD:PUBLISH
X-ORIGINAL-URL:https://visitpikeville.com
X-WR-CALDESC:Events for Visit Pikeville
REFRESH-INTERVAL;VALUE=DURATION:PT1H
X-Robots-Tag:noindex
X-PUBLISHED-TTL:PT1H
BEGIN:VTIMEZONE
TZID:America/Kentucky/Louisville
BEGIN:DAYLIGHT
TZOFFSETFROM:-0500
TZOFFSETTO:-0400
TZNAME:EDT
DTSTART:20240310T070000
END:DAYLIGHT
BEGIN:STANDARD
TZOFFSETFROM:-0400
TZOFFSETTO:-0500
TZNAME:EST
DTSTART:20241103T060000
END:STANDARD
BEGIN:DAYLIGHT
TZOFFSETFROM:-0500
TZOFFSETTO:-0400
TZNAME:EDT
DTSTART:20250309T070000
END:DAYLIGHT
BEGIN:STANDARD
TZOFFSETFROM:-0400
TZOFFSETTO:-0500
TZNAME:EST
DTSTART:20251102T060000
END:STANDARD
BEGIN:DAYLIGHT
TZOFFSETFROM:-0500
TZOFFSETTO:-0400
TZNAME:EDT
DTSTART:20260308T070000
END:DAYLIGHT
BEGIN:STANDARD
TZOFFSETFROM:-0400
TZOFFSETTO:-0500
TZNAME:EST
DTSTART:20261101T060000
END:STANDARD
END:VTIMEZONE
BEGIN:VEVENT
DTSTART;VALUE=DATE:20251117
DTEND;VALUE=DATE:20251118
DTSTAMP:20260423T140609
CREATED:20251031T181559Z
LAST-MODIFIED:20251031T181559Z
UID:70544-1763337600-1763423999@visitpikeville.com
SUMMARY:Open Play
DESCRIPTION:@The Gaming Co \nBring your own game or try one of our demo games out
URL:https://visitpikeville.com/event/rpg-day-with-steven-2-2-2-2/
LOCATION:The Gaming Co.\, 265 Hambley Boulevard\,\, Pikeville\, KY\, 41501\, United States
CATEGORIES:Other
ATTACH;FMTTYPE=image/jpeg:https://visitpikeville.com/wp-content/uploads/2025/10/gaming-.jpg
END:VEVENT
BEGIN:VEVENT
DTSTART;TZID=America/Kentucky/Louisville:20251117T140000
DTEND;TZID=America/Kentucky/Louisville:20251117T150000
DTSTAMP:20260423T140609
CREATED:20251103T131511Z
LAST-MODIFIED:20251103T131511Z
UID:70723-1763388000-1763391600@visitpikeville.com
SUMMARY:Music Theory for Homeschoolers
DESCRIPTION:Understanding how music works will give you the tools you need to write riffs\, songs\, and solos\, and learn to improvise in a friendly hands-on environment. \n\n\n\n\n\n\n  \nClass is held every Monday at the Pike County Public Library (Lee Ave) at 2:00. \nNo previous knowledge of music theory or reading music is necessary\, but this class is for students who already know how to play a little bit.
URL:https://visitpikeville.com/event/basic-computer-skills-5-2-2-2-2-2-2-2-2-2-2-2-2-2-2-2-2-2/
LOCATION:Pike County Public Library\, 126 Lee Avenue\, Pikeville\, KY\, 41501\, United States
CATEGORIES:Pike County Public Library
ATTACH;FMTTYPE=image/png:https://visitpikeville.com/wp-content/uploads/2025/07/GuitarEmblem.png
END:VEVENT
BEGIN:VEVENT
DTSTART;TZID=America/Kentucky/Louisville:20251117T160000
DTEND;TZID=America/Kentucky/Louisville:20251117T170000
DTSTAMP:20260423T140609
CREATED:20251103T142321Z
LAST-MODIFIED:20251103T142321Z
UID:70807-1763395200-1763398800@visitpikeville.com
SUMMARY:Teen Time
DESCRIPTION:Teens ages 13-17 are invited to hang out\, get creative\, and have fun at Teen Time\, meeting alternating Mondays at 4:00. \n\n\n\n\n\n\n  \nJoin us in the Teen Room for a mix of crafts\, games\, video game tournaments\, snacks\, and more. It’s a great chance to relax\, meet new friends\, and try something new each week. No registration needed.
URL:https://visitpikeville.com/event/teen-time-3-2-2/
LOCATION:Pike County Public Library\, 126 Lee Avenue\, Pikeville\, KY\, 41501\, United States
CATEGORIES:Pike County Public Library
ATTACH;FMTTYPE=image/png:https://visitpikeville.com/wp-content/uploads/2025/10/Teen_Time_updated.png
END:VEVENT
BEGIN:VEVENT
DTSTART;TZID=America/Kentucky/Louisville:20251117T170000
DTEND;TZID=America/Kentucky/Louisville:20251117T180000
DTSTAMP:20260423T140609
CREATED:20250929T134138Z
LAST-MODIFIED:20250929T134138Z
UID:69010-1763398800-1763402400@visitpikeville.com
SUMMARY:4-H Visual Arts Club
DESCRIPTION:This club is perfect for any young artist who loves creating and wants to sharpen their skills. Whether you’re a seasoned painter or just starting out\, we welcome all levels of experience. Come join us and let your creativity shine! To register\, call the Pike County Extension Office. We can’t wait to see the amazing talent our young artists will bring!
URL:https://visitpikeville.com/event/4-h-visual-arts-club-2-2/
LOCATION:Pike County Extension Office\, 148 Trivette Dr\, Pikeville\, KY\, 41501\, United States
CATEGORIES:Pike County Cooperative Extension Office,Pike County Extension Community Arts
ATTACH;FMTTYPE=image/jpeg:https://visitpikeville.com/wp-content/uploads/2025/09/4h.jpg
END:VEVENT
BEGIN:VEVENT
DTSTART;TZID=America/Kentucky/Louisville:20251117T170000
DTEND;TZID=America/Kentucky/Louisville:20251117T180000
DTSTAMP:20260423T140609
CREATED:20251103T123656Z
LAST-MODIFIED:20251103T123656Z
UID:70683-1763398800-1763402400@visitpikeville.com
SUMMARY:Visual Arts Club meeting
DESCRIPTION:This club is perfect for any young artist who loves creating and wants to sharpen their skills. Whether you’re a seasoned painter or just starting out\, we welcome all levels of experience. Come join us and let your creativity shine!\n\n\n To register\, call the Pike County Extension Office. We can’t wait to see the amazing talent our young artists will bring!
URL:https://visitpikeville.com/event/visual-arts-club-meeting/
LOCATION:Pike County Extension Office\, 148 Trivette Dr\, Pikeville\, KY\, 41501\, United States
CATEGORIES:Pike County Cooperative Extension Office
ATTACH;FMTTYPE=image/jpeg:https://visitpikeville.com/wp-content/uploads/2025/11/visual-arts.jpg
END:VEVENT
END:VCALENDAR