BEGIN:VCALENDAR
VERSION:2.0
PRODID:-//Visit Pikeville - ECPv6.15.20//NONSGML v1.0//EN
CALSCALE:GREGORIAN
METHOD:PUBLISH
X-WR-CALNAME:Visit Pikeville
X-ORIGINAL-URL:https://visitpikeville.com
X-WR-CALDESC:Events for Visit Pikeville
REFRESH-INTERVAL;VALUE=DURATION:PT1H
X-Robots-Tag:noindex
X-PUBLISHED-TTL:PT1H
BEGIN:VTIMEZONE
TZID:America/Kentucky/Louisville
BEGIN:DAYLIGHT
TZOFFSETFROM:-0500
TZOFFSETTO:-0400
TZNAME:EDT
DTSTART:20240310T070000
END:DAYLIGHT
BEGIN:STANDARD
TZOFFSETFROM:-0400
TZOFFSETTO:-0500
TZNAME:EST
DTSTART:20241103T060000
END:STANDARD
BEGIN:DAYLIGHT
TZOFFSETFROM:-0500
TZOFFSETTO:-0400
TZNAME:EDT
DTSTART:20250309T070000
END:DAYLIGHT
BEGIN:STANDARD
TZOFFSETFROM:-0400
TZOFFSETTO:-0500
TZNAME:EST
DTSTART:20251102T060000
END:STANDARD
BEGIN:DAYLIGHT
TZOFFSETFROM:-0500
TZOFFSETTO:-0400
TZNAME:EDT
DTSTART:20260308T070000
END:DAYLIGHT
BEGIN:STANDARD
TZOFFSETFROM:-0400
TZOFFSETTO:-0500
TZNAME:EST
DTSTART:20261101T060000
END:STANDARD
END:VTIMEZONE
BEGIN:VEVENT
DTSTART;TZID=America/Kentucky/Louisville:20251111T070000
DTEND;TZID=America/Kentucky/Louisville:20251111T120000
DTSTAMP:20260423T135614
CREATED:20251110T130946Z
LAST-MODIFIED:20251110T130946Z
UID:71068-1762844400-1762862400@visitpikeville.com
SUMMARY:Diabetes Awareness Day
DESCRIPTION:PMC 2nd floor
URL:https://visitpikeville.com/event/diabetes-awareness-day/
LOCATION:Pikeville Medical Center\, 911 S Bypass Rd\,\, Pikeville\, KY\, 41501\, United States
CATEGORIES:Pikeville Medical Center
ATTACH;FMTTYPE=image/png:https://visitpikeville.com/wp-content/uploads/2025/11/PMC-2025-Logo-Full-Color-Faith_transparent-bg-copy-300x95-2.png
END:VEVENT
BEGIN:VEVENT
DTSTART;TZID=America/Kentucky/Louisville:20251111T170000
DTEND;TZID=America/Kentucky/Louisville:20251111T180000
DTSTAMP:20260423T135614
CREATED:20251103T131817Z
LAST-MODIFIED:20251103T131817Z
UID:70729-1762880400-1762884000@visitpikeville.com
SUMMARY:Adult Guitar Class 1
DESCRIPTION:Beginner guitar lessons for patrons ages 18+. This class meets weekly on Tuesdays at 5:00. Please bring your own instrument. Registration required. \n\n\n\n\n\n\n  \nCall the library at 606-437-6001 to check availability.
URL:https://visitpikeville.com/event/adult-guitar-class-4-2-2-2-2-2-2-2-2-2-2-2-2-2-3-3-2-2-2-2-2/
LOCATION:Pike County Public Library\, 126 Lee Avenue\, Pikeville\, KY\, 41501\, United States
CATEGORIES:Pike County Public Library
ATTACH;FMTTYPE=image/png:https://visitpikeville.com/wp-content/uploads/2025/05/theory.png
END:VEVENT
BEGIN:VEVENT
DTSTART;TZID=America/Kentucky/Louisville:20251111T170000
DTEND;TZID=America/Kentucky/Louisville:20251111T180000
DTSTAMP:20260423T135614
CREATED:20251103T134325Z
LAST-MODIFIED:20251103T134633Z
UID:70739-1762880400-1762884000@visitpikeville.com
SUMMARY:Introduction to Sign Language
DESCRIPTION:Gain some basic understanding of American Sign Language in this five-week course\, suitable for all ages. \n\n\n\n\n\n\n  \nRunning November 4-December 2\, classes will be held every Tuesday at 5:00 at the Pike County Public Library. No registration required. \nPlease note the Introduction to Sign Language Class is a free community event that does not result in participants earning any kind of diploma\, legal certificate\, or credential.
URL:https://visitpikeville.com/event/sign-language-class-4-2-2-2-2-2/
LOCATION:Pike County Public Library\, 126 Lee Avenue\, Pikeville\, KY\, 41501\, United States
CATEGORIES:Pike County Public Library
ATTACH;FMTTYPE=image/png:https://visitpikeville.com/wp-content/uploads/2025/11/sign.png
END:VEVENT
BEGIN:VEVENT
DTSTART;TZID=America/Kentucky/Louisville:20251111T173000
DTEND;TZID=America/Kentucky/Louisville:20251111T210000
DTSTAMP:20260423T135614
CREATED:20251031T173722Z
LAST-MODIFIED:20251031T173722Z
UID:70505-1762882200-1762894800@visitpikeville.com
SUMMARY:Marvel Champions with Nathan
DESCRIPTION:The Gaming Co @ 5:30pm
URL:https://visitpikeville.com/event/rpg-day-with-steven-2-3-2-3/
LOCATION:The Gaming Co.\, 265 Hambley Boulevard\,\, Pikeville\, KY\, 41501\, United States
CATEGORIES:Other
ATTACH;FMTTYPE=image/jpeg:https://visitpikeville.com/wp-content/uploads/2025/10/marvel-champions.jpg
END:VEVENT
BEGIN:VEVENT
DTSTART;TZID=America/Kentucky/Louisville:20251111T173000
DTEND;TZID=America/Kentucky/Louisville:20251111T210000
DTSTAMP:20260423T135614
CREATED:20251031T175326Z
LAST-MODIFIED:20251031T175326Z
UID:70519-1762882200-1762894800@visitpikeville.com
SUMMARY:Open War Gaming
DESCRIPTION:The Gaming Co @ 5:30pm
URL:https://visitpikeville.com/event/rpg-day-with-steven-2-3-3-2-2/
LOCATION:The Gaming Co.\, 265 Hambley Boulevard\,\, Pikeville\, KY\, 41501\, United States
CATEGORIES:Other
ATTACH;FMTTYPE=image/jpeg:https://visitpikeville.com/wp-content/uploads/2025/10/gaming-.jpg
END:VEVENT
BEGIN:VEVENT
DTSTART;TZID=America/Kentucky/Louisville:20251111T180000
DTEND;TZID=America/Kentucky/Louisville:20251111T200000
DTSTAMP:20260423T135614
CREATED:20251103T123018Z
LAST-MODIFIED:20251103T123018Z
UID:70678-1762884000-1762891200@visitpikeville.com
SUMMARY:Line Dancing
DESCRIPTION:No Sign-up Required
URL:https://visitpikeville.com/event/line-dancing-3-2/
LOCATION:Pike County Extension Office\, 148 Trivette Dr\, Pikeville\, KY\, 41501\, United States
CATEGORIES:Pike County Cooperative Extension Office
ATTACH;FMTTYPE=image/jpeg:https://visitpikeville.com/wp-content/uploads/2025/11/line.jpg
END:VEVENT
END:VCALENDAR