BEGIN:VCALENDAR
VERSION:2.0
PRODID:-//Visit Pikeville - ECPv6.15.20//NONSGML v1.0//EN
CALSCALE:GREGORIAN
METHOD:PUBLISH
X-ORIGINAL-URL:https://visitpikeville.com
X-WR-CALDESC:Events for Visit Pikeville
REFRESH-INTERVAL;VALUE=DURATION:PT1H
X-Robots-Tag:noindex
X-PUBLISHED-TTL:PT1H
BEGIN:VTIMEZONE
TZID:America/Kentucky/Louisville
BEGIN:DAYLIGHT
TZOFFSETFROM:-0500
TZOFFSETTO:-0400
TZNAME:EDT
DTSTART:20240310T070000
END:DAYLIGHT
BEGIN:STANDARD
TZOFFSETFROM:-0400
TZOFFSETTO:-0500
TZNAME:EST
DTSTART:20241103T060000
END:STANDARD
BEGIN:DAYLIGHT
TZOFFSETFROM:-0500
TZOFFSETTO:-0400
TZNAME:EDT
DTSTART:20250309T070000
END:DAYLIGHT
BEGIN:STANDARD
TZOFFSETFROM:-0400
TZOFFSETTO:-0500
TZNAME:EST
DTSTART:20251102T060000
END:STANDARD
BEGIN:DAYLIGHT
TZOFFSETFROM:-0500
TZOFFSETTO:-0400
TZNAME:EDT
DTSTART:20260308T070000
END:DAYLIGHT
BEGIN:STANDARD
TZOFFSETFROM:-0400
TZOFFSETTO:-0500
TZNAME:EST
DTSTART:20261101T060000
END:STANDARD
END:VTIMEZONE
BEGIN:VEVENT
DTSTART;VALUE=DATE:20251104
DTEND;VALUE=DATE:20251105
DTSTAMP:20260423T135630
CREATED:20251013T122428Z
LAST-MODIFIED:20251013T122428Z
UID:69673-1762214400-1762300799@visitpikeville.com
SUMMARY:Esports vs Lees-McRae College
DESCRIPTION:Super Smash Bros.
URL:https://visitpikeville.com/event/esports-vs-lees-mcrae-college/
LOCATION:UPIKE\, 147 Sycamore St\,\, Pikeville\, KY\, 41501\, United States
CATEGORIES:UPike
ATTACH;FMTTYPE=image/png:https://visitpikeville.com/wp-content/uploads/2025/10/Screenshot-2025-10-13-at-8.23.12-AM.png
END:VEVENT
BEGIN:VEVENT
DTSTART;TZID=America/Kentucky/Louisville:20251104T100000
DTEND;TZID=America/Kentucky/Louisville:20251104T140000
DTSTAMP:20260423T135630
CREATED:20251103T124440Z
LAST-MODIFIED:20251103T125611Z
UID:70689-1762250400-1762264800@visitpikeville.com
SUMMARY:Diabetes Awareness Roadshow
DESCRIPTION:
URL:https://visitpikeville.com/event/diabetes-awareness-roadshow/
LOCATION:Pike County Public Library\, 126 Lee Avenue\, Pikeville\, KY\, 41501\, United States
CATEGORIES:Pike County Health Department
ATTACH;FMTTYPE=image/jpeg:https://visitpikeville.com/wp-content/uploads/2025/11/diabetes.jpg
END:VEVENT
BEGIN:VEVENT
DTSTART;TZID=America/Kentucky/Louisville:20251104T130000
DTEND;TZID=America/Kentucky/Louisville:20251104T150000
DTSTAMP:20260423T135630
CREATED:20251103T124926Z
LAST-MODIFIED:20251103T124926Z
UID:70700-1762261200-1762268400@visitpikeville.com
SUMMARY:Child Passenger Safety Event
DESCRIPTION:
URL:https://visitpikeville.com/event/child-passenger-safety-event/
LOCATION:Pike County Health Department\, 119 River Drive\,\, Pikeville\, KY\, 41501\, United States
CATEGORIES:Pike County Health Department
ATTACH;FMTTYPE=image/jpeg:https://visitpikeville.com/wp-content/uploads/2025/11/health-dpt.jpg
END:VEVENT
BEGIN:VEVENT
DTSTART;TZID=America/Kentucky/Louisville:20251104T170000
DTEND;TZID=America/Kentucky/Louisville:20251104T180000
DTSTAMP:20260423T135630
CREATED:20251103T131717Z
LAST-MODIFIED:20251103T131717Z
UID:70727-1762275600-1762279200@visitpikeville.com
SUMMARY:Adult Guitar Class 1
DESCRIPTION:Beginner guitar lessons for patrons ages 18+. This class meets weekly on Tuesdays at 5:00. Please bring your own instrument. Registration required. \n\n\n\n\n\n\n  \nCall the library at 606-437-6001 to check availability.
URL:https://visitpikeville.com/event/adult-guitar-class-4-2-2-2-2-2-2-2-2-2-2-2-2-2-3-3-2-2-2-2/
LOCATION:Pike County Public Library\, 126 Lee Avenue\, Pikeville\, KY\, 41501\, United States
CATEGORIES:Pike County Public Library
ATTACH;FMTTYPE=image/png:https://visitpikeville.com/wp-content/uploads/2025/05/theory.png
END:VEVENT
BEGIN:VEVENT
DTSTART;TZID=America/Kentucky/Louisville:20251104T170000
DTEND;TZID=America/Kentucky/Louisville:20251104T180000
DTSTAMP:20260423T135630
CREATED:20251103T133043Z
LAST-MODIFIED:20251103T133043Z
UID:70735-1762275600-1762279200@visitpikeville.com
SUMMARY:Introduction to Sign Language
DESCRIPTION:Gain some basic understanding of American Sign Language in this five-week course\, suitable for all ages. \n\n\n\n\n\n\n  \nRunning November 4-December 2\, classes will be held every Tuesday at 5:00 at the Pike County Public Library. No registration required. \nPlease note the Introduction to Sign Language Class is a free community event that does not result in participants earning any kind of diploma\, legal certificate\, or credential.
URL:https://visitpikeville.com/event/sign-language-class-4-2-2-2-2/
LOCATION:Pike County Public Library\, 126 Lee Avenue\, Pikeville\, KY\, 41501\, United States
CATEGORIES:Pike County Public Library
ATTACH;FMTTYPE=image/png:https://visitpikeville.com/wp-content/uploads/2025/11/sign.png
END:VEVENT
BEGIN:VEVENT
DTSTART;TZID=America/Kentucky/Louisville:20251104T173000
DTEND;TZID=America/Kentucky/Louisville:20251104T210000
DTSTAMP:20260423T135630
CREATED:20251031T172531Z
LAST-MODIFIED:20251031T172531Z
UID:70497-1762277400-1762290000@visitpikeville.com
SUMMARY:Open War Gaming
DESCRIPTION:The Gaming Co @ 5:30pm
URL:https://visitpikeville.com/event/rpg-day-with-steven-2-3/
LOCATION:The Gaming Co.\, 265 Hambley Boulevard\,\, Pikeville\, KY\, 41501\, United States
CATEGORIES:Other
ATTACH;FMTTYPE=image/jpeg:https://visitpikeville.com/wp-content/uploads/2025/10/gaming-.jpg
END:VEVENT
END:VCALENDAR