BEGIN:VCALENDAR
VERSION:2.0
PRODID:-//Visit Pikeville - ECPv6.15.20//NONSGML v1.0//EN
CALSCALE:GREGORIAN
METHOD:PUBLISH
X-ORIGINAL-URL:https://visitpikeville.com
X-WR-CALDESC:Events for Visit Pikeville
REFRESH-INTERVAL;VALUE=DURATION:PT1H
X-Robots-Tag:noindex
X-PUBLISHED-TTL:PT1H
BEGIN:VTIMEZONE
TZID:America/Kentucky/Louisville
BEGIN:DAYLIGHT
TZOFFSETFROM:-0500
TZOFFSETTO:-0400
TZNAME:EDT
DTSTART:20240310T070000
END:DAYLIGHT
BEGIN:STANDARD
TZOFFSETFROM:-0400
TZOFFSETTO:-0500
TZNAME:EST
DTSTART:20241103T060000
END:STANDARD
BEGIN:DAYLIGHT
TZOFFSETFROM:-0500
TZOFFSETTO:-0400
TZNAME:EDT
DTSTART:20250309T070000
END:DAYLIGHT
BEGIN:STANDARD
TZOFFSETFROM:-0400
TZOFFSETTO:-0500
TZNAME:EST
DTSTART:20251102T060000
END:STANDARD
BEGIN:DAYLIGHT
TZOFFSETFROM:-0500
TZOFFSETTO:-0400
TZNAME:EDT
DTSTART:20260308T070000
END:DAYLIGHT
BEGIN:STANDARD
TZOFFSETFROM:-0400
TZOFFSETTO:-0500
TZNAME:EST
DTSTART:20261101T060000
END:STANDARD
END:VTIMEZONE
BEGIN:VEVENT
DTSTART;TZID=America/Kentucky/Louisville:20251101T090000
DTEND;TZID=America/Kentucky/Louisville:20251101T130000
DTSTAMP:20260423T123423
CREATED:20251006T125517Z
LAST-MODIFIED:20251006T125517Z
UID:69312-1761987600-1762002000@visitpikeville.com
SUMMARY:Pikeville Farmers Market
DESCRIPTION:Farmers Market season is starting to wind down! Make sure you come check it out before it’s too late 
URL:https://visitpikeville.com/event/pikeville-farmers-market-7-2-2-2-2-2-2-2-2/
LOCATION:Pikeville Farmer’s Market\, 130 Adams Lane\, Pikeville\, Ky
CATEGORIES:Pikeville Farmers Market
ATTACH;FMTTYPE=image/jpeg:https://visitpikeville.com/wp-content/uploads/2025/10/farmers-market.jpg
END:VEVENT
BEGIN:VEVENT
DTSTART;TZID=America/Kentucky/Louisville:20251101T110000
DTEND;TZID=America/Kentucky/Louisville:20251101T130000
DTSTAMP:20260423T123423
CREATED:20250609T130253Z
LAST-MODIFIED:20250609T130253Z
UID:65044-1761994800-1762002000@visitpikeville.com
SUMMARY:Volleyball vs Bryan College
DESCRIPTION:Game Day!
URL:https://visitpikeville.com/event/volleyball-vs-bryan-college-3/
LOCATION:UPIKE GYM\, Hibbard St\,\, Pikeville\, KY\, 41501\, United States
CATEGORIES:UPike
ATTACH;FMTTYPE=image/png:https://visitpikeville.com/wp-content/uploads/2025/06/Screenshot-2025-06-09-at-9.01.54 AM.png
END:VEVENT
BEGIN:VEVENT
DTSTART;TZID=America/Kentucky/Louisville:20251101T130000
DTEND;TZID=America/Kentucky/Louisville:20251101T160000
DTSTAMP:20260423T123423
CREATED:20251027T124458Z
LAST-MODIFIED:20251027T124458Z
UID:70355-1762002000-1762012800@visitpikeville.com
SUMMARY:Family Paint Class
DESCRIPTION: Attention Pikeville\, Kentucky & Surrounding Areas! Bring the whole family and make memories that last a lifetime! Join us Friday\, November 1st at 1:00 PM for a Family Paint Class! Fun for all ages – absolutely no experience needed! 11×14 canvas – only $20Come relax\, paint\, laugh\, and create something special together! Seasonal designs available – perfect for this time of year! Private message to reserve your seats – spots are limited!
URL:https://visitpikeville.com/event/family-paint-class-7/
LOCATION:2 Broke Art Teachers\, 4505 Weddington Square\,\, Pikeville\, KY\, 41501\, United States
CATEGORIES:Other
ATTACH;FMTTYPE=image/jpeg:https://visitpikeville.com/wp-content/uploads/2025/10/family-paint-class.jpg
END:VEVENT
BEGIN:VEVENT
DTSTART;TZID=America/Kentucky/Louisville:20251101T130000
DTEND;TZID=America/Kentucky/Louisville:20251101T170000
DTSTAMP:20260423T123423
CREATED:20251031T171417Z
LAST-MODIFIED:20251031T171417Z
UID:70488-1762002000-1762016400@visitpikeville.com
SUMMARY:RPG Day with Steven
DESCRIPTION:@The Gaming Co
URL:https://visitpikeville.com/event/rpg-day-with-steven/
LOCATION:The Gaming Co.\, 265 Hambley Boulevard\,\, Pikeville\, KY\, 41501\, United States
CATEGORIES:Other
ATTACH;FMTTYPE=image/jpeg:https://visitpikeville.com/wp-content/uploads/2025/10/gaming-.jpg
END:VEVENT
BEGIN:VEVENT
DTSTART;TZID=America/Kentucky/Louisville:20251101T150000
DTEND;TZID=America/Kentucky/Louisville:20251101T180000
DTSTAMP:20260423T123423
CREATED:20250519T130908Z
LAST-MODIFIED:20250519T130908Z
UID:64639-1762009200-1762020000@visitpikeville.com
SUMMARY:Football vs Union Commonwealth University (Ky.)
DESCRIPTION:Game Day!!
URL:https://visitpikeville.com/event/football-vs-union-commonwealth-university-ky/
LOCATION:Hambley Athletic Complex\, 120 Championship Dr\,\, Pikeville\, KY\, 41501\, United States
CATEGORIES:UPike
ATTACH;FMTTYPE=image/png:https://visitpikeville.com/wp-content/uploads/2025/05/Screenshot-2025-05-19-at-9.08.09 AM.png
END:VEVENT
BEGIN:VEVENT
DTSTART;TZID=America/Kentucky/Louisville:20251101T170000
DTEND;TZID=America/Kentucky/Louisville:20251101T190000
DTSTAMP:20260423T123423
CREATED:20251027T124620Z
LAST-MODIFIED:20251027T124620Z
UID:70358-1762016400-1762023600@visitpikeville.com
SUMMARY:Winter Truck Painting class
DESCRIPTION:Attention Pikeville & surrounding areas! \nHop in for our Winter Truck Painting class—perfect for kicking off cozy season! We’ll provide step-by-step instruction and guide you through every brushstroke.\n\n\n Saturday\, Nov. 1 @ 5:00 PM\n 16×20 canvas — $25\n Please\, no children under 10\n\n\nSeats are limited—private message to reserve your spot!\nNo experience needed; all supplies included.
URL:https://visitpikeville.com/event/winter-truck-painting-class/
LOCATION:2 Broke Art Teachers\, 4505 Weddington Square\,\, Pikeville\, KY\, 41501\, United States
CATEGORIES:Other
ATTACH;FMTTYPE=image/jpeg:https://visitpikeville.com/wp-content/uploads/2025/10/winter-truck.jpg
END:VEVENT
BEGIN:VEVENT
DTSTART;TZID=America/Kentucky/Louisville:20251101T180000
DTEND;TZID=America/Kentucky/Louisville:20251101T183000
DTSTAMP:20260423T123423
CREATED:20251023T111208Z
LAST-MODIFIED:20251023T111208Z
UID:70187-1762020000-1762021800@visitpikeville.com
SUMMARY:Walking Cemetery Tour
DESCRIPTION:Free admission prior registration required
URL:https://visitpikeville.com/event/walking-cemetery-tour/
LOCATION:Pikeville City Cemetery\, 235 Sycamore St\,\, Pikeville\, KY\, 41501\, United States
CATEGORIES:UPike
ATTACH;FMTTYPE=image/png:https://visitpikeville.com/wp-content/uploads/2025/10/Slide1-1.png
END:VEVENT
BEGIN:VEVENT
DTSTART;TZID=America/Kentucky/Louisville:20251101T180000
DTEND;TZID=America/Kentucky/Louisville:20251101T210000
DTSTAMP:20260423T123423
CREATED:20250818T144939Z
LAST-MODIFIED:20250818T144939Z
UID:67247-1762020000-1762030800@visitpikeville.com
SUMMARY:Judi's Place for Kids 2025 Storybook Gala
DESCRIPTION:Scan the QR code and buy gala tickets today! We cannot wait to see everyone at our Storybook Gala this year!
URL:https://visitpikeville.com/event/judis-place-for-kids-2025-storybook-gala/
LOCATION:Health Professions Education Building\, 810 Hambley Blvd.\, Pikeville\, KY\, 41501\, United States
CATEGORIES:Other
ATTACH;FMTTYPE=image/jpeg:https://visitpikeville.com/wp-content/uploads/2025/08/gala.jpg
END:VEVENT
BEGIN:VEVENT
DTSTART;TZID=America/Kentucky/Louisville:20251101T183000
DTEND;TZID=America/Kentucky/Louisville:20251101T190000
DTSTAMP:20260423T123423
CREATED:20251023T111259Z
LAST-MODIFIED:20251023T111259Z
UID:70191-1762021800-1762023600@visitpikeville.com
SUMMARY:Walking Cemetery Tour
DESCRIPTION:Free admission prior registration required
URL:https://visitpikeville.com/event/walking-cemetery-tour-2/
LOCATION:Pikeville City Cemetery\, 235 Sycamore St\,\, Pikeville\, KY\, 41501\, United States
CATEGORIES:UPike
ATTACH;FMTTYPE=image/png:https://visitpikeville.com/wp-content/uploads/2025/10/Slide1-1.png
END:VEVENT
BEGIN:VEVENT
DTSTART;TZID=America/Kentucky/Louisville:20251101T193000
DTEND;TZID=America/Kentucky/Louisville:20251101T213000
DTSTAMP:20260423T123423
CREATED:20250922T124812Z
LAST-MODIFIED:20250922T124902Z
UID:68727-1762025400-1762032600@visitpikeville.com
SUMMARY:DRACULA
DESCRIPTION:Artists Collaborative Theatre presents BRAM STOKER’S DRACULA. Co-Directed by Jason Justice & Treyton Blackburn. Tickets: $12.00. Oct. 17 – Nov. 2\nArtists Collaborative Theatre presents BRAM STOKER’S DRACULA adapted for the stage by Treyton Blackburn. Co-Directed by Jason Justice & Treyton Blackburn. Tickets: $12.00 Concessions and production t-shirts will be available for purchase. Synopsis: Jonathan Harker\, a young solicitor under the employ of the newly promoted Mr. Renfield\, must travel from London to Transylvania to finalize an estate sale to the mysterious Count Dracula. At the same time\, his fiancée Mina Murray cares for the eligible Lucy Westenra as she is courted by both three suitors and a mysterious sleepwalking illness. As Jonathan goes missing and Lucy’s state rapidly declines\, Mina suspects a sinister intent links these two woes. Based on the original novel by Bram Stoker\, this new adaptation by local playwright Treyton Blackburn highlights the humanity\, tragedy\, and horror of the world’s most famous vampire story. Sponsored by Community Trust Bank.
URL:https://visitpikeville.com/event/dracula-2-2-2-2-2-2-2/
LOCATION:Pikeville High School\, 120 Championship Dr\,\, Pikeville\, KY\, 41501\, United States
CATEGORIES:Other
ATTACH;FMTTYPE=image/jpeg:https://visitpikeville.com/wp-content/uploads/2025/09/dracula.jpg
END:VEVENT
BEGIN:VEVENT
DTSTART;TZID=America/Kentucky/Louisville:20251101T193000
DTEND;TZID=America/Kentucky/Louisville:20251101T213000
DTSTAMP:20260423T123423
CREATED:20250929T123740Z
LAST-MODIFIED:20250929T123740Z
UID:68987-1762025400-1762032600@visitpikeville.com
SUMMARY:Stumbling Stones: The John Rosenberg Story
DESCRIPTION:This play follows the extraordinary journey of John Rosenberg—from his childhood as a Jewish boy in Nazi Germany to his life’s work as a civil rights attorney and\, ultimately\, his decision to make Prestonsburg his home. For over fifty years\, John and his wife Jean have stood shoulder to shoulder with the people of Appalachia\, founding and leading AppalReD Legal Aid and fighting for miners\, families\, and communities across our region. \nAfter the show\, there will be a live talkback featuring John and Jean themselves. A portion of the proceeds from each ticket will go towards funding AppalRed Legal Aid. More information on this wonderful organization can be found by visiting https://www.ardfky.org
URL:https://visitpikeville.com/event/stumbling-stones-the-john-rosenberg-story/
LOCATION:Appalachian Center for the Arts\, 218 2nd St\,\, Pikeville\, Ky\, 41501
CATEGORIES:The Appalachian Center for the Arts
ATTACH;FMTTYPE=image/jpeg:https://visitpikeville.com/wp-content/uploads/2025/09/stumbling.jpg
END:VEVENT
BEGIN:VEVENT
DTSTART;TZID=America/Kentucky/Louisville:20251101T193000
DTEND;TZID=America/Kentucky/Louisville:20251101T220000
DTSTAMP:20260423T123423
CREATED:20251027T124020Z
LAST-MODIFIED:20251027T124020Z
UID:70350-1762025400-1762034400@visitpikeville.com
SUMMARY:Brothers Wright Halloween Party
DESCRIPTION:Keep the Halloween spirit going at Brothers Wright Distilling Co. \nJoin us on Saturday\, November 1st at 7:30 PM for a Halloween celebration with live music from The Hall Brothers Band.\n\n\n Costumes are welcome\n Live music •  Drinks • Good food and good company\n Upstairs at Dueling Barrels — use the blue door entrance at 244 Second Street\, Pikeville\n\n\nCome dressed to impress\, unwind\, and enjoy a night of music and post-Halloween fun in downtown Pikeville.\n\n\nPlease drink responsibly.
URL:https://visitpikeville.com/event/brothers-wright-halloween-party/
LOCATION:Brothers Wright Distilling Co.\, 2nd Street\, Pikeville\, KY\, 41501\, United States
CATEGORIES:Other
ATTACH;FMTTYPE=image/jpeg:https://visitpikeville.com/wp-content/uploads/2025/10/halloween-party-1.jpg
END:VEVENT
END:VCALENDAR