BEGIN:VCALENDAR
VERSION:2.0
PRODID:-//Visit Pikeville - ECPv6.15.20//NONSGML v1.0//EN
CALSCALE:GREGORIAN
METHOD:PUBLISH
X-WR-CALNAME:Visit Pikeville
X-ORIGINAL-URL:https://visitpikeville.com
X-WR-CALDESC:Events for Visit Pikeville
REFRESH-INTERVAL;VALUE=DURATION:PT1H
X-Robots-Tag:noindex
X-PUBLISHED-TTL:PT1H
BEGIN:VTIMEZONE
TZID:America/Kentucky/Louisville
BEGIN:DAYLIGHT
TZOFFSETFROM:-0500
TZOFFSETTO:-0400
TZNAME:EDT
DTSTART:20240310T070000
END:DAYLIGHT
BEGIN:STANDARD
TZOFFSETFROM:-0400
TZOFFSETTO:-0500
TZNAME:EST
DTSTART:20241103T060000
END:STANDARD
BEGIN:DAYLIGHT
TZOFFSETFROM:-0500
TZOFFSETTO:-0400
TZNAME:EDT
DTSTART:20250309T070000
END:DAYLIGHT
BEGIN:STANDARD
TZOFFSETFROM:-0400
TZOFFSETTO:-0500
TZNAME:EST
DTSTART:20251102T060000
END:STANDARD
BEGIN:DAYLIGHT
TZOFFSETFROM:-0500
TZOFFSETTO:-0400
TZNAME:EDT
DTSTART:20260308T070000
END:DAYLIGHT
BEGIN:STANDARD
TZOFFSETFROM:-0400
TZOFFSETTO:-0500
TZNAME:EST
DTSTART:20261101T060000
END:STANDARD
END:VTIMEZONE
BEGIN:VEVENT
DTSTART;VALUE=DATE:20251027
DTEND;VALUE=DATE:20251028
DTSTAMP:20260423T124813
CREATED:20251013T121550Z
LAST-MODIFIED:20251013T121550Z
UID:69664-1761523200-1761609599@visitpikeville.com
SUMMARY:Esports vs Boston University
DESCRIPTION:Valorant
URL:https://visitpikeville.com/event/esports-vs-boston-university/
LOCATION:UPIKE\, 147 Sycamore St\,\, Pikeville\, KY\, 41501\, United States
CATEGORIES:UPike
ATTACH;FMTTYPE=image/png:https://visitpikeville.com/wp-content/uploads/2025/10/Screenshot-2025-10-13-at-8.13.53-AM.png
END:VEVENT
BEGIN:VEVENT
DTSTART;TZID=America/Kentucky/Louisville:20251027T140000
DTEND;TZID=America/Kentucky/Louisville:20251027T150000
DTSTAMP:20260423T124813
CREATED:20251013T134011Z
LAST-MODIFIED:20251013T134011Z
UID:69703-1761573600-1761577200@visitpikeville.com
SUMMARY:Music Theory for Homeschoolers
DESCRIPTION:Understanding how music works will give you the tools you need to write riffs\, songs\, and solos\, and learn to improvise in a friendly hands-on environment. \n\n\n\n\n\n\n  \nClass is held every Monday at the Pike County Public Library (Lee Ave) at 2:00. \nNo previous knowledge of music theory or reading music is necessary\, but this class is for students who already know how to play a little bit.
URL:https://visitpikeville.com/event/basic-computer-skills-5-2-2-2-2-2-2-2-2-2-2-2-2-2-2/
LOCATION:Pike County Public Library\, 126 Lee Avenue\, Pikeville\, KY\, 41501\, United States
CATEGORIES:Pike County Public Library
ATTACH;FMTTYPE=image/png:https://visitpikeville.com/wp-content/uploads/2025/07/GuitarEmblem.png
END:VEVENT
BEGIN:VEVENT
DTSTART;TZID=America/Kentucky/Louisville:20251027T163000
DTEND;TZID=America/Kentucky/Louisville:20251027T173000
DTSTAMP:20260423T124813
CREATED:20251013T144021Z
LAST-MODIFIED:20251013T144021Z
UID:69784-1761582600-1761586200@visitpikeville.com
SUMMARY:Meditation Monday
DESCRIPTION:Start your week with calm and clarity at the Pike County Public Library. \n\n\n\n\n\n\n  \nOn alternating Mondays in October\, join us for a special meditation program led by Tonya Jones. Each session begins with a short discussion on the basics of meditation\, followed by a relaxing guided practice. \nThis series is designed for adults of all experience levels—a wonderful way to reduce stress\, find focus\, and ease into a new week. \nParticipants are encouraged (though not required) to bring a pillow or mat to sit on. Chairs will also be provided.
URL:https://visitpikeville.com/event/meditation-monday-2-2/
LOCATION:Pike County Public Library\, 126 Lee Avenue\, Pikeville\, KY\, 41501\, United States
CATEGORIES:Pike County Public Library
ATTACH;FMTTYPE=image/png:https://visitpikeville.com/wp-content/uploads/2025/10/Meditation_Mondays_Oct.png
END:VEVENT
BEGIN:VEVENT
DTSTART;TZID=America/Kentucky/Louisville:20251027T170000
DTEND;TZID=America/Kentucky/Louisville:20251027T180000
DTSTAMP:20260423T124813
CREATED:20250929T134058Z
LAST-MODIFIED:20250929T134058Z
UID:69007-1761584400-1761588000@visitpikeville.com
SUMMARY:4-H Visual Arts Club
DESCRIPTION:This club is perfect for any young artist who loves creating and wants to sharpen their skills. Whether you’re a seasoned painter or just starting out\, we welcome all levels of experience. Come join us and let your creativity shine! To register\, call the Pike County Extension Office. We can’t wait to see the amazing talent our young artists will bring!
URL:https://visitpikeville.com/event/4-h-visual-arts-club-2/
LOCATION:Pike County Extension Office\, 148 Trivette Dr\, Pikeville\, KY\, 41501\, United States
CATEGORIES:Pike County Cooperative Extension Office,Pike County Extension Community Arts
ATTACH;FMTTYPE=image/jpeg:https://visitpikeville.com/wp-content/uploads/2025/09/4h.jpg
END:VEVENT
BEGIN:VEVENT
DTSTART;TZID=America/Kentucky/Louisville:20251027T170000
DTEND;TZID=America/Kentucky/Louisville:20251027T180000
DTSTAMP:20260423T124813
CREATED:20251013T144300Z
LAST-MODIFIED:20251013T144300Z
UID:69787-1761584400-1761588000@visitpikeville.com
SUMMARY:Alibis at The Book Club
DESCRIPTION:Alibis at The Book Club meets every other Monday at the Pike County Public Library (Lee Avenue). Join us for mystery\, thrills\, and lively discussion!
URL:https://visitpikeville.com/event/alibis-at-the-book-club/
LOCATION:Pike County Public Library\, 126 Lee Avenue\, Pikeville\, KY\, 41501\, United States
CATEGORIES:Pike County Public Library
ATTACH;FMTTYPE=image/png:https://visitpikeville.com/wp-content/uploads/2025/10/Alibis_at_The_Book_Club.png
END:VEVENT
BEGIN:VEVENT
DTSTART;TZID=America/Kentucky/Louisville:20251027T180000
DTEND;TZID=America/Kentucky/Louisville:20251027T190000
DTSTAMP:20260423T124813
CREATED:20251006T133519Z
LAST-MODIFIED:20251006T133519Z
UID:69361-1761588000-1761591600@visitpikeville.com
SUMMARY:City Commission Meeting
DESCRIPTION:6pm @ City Hall
URL:https://visitpikeville.com/event/city-commission-meeting-2-2-2-2-2-2-2-2-2-2-2-2-2-2-2-2-2-2-2-2-2-2-2-2-2-2-2-2-2-2-2-2-2-2-2-2-2-2-2-2-2-2/
LOCATION:Pikeville City Hall\, 243 Main St #1786\,\, Pikeville\, KY\, 41501\, United States
CATEGORIES:City of Pikeville
ATTACH;FMTTYPE=image/png:https://visitpikeville.com/wp-content/uploads/2023/09/image001.png
END:VEVENT
END:VCALENDAR