BEGIN:VCALENDAR
VERSION:2.0
PRODID:-//Visit Pikeville - ECPv6.15.20//NONSGML v1.0//EN
CALSCALE:GREGORIAN
METHOD:PUBLISH
X-WR-CALNAME:Visit Pikeville
X-ORIGINAL-URL:https://visitpikeville.com
X-WR-CALDESC:Events for Visit Pikeville
REFRESH-INTERVAL;VALUE=DURATION:PT1H
X-Robots-Tag:noindex
X-PUBLISHED-TTL:PT1H
BEGIN:VTIMEZONE
TZID:America/Kentucky/Louisville
BEGIN:DAYLIGHT
TZOFFSETFROM:-0500
TZOFFSETTO:-0400
TZNAME:EDT
DTSTART:20240310T070000
END:DAYLIGHT
BEGIN:STANDARD
TZOFFSETFROM:-0400
TZOFFSETTO:-0500
TZNAME:EST
DTSTART:20241103T060000
END:STANDARD
BEGIN:DAYLIGHT
TZOFFSETFROM:-0500
TZOFFSETTO:-0400
TZNAME:EDT
DTSTART:20250309T070000
END:DAYLIGHT
BEGIN:STANDARD
TZOFFSETFROM:-0400
TZOFFSETTO:-0500
TZNAME:EST
DTSTART:20251102T060000
END:STANDARD
BEGIN:DAYLIGHT
TZOFFSETFROM:-0500
TZOFFSETTO:-0400
TZNAME:EDT
DTSTART:20260308T070000
END:DAYLIGHT
BEGIN:STANDARD
TZOFFSETFROM:-0400
TZOFFSETTO:-0500
TZNAME:EST
DTSTART:20261101T060000
END:STANDARD
END:VTIMEZONE
BEGIN:VEVENT
DTSTART;VALUE=DATE:20251025
DTEND;VALUE=DATE:20251026
DTSTAMP:20260423T124741
CREATED:20251006T135021Z
LAST-MODIFIED:20251006T135021Z
UID:69375-1761350400-1761436799@visitpikeville.com
SUMMARY:Costume Party
DESCRIPTION:@ The Mine 606
URL:https://visitpikeville.com/event/trivia-night-9-2-2-2-2-2-2-2-2-2-2-3/
LOCATION:The Mine 606\, 121 Main St\, Pikeville\, KY\, 41501\, United States
CATEGORIES:Other
ATTACH;FMTTYPE=image/jpeg:https://visitpikeville.com/wp-content/uploads/2025/06/mine.jpg
END:VEVENT
BEGIN:VEVENT
DTSTART;VALUE=DATE:20251025
DTEND;VALUE=DATE:20251026
DTSTAMP:20260423T124741
CREATED:20251013T121432Z
LAST-MODIFIED:20251013T121432Z
UID:69661-1761350400-1761436799@visitpikeville.com
SUMMARY:Men's Swimming vs West Virginia University Institute of Technology
DESCRIPTION:
URL:https://visitpikeville.com/event/mens-swimming-vs-west-virginia-university-institute-of-technology/
LOCATION:Pikeville YMCA\, 424 Bob Amos Dr\,\, Pikeville\, Ky\, 41501
CATEGORIES:UPike
ATTACH;FMTTYPE=image/png:https://visitpikeville.com/wp-content/uploads/2025/10/Screenshot-2025-10-13-at-8.08.57-AM.png
END:VEVENT
BEGIN:VEVENT
DTSTART;TZID=America/Kentucky/Louisville:20251025T090000
DTEND;TZID=America/Kentucky/Louisville:20251025T130000
DTSTAMP:20260423T124741
CREATED:20251006T125202Z
LAST-MODIFIED:20251006T125202Z
UID:69310-1761382800-1761397200@visitpikeville.com
SUMMARY:Pikeville Farmers Market
DESCRIPTION:Farmers Market season is starting to wind down! Make sure you come check it out before it’s too late 
URL:https://visitpikeville.com/event/pikeville-farmers-market-7-2-2-2-2-2-2-2/
LOCATION:Pikeville Farmer’s Market\, 130 Adams Lane\, Pikeville\, Ky
CATEGORIES:Pikeville Farmers Market
ATTACH;FMTTYPE=image/jpeg:https://visitpikeville.com/wp-content/uploads/2025/10/farmers-market.jpg
END:VEVENT
BEGIN:VEVENT
DTSTART;TZID=America/Kentucky/Louisville:20251025T110000
DTEND;TZID=America/Kentucky/Louisville:20251025T120000
DTSTAMP:20260423T124741
CREATED:20251013T142607Z
LAST-MODIFIED:20251013T142607Z
UID:69765-1761390000-1761393600@visitpikeville.com
SUMMARY:Story Time
DESCRIPTION:Story Time is for children ages 5 and under and features books\, action/movement\, songs\, and a craft. Story Time is held Thursdays at 11:00 and 2:00 and Saturdays at 11:00. \n\n\n\n\n\n\n  \nBesides being fun\, Story Time also helps develop early literacy and school readiness skills through reading\, singing\, listening\, playing\, and social interaction. This program lasts approximately 30 minutes\, and caregivers and children are encouraged to linger in the library afterwards to further socialize and choose books to take home. \n  \nStory Time begins the first week of September and ends the first week of May.
URL:https://visitpikeville.com/event/story-time-2-2-2-2-2-2-2-2-2-2-2-2-2-2-2-2-2-2-2-2-2-2-2-2-2-2-2-2-2-2-2-2-2-2-2-2-2-2-2-2-2-2-2-2-2-2-2-2-2-2-2-2-2-2-2-3-2-2-2-2-2-2-2-2-2-2-2-2-2-2-2-2-2-2-2-2-2-2-2-2-2-2-2-2-2-2-2-2-2-2-2-2-2-3-4/
LOCATION:Pike County Public Library\, 126 Lee Avenue\, Pikeville\, KY\, 41501\, United States
CATEGORIES:Pike County Public Library
ATTACH;FMTTYPE=image/png:https://visitpikeville.com/wp-content/uploads/2025/10/Story_Time_Schedule_25.png
END:VEVENT
BEGIN:VEVENT
DTSTART;TZID=America/Kentucky/Louisville:20251025T110000
DTEND;TZID=America/Kentucky/Louisville:20251025T130000
DTSTAMP:20260423T124741
CREATED:20251013T143800Z
LAST-MODIFIED:20251013T143800Z
UID:69782-1761390000-1761397200@visitpikeville.com
SUMMARY:Quilters Group
DESCRIPTION:Pike County Public Library Quilters Group is a quilting social that also teaches quilting and needlework. Participants exchange patterns\, quilting ideas\, and sewing projects. \n\n\n\n\n\n\n  \nBoth beginners and experienced quilters are welcome! Quilters Group meets alternating Saturdays at noon at the Pike County Public (Lee Avenue) Library. \nNo registration required.
URL:https://visitpikeville.com/event/quilters-group-5-2-2-2-2-2-2-2-2-2/
LOCATION:Pike County Public Library\, 126 Lee Avenue\, Pikeville\, KY\, 41501\, United States
CATEGORIES:Pike County Public Library
ATTACH;FMTTYPE=image/png:https://visitpikeville.com/wp-content/uploads/2025/05/Quilters_GroupEDIT.png
END:VEVENT
BEGIN:VEVENT
DTSTART;TZID=America/Kentucky/Louisville:20251025T130000
DTEND;TZID=America/Kentucky/Louisville:20251025T150000
DTSTAMP:20260423T124741
CREATED:20251020T145421Z
LAST-MODIFIED:20251020T145421Z
UID:70077-1761397200-1761404400@visitpikeville.com
SUMMARY:Family Paint Class
DESCRIPTION:Look who is making his debut to a smaller canvas … everyone’s favorite green guyfamily paint day Saturday October 25th @1:00 . Our selection is full of holiday favorites. Private message to book\, seats fill up fast.
URL:https://visitpikeville.com/event/family-paint-class-6/
LOCATION:2 Broke Art Teachers\, 4505 Weddington Square\,\, Pikeville\, KY\, 41501\, United States
CATEGORIES:Other
ATTACH;FMTTYPE=image/jpeg:https://visitpikeville.com/wp-content/uploads/2025/10/family-1.jpg
END:VEVENT
BEGIN:VEVENT
DTSTART;TZID=America/Kentucky/Louisville:20251025T150000
DTEND;TZID=America/Kentucky/Louisville:20251025T170000
DTSTAMP:20260423T124741
CREATED:20250609T124128Z
LAST-MODIFIED:20250609T124128Z
UID:65029-1761404400-1761411600@visitpikeville.com
SUMMARY:Women's Soccer vs Columbia International University
DESCRIPTION:Game Day!
URL:https://visitpikeville.com/event/womens-soccer-vs-columbia-international-university-2/
LOCATION:Bob Amos Park\, 424 Bob Amos Dr\, Pikeville\, Ky\, 41501
CATEGORIES:UPike
ATTACH;FMTTYPE=image/png:https://visitpikeville.com/wp-content/uploads/2025/06/Screenshot-2025-06-09-at-8.39.52 AM.png
END:VEVENT
BEGIN:VEVENT
DTSTART;TZID=America/Kentucky/Louisville:20251025T160000
DTEND;TZID=America/Kentucky/Louisville:20251025T180000
DTSTAMP:20260423T124741
CREATED:20251020T145750Z
LAST-MODIFIED:20251020T145750Z
UID:70084-1761408000-1761415200@visitpikeville.com
SUMMARY:Paint Night
DESCRIPTION:Pikeville\, Kentucky and surrounding areas ….2 nights 6 great paint choices. Friday Oct. 24th @ 5:30 and Saturday Oct. 25th @4:00. Come join us for a fun and festive paint night.$25 per canvas(16×20)Private message to reserve your seat.2 Broke Art Teachers#pikevilleky#pikecountyky#2brokeartteachers
URL:https://visitpikeville.com/event/paint-night-2-2/
LOCATION:2 Broke Art Teachers\, 4505 Weddington Square\,\, Pikeville\, KY\, 41501\, United States
CATEGORIES:Other
ATTACH;FMTTYPE=image/jpeg:https://visitpikeville.com/wp-content/uploads/2025/10/paint-night-2.jpg
END:VEVENT
BEGIN:VEVENT
DTSTART;TZID=America/Kentucky/Louisville:20251025T173000
DTEND;TZID=America/Kentucky/Louisville:20251025T193000
DTSTAMP:20260423T124741
CREATED:20250609T124305Z
LAST-MODIFIED:20250609T124305Z
UID:65032-1761413400-1761420600@visitpikeville.com
SUMMARY:Men's Soccer vs Columbia International University
DESCRIPTION:Game Day!
URL:https://visitpikeville.com/event/mens-soccer-vs-columbia-international-university-2/
LOCATION:Bob Amos Park\, 424 Bob Amos Dr\, Pikeville\, Ky\, 41501
CATEGORIES:UPike
ATTACH;FMTTYPE=image/png:https://visitpikeville.com/wp-content/uploads/2025/06/Screenshot-2025-06-09-at-8.42.01 AM.png
END:VEVENT
BEGIN:VEVENT
DTSTART;TZID=America/Kentucky/Louisville:20251025T180000
DTEND;TZID=America/Kentucky/Louisville:20251025T210000
DTSTAMP:20260423T124741
CREATED:20250929T140050Z
LAST-MODIFIED:20250929T140050Z
UID:69028-1761415200-1761426000@visitpikeville.com
SUMMARY:Nightmare on Main Street
DESCRIPTION:Calling all local businesses\, churches\, and community members!  We need YOUR help to bring the 15th Annual Nightmare on Main Street to life! The booths are the heartbeat of this incredible community event.\n*What can you do? Set up a booth to hand out candy\, showcase your organization\, and connect with thousands of local families. It’s a fantastic way to give back and have a blast.\n*Ready to make a difference? Sign up now: https://bit.ly/2025NightmareOnMain\n#VisitPikeville #NightmareOnMainStreet #CommunityPartners #PikevilleBusinesses #CommunityLove #SpookyFun
URL:https://visitpikeville.com/event/nightmare-on-main-street-2/
LOCATION:Main Street\, Main Street\, Pikeville\, KY\, 41501\, United States
CATEGORIES:City of Pikeville
ATTACH;FMTTYPE=image/jpeg:https://visitpikeville.com/wp-content/uploads/2025/09/nightmare.jpg
END:VEVENT
BEGIN:VEVENT
DTSTART;TZID=America/Kentucky/Louisville:20251025T193000
DTEND;TZID=America/Kentucky/Louisville:20251025T213000
DTSTAMP:20260423T124741
CREATED:20250922T124411Z
LAST-MODIFIED:20250922T124411Z
UID:68721-1761420600-1761427800@visitpikeville.com
SUMMARY:DRACULA
DESCRIPTION:Artists Collaborative Theatre presents BRAM STOKER’S DRACULA. Co-Directed by Jason Justice & Treyton Blackburn. Tickets: $12.00. Oct. 17 – Nov. 2\nArtists Collaborative Theatre presents BRAM STOKER’S DRACULA adapted for the stage by Treyton Blackburn. Co-Directed by Jason Justice & Treyton Blackburn. Tickets: $12.00 Concessions and production t-shirts will be available for purchase. Synopsis: Jonathan Harker\, a young solicitor under the employ of the newly promoted Mr. Renfield\, must travel from London to Transylvania to finalize an estate sale to the mysterious Count Dracula. At the same time\, his fiancée Mina Murray cares for the eligible Lucy Westenra as she is courted by both three suitors and a mysterious sleepwalking illness. As Jonathan goes missing and Lucy’s state rapidly declines\, Mina suspects a sinister intent links these two woes. Based on the original novel by Bram Stoker\, this new adaptation by local playwright Treyton Blackburn highlights the humanity\, tragedy\, and horror of the world’s most famous vampire story. Sponsored by Community Trust Bank.
URL:https://visitpikeville.com/event/dracula-2-2-2-2/
LOCATION:Pikeville High School\, 120 Championship Dr\,\, Pikeville\, KY\, 41501\, United States
CATEGORIES:Other
ATTACH;FMTTYPE=image/jpeg:https://visitpikeville.com/wp-content/uploads/2025/09/dracula.jpg
END:VEVENT
BEGIN:VEVENT
DTSTART;TZID=America/Kentucky/Louisville:20251025T193000
DTEND;TZID=America/Kentucky/Louisville:20251025T223000
DTSTAMP:20260423T124741
CREATED:20251006T132305Z
LAST-MODIFIED:20251006T132305Z
UID:69347-1761420600-1761431400@visitpikeville.com
SUMMARY:Live Music at Bank 253
DESCRIPTION:  \n7:30 – 10:30 pm
URL:https://visitpikeville.com/event/live-music-at-bank-253-3-2-2-2-2-2-2-2-2-2-2-2-2-2-2-2-2-2-2-2-2-2-2-2-2-2-2-2-2-2-2-2-2-2-3-2-2-2-2-2-2/
LOCATION:Bank 253\, 253 2nd St\,\, Pikeville\, KY\, 41501\, United States
CATEGORIES:Other
ATTACH;FMTTYPE=image/jpeg:https://visitpikeville.com/wp-content/uploads/2025/09/BANK-253.jpg
END:VEVENT
BEGIN:VEVENT
DTSTART;TZID=America/Kentucky/Louisville:20251025T200000
DTEND;TZID=America/Kentucky/Louisville:20251025T235900
DTSTAMP:20260423T124741
CREATED:20250915T130441Z
LAST-MODIFIED:20250915T130441Z
UID:68460-1761422400-1761436740@visitpikeville.com
SUMMARY:Fright Night on the Farm
DESCRIPTION:Who’s ready for a scare? \n\n\nFright Night on the Farm returns to Pikeville this October!  Gather your friends and brave the haunted hayride ($5) or step inside the terrifying haunted house ($15) if you dare.\n\n\n Open Dates:\n Opening Night – Friday\, October 10\n Friday\, October 17 & 24\n Saturday\, October 18 & 25\n\n\nOpen from dark till midnight!\n\n\n 36 Spring Branch\, Pikeville\, KY 41501\n Cash only\, please\n\n\nDon’t miss Pike County’s spookiest Halloween event—are you brave enough to last until the end?
URL:https://visitpikeville.com/event/fright-night-on-the-farm-2-2-2-2/
LOCATION:Spring Branch Events\, 36 Spring Branch\,\, Pikeville\, KY\, 41501\, United States
CATEGORIES:Other
ATTACH;FMTTYPE=image/webp:https://visitpikeville.com/wp-content/uploads/2025/09/fright-night-on-farm.webp
END:VEVENT
END:VCALENDAR