BEGIN:VCALENDAR
VERSION:2.0
PRODID:-//Visit Pikeville - ECPv6.15.20//NONSGML v1.0//EN
CALSCALE:GREGORIAN
METHOD:PUBLISH
X-ORIGINAL-URL:https://visitpikeville.com
X-WR-CALDESC:Events for Visit Pikeville
REFRESH-INTERVAL;VALUE=DURATION:PT1H
X-Robots-Tag:noindex
X-PUBLISHED-TTL:PT1H
BEGIN:VTIMEZONE
TZID:America/Kentucky/Louisville
BEGIN:DAYLIGHT
TZOFFSETFROM:-0500
TZOFFSETTO:-0400
TZNAME:EDT
DTSTART:20240310T070000
END:DAYLIGHT
BEGIN:STANDARD
TZOFFSETFROM:-0400
TZOFFSETTO:-0500
TZNAME:EST
DTSTART:20241103T060000
END:STANDARD
BEGIN:DAYLIGHT
TZOFFSETFROM:-0500
TZOFFSETTO:-0400
TZNAME:EDT
DTSTART:20250309T070000
END:DAYLIGHT
BEGIN:STANDARD
TZOFFSETFROM:-0400
TZOFFSETTO:-0500
TZNAME:EST
DTSTART:20251102T060000
END:STANDARD
BEGIN:DAYLIGHT
TZOFFSETFROM:-0500
TZOFFSETTO:-0400
TZNAME:EDT
DTSTART:20260308T070000
END:DAYLIGHT
BEGIN:STANDARD
TZOFFSETFROM:-0400
TZOFFSETTO:-0500
TZNAME:EST
DTSTART:20261101T060000
END:STANDARD
END:VTIMEZONE
BEGIN:VEVENT
DTSTART;VALUE=DATE:20251024
DTEND;VALUE=DATE:20251025
DTSTAMP:20260423T124920
CREATED:20251013T120706Z
LAST-MODIFIED:20251013T120706Z
UID:69658-1761264000-1761350399@visitpikeville.com
SUMMARY:Esports vs Hagerstown Community College
DESCRIPTION:Overwatch
URL:https://visitpikeville.com/event/esports-vs-hagerstown-community-college/
LOCATION:UPIKE\, 147 Sycamore St\,\, Pikeville\, KY\, 41501\, United States
CATEGORIES:UPike
ATTACH;FMTTYPE=image/png:https://visitpikeville.com/wp-content/uploads/2025/10/Screenshot-2025-10-13-at-8.04.31-AM.png
END:VEVENT
BEGIN:VEVENT
DTSTART;TZID=America/Kentucky/Louisville:20251024T160000
DTEND;TZID=America/Kentucky/Louisville:20251024T170000
DTSTAMP:20260423T124920
CREATED:20251013T143657Z
LAST-MODIFIED:20251013T143657Z
UID:69780-1761321600-1761325200@visitpikeville.com
SUMMARY:Chess Club: Beginner's Theory
DESCRIPTION:New to chess? Learn the basics of the game in a fun\, beginner-friendly setting! \n\n\n\n\n\n\nWe’ll cover piece movement\, rules\, simple tactics\, and opening strategies to help you build a strong foundation. No experience needed! \nMeets alternating Fridays at 4:00 at the Pike County Public Library (Lee Avenue).
URL:https://visitpikeville.com/event/chess-club-beginners-theory-2-2/
LOCATION:Pike County Public Library\, 126 Lee Avenue\, Pikeville\, KY\, 41501\, United States
CATEGORIES:Pike County Public Library
ATTACH;FMTTYPE=image/png:https://visitpikeville.com/wp-content/uploads/2025/09/Chess_ClubUPDATED.png
END:VEVENT
BEGIN:VEVENT
DTSTART;TZID=America/Kentucky/Louisville:20251024T170000
DTEND;TZID=America/Kentucky/Louisville:20251024T210000
DTSTAMP:20260423T124920
CREATED:20251013T145150Z
LAST-MODIFIED:20251013T145150Z
UID:69796-1761325200-1761339600@visitpikeville.com
SUMMARY:McCoy Motorsports Madness & Mayhem: Halloween Edition
DESCRIPTION: TRUNK-OR-TREAT (Bring Your Own SXS Edition!)\n Friday\, October 24th\, 2025 Trunk-or-Treat: 5PM – 9PM SXS/Off-Road Machine Setup: 4PM\nBring the whole family for a spooky fun night at McCoy Motorsports!Come check out awesome off-road machines all decked out in their Halloween best! \n Dress up\, decorate\, and show off your Halloween-themed ride! Gift Cards & Prizes for the best setups! Cornhole • Games • Outdoor Movie • Music • Food Trucks\nDon’t miss this family-friendly night of fun\, candy\, and community! 
URL:https://visitpikeville.com/event/mccoy-motorsports-madness-mayhem-halloween-edition/
LOCATION:McCoy Motorsports\, 107 Billips Dr.\, Pikeville\, KY\, 41501\, United States
CATEGORIES:Other
ATTACH;FMTTYPE=image/jpeg:https://visitpikeville.com/wp-content/uploads/2025/10/mccoy.jpg
END:VEVENT
BEGIN:VEVENT
DTSTART;TZID=America/Kentucky/Louisville:20251024T173000
DTEND;TZID=America/Kentucky/Louisville:20251024T193000
DTSTAMP:20260423T124920
CREATED:20251020T145646Z
LAST-MODIFIED:20251020T145655Z
UID:70080-1761327000-1761334200@visitpikeville.com
SUMMARY:Paint Night
DESCRIPTION:Pikeville\, Kentucky and surrounding areas ….2 nights 6 great paint choices. Friday Oct. 24th @ 5:30 and Saturday Oct. 25th @4:00. Come join us for a fun and festive paint night.$25 per canvas(16×20)Private message to reserve your seat.2 Broke Art Teachers#pikevilleky#pikecountyky#2brokeartteachers
URL:https://visitpikeville.com/event/paint-night-2/
LOCATION:2 Broke Art Teachers\, 4505 Weddington Square\,\, Pikeville\, KY\, 41501\, United States
CATEGORIES:Other
ATTACH;FMTTYPE=image/jpeg:https://visitpikeville.com/wp-content/uploads/2025/10/paint-night-2.jpg
END:VEVENT
BEGIN:VEVENT
DTSTART;TZID=America/Kentucky/Louisville:20251024T180000
DTEND;TZID=America/Kentucky/Louisville:20251024T200000
DTSTAMP:20260423T124920
CREATED:20250902T130038Z
LAST-MODIFIED:20250902T130038Z
UID:67747-1761328800-1761336000@visitpikeville.com
SUMMARY:Feed the Need for Change Gala
DESCRIPTION:The event site is now live!! Individual tickets and sponsorship opportunities are now available for purchase!!!
URL:https://visitpikeville.com/event/feed-the-need-for-change-gala/
LOCATION:University Of Pikeville\, 147 Sycamore St\,\, Pikeville\, KY\, 41501\, United States
CATEGORIES:Southeast Kentucky Chamber
ATTACH;FMTTYPE=image/jpeg:https://visitpikeville.com/wp-content/uploads/2025/09/food-gala.jpg
END:VEVENT
BEGIN:VEVENT
DTSTART;TZID=America/Kentucky/Louisville:20251024T180000
DTEND;TZID=America/Kentucky/Louisville:20251024T210000
DTSTAMP:20260423T124920
CREATED:20251006T134851Z
LAST-MODIFIED:20251006T134851Z
UID:69372-1761328800-1761339600@visitpikeville.com
SUMMARY:WESTCARE'S GALA
DESCRIPTION:Get your tickets now for this wonderful event and help change the life of someone less fortunate!!Westcare.events/kygala
URL:https://visitpikeville.com/event/westcares-gala/
LOCATION:University Of Pikeville\, 147 Sycamore St\,\, Pikeville\, KY\, 41501\, United States
CATEGORIES:Other
ATTACH;FMTTYPE=image/jpeg:https://visitpikeville.com/wp-content/uploads/2025/10/WESTCARE.jpg
END:VEVENT
BEGIN:VEVENT
DTSTART;TZID=America/Kentucky/Louisville:20251024T193000
DTEND;TZID=America/Kentucky/Louisville:20251024T213000
DTSTAMP:20260423T124920
CREATED:20250602T125021Z
LAST-MODIFIED:20250602T125021Z
UID:64844-1761334200-1761341400@visitpikeville.com
SUMMARY:RHPS 50th anniversary
DESCRIPTION:Save the date! It’s the RHPS 50th anniversary! And the APP has a few special treats. We will be bringing back the Double Feature! Two shows in one evening. We will also be having a pre-show party with the cast (included with the first show ticket only) cash bar and food will be available and yes\, meatloaf is on the menu!\n\n\nKeep your eyes peeled for ticket sales coming soon. The Halloween season will be a blast at The APP!
URL:https://visitpikeville.com/event/rhps-50th-anniversary/
LOCATION:Appalachian Center for the Arts\, 218 2nd St\,\, Pikeville\, Ky\, 41501
CATEGORIES:The Appalachian Center for the Arts
ATTACH;FMTTYPE=image/jpeg:https://visitpikeville.com/wp-content/uploads/2025/06/rhps.jpg
END:VEVENT
BEGIN:VEVENT
DTSTART;TZID=America/Kentucky/Louisville:20251024T193000
DTEND;TZID=America/Kentucky/Louisville:20251024T213000
DTSTAMP:20260423T124920
CREATED:20250922T124328Z
LAST-MODIFIED:20250922T124328Z
UID:68719-1761334200-1761341400@visitpikeville.com
SUMMARY:DRACULA
DESCRIPTION:Artists Collaborative Theatre presents BRAM STOKER’S DRACULA. Co-Directed by Jason Justice & Treyton Blackburn. Tickets: $12.00. Oct. 17 – Nov. 2\nArtists Collaborative Theatre presents BRAM STOKER’S DRACULA adapted for the stage by Treyton Blackburn. Co-Directed by Jason Justice & Treyton Blackburn. Tickets: $12.00 Concessions and production t-shirts will be available for purchase. Synopsis: Jonathan Harker\, a young solicitor under the employ of the newly promoted Mr. Renfield\, must travel from London to Transylvania to finalize an estate sale to the mysterious Count Dracula. At the same time\, his fiancée Mina Murray cares for the eligible Lucy Westenra as she is courted by both three suitors and a mysterious sleepwalking illness. As Jonathan goes missing and Lucy’s state rapidly declines\, Mina suspects a sinister intent links these two woes. Based on the original novel by Bram Stoker\, this new adaptation by local playwright Treyton Blackburn highlights the humanity\, tragedy\, and horror of the world’s most famous vampire story. Sponsored by Community Trust Bank.
URL:https://visitpikeville.com/event/dracula-2-2-2/
LOCATION:Pikeville High School\, 120 Championship Dr\,\, Pikeville\, KY\, 41501\, United States
CATEGORIES:Other
ATTACH;FMTTYPE=image/jpeg:https://visitpikeville.com/wp-content/uploads/2025/09/dracula.jpg
END:VEVENT
BEGIN:VEVENT
DTSTART;TZID=America/Kentucky/Louisville:20251024T193000
DTEND;TZID=America/Kentucky/Louisville:20251024T223000
DTSTAMP:20260423T124920
CREATED:20251006T132203Z
LAST-MODIFIED:20251006T132203Z
UID:69345-1761334200-1761345000@visitpikeville.com
SUMMARY:Live Music at Bank 253
DESCRIPTION:  \n7:30 – 10:30 pm
URL:https://visitpikeville.com/event/live-music-at-bank-253-3-2-2-2-2-2-2-2-2-2-2-2-2-2-2-2-2-2-2-2-2-2-2-2-2-2-2-2-2-2-2-2-2-2-3-2-2-2-2-2/
LOCATION:Bank 253\, 253 2nd St\,\, Pikeville\, KY\, 41501\, United States
CATEGORIES:Other
ATTACH;FMTTYPE=image/jpeg:https://visitpikeville.com/wp-content/uploads/2025/09/BANK-253.jpg
END:VEVENT
BEGIN:VEVENT
DTSTART;TZID=America/Kentucky/Louisville:20251024T200000
DTEND;TZID=America/Kentucky/Louisville:20251024T235900
DTSTAMP:20260423T124920
CREATED:20250915T130333Z
LAST-MODIFIED:20250915T130333Z
UID:68458-1761336000-1761350340@visitpikeville.com
SUMMARY:Fright Night on the Farm
DESCRIPTION:Who’s ready for a scare? \n\n\nFright Night on the Farm returns to Pikeville this October!  Gather your friends and brave the haunted hayride ($5) or step inside the terrifying haunted house ($15) if you dare.\n\n\n Open Dates:\n Opening Night – Friday\, October 10\n Friday\, October 17 & 24\n Saturday\, October 18 & 25\n\n\nOpen from dark till midnight!\n\n\n 36 Spring Branch\, Pikeville\, KY 41501\n Cash only\, please\n\n\nDon’t miss Pike County’s spookiest Halloween event—are you brave enough to last until the end?
URL:https://visitpikeville.com/event/fright-night-on-the-farm-2-2-2/
LOCATION:Spring Branch Events\, 36 Spring Branch\,\, Pikeville\, KY\, 41501\, United States
CATEGORIES:Other
ATTACH;FMTTYPE=image/webp:https://visitpikeville.com/wp-content/uploads/2025/09/fright-night-on-farm.webp
END:VEVENT
BEGIN:VEVENT
DTSTART;TZID=America/Kentucky/Louisville:20251024T220000
DTEND;TZID=America/Kentucky/Louisville:20251024T233000
DTSTAMP:20260423T124920
CREATED:20250602T135347Z
LAST-MODIFIED:20250602T135347Z
UID:64852-1761343200-1761348600@visitpikeville.com
SUMMARY:RHPS 50th anniversary
DESCRIPTION:Save the date! It’s the RHPS 50th anniversary! And the APP has a few special treats. We will be bringing back the Double Feature! Two shows in one evening. We will also be having a pre-show party with the cast (included with the first show ticket only) cash bar and food will be available and yes\, meatloaf is on the menu!\n\n\nKeep your eyes peeled for ticket sales coming soon. The Halloween season will be a blast at The APP!
URL:https://visitpikeville.com/event/rhps-50th-anniversary-2/
LOCATION:Appalachian Center for the Arts\, 218 2nd St\,\, Pikeville\, Ky\, 41501
CATEGORIES:The Appalachian Center for the Arts
ATTACH;FMTTYPE=image/jpeg:https://visitpikeville.com/wp-content/uploads/2025/06/rhps.jpg
END:VEVENT
END:VCALENDAR