BEGIN:VCALENDAR
VERSION:2.0
PRODID:-//Visit Pikeville - ECPv6.15.20//NONSGML v1.0//EN
CALSCALE:GREGORIAN
METHOD:PUBLISH
X-ORIGINAL-URL:https://visitpikeville.com
X-WR-CALDESC:Events for Visit Pikeville
REFRESH-INTERVAL;VALUE=DURATION:PT1H
X-Robots-Tag:noindex
X-PUBLISHED-TTL:PT1H
BEGIN:VTIMEZONE
TZID:America/Kentucky/Louisville
BEGIN:DAYLIGHT
TZOFFSETFROM:-0500
TZOFFSETTO:-0400
TZNAME:EDT
DTSTART:20240310T070000
END:DAYLIGHT
BEGIN:STANDARD
TZOFFSETFROM:-0400
TZOFFSETTO:-0500
TZNAME:EST
DTSTART:20241103T060000
END:STANDARD
BEGIN:DAYLIGHT
TZOFFSETFROM:-0500
TZOFFSETTO:-0400
TZNAME:EDT
DTSTART:20250309T070000
END:DAYLIGHT
BEGIN:STANDARD
TZOFFSETFROM:-0400
TZOFFSETTO:-0500
TZNAME:EST
DTSTART:20251102T060000
END:STANDARD
BEGIN:DAYLIGHT
TZOFFSETFROM:-0500
TZOFFSETTO:-0400
TZNAME:EDT
DTSTART:20260308T070000
END:DAYLIGHT
BEGIN:STANDARD
TZOFFSETFROM:-0400
TZOFFSETTO:-0500
TZNAME:EST
DTSTART:20261101T060000
END:STANDARD
END:VTIMEZONE
BEGIN:VEVENT
DTSTART;TZID=America/Kentucky/Louisville:20251023T110000
DTEND;TZID=America/Kentucky/Louisville:20251023T120000
DTSTAMP:20260423T124502
CREATED:20251013T142428Z
LAST-MODIFIED:20251013T142428Z
UID:69761-1761217200-1761220800@visitpikeville.com
SUMMARY:Story Time
DESCRIPTION:Story Time is for children ages 5 and under and features books\, action/movement\, songs\, and a craft. Story Time is held Thursdays at 11:00 and 2:00 and Saturdays at 11:00. \n\n\n\n\n\n\n  \nBesides being fun\, Story Time also helps develop early literacy and school readiness skills through reading\, singing\, listening\, playing\, and social interaction. This program lasts approximately 30 minutes\, and caregivers and children are encouraged to linger in the library afterwards to further socialize and choose books to take home. \n  \nStory Time begins the first week of September and ends the first week of May.
URL:https://visitpikeville.com/event/story-time-2-2-2-2-2-2-2-2-2-2-2-2-2-2-2-2-2-2-2-2-2-2-2-2-2-2-2-2-2-2-2-2-2-2-2-2-2-2-2-2-2-2-2-2-2-2-2-2-2-2-2-2-2-2-2-3-2-2-2-2-2-2-2-2-2-2-2-2-2-2-2-2-2-2-2-2-2-2-2-2-2-2-2-2-2-2-2-2-2-2-2-2-2-3-2/
LOCATION:Pike County Public Library\, 126 Lee Avenue\, Pikeville\, KY\, 41501\, United States
CATEGORIES:Pike County Public Library
ATTACH;FMTTYPE=image/png:https://visitpikeville.com/wp-content/uploads/2025/10/Story_Time_Schedule_25.png
END:VEVENT
BEGIN:VEVENT
DTSTART;TZID=America/Kentucky/Louisville:20251023T140000
DTEND;TZID=America/Kentucky/Louisville:20251023T150000
DTSTAMP:20260423T124502
CREATED:20251013T142510Z
LAST-MODIFIED:20251013T142510Z
UID:69763-1761228000-1761231600@visitpikeville.com
SUMMARY:Story Time
DESCRIPTION:Story Time is for children ages 5 and under and features books\, action/movement\, songs\, and a craft. Story Time is held Thursdays at 11:00 and 2:00 and Saturdays at 11:00. \n\n\n\n\n\n\n  \nBesides being fun\, Story Time also helps develop early literacy and school readiness skills through reading\, singing\, listening\, playing\, and social interaction. This program lasts approximately 30 minutes\, and caregivers and children are encouraged to linger in the library afterwards to further socialize and choose books to take home. \n  \nStory Time begins the first week of September and ends the first week of May.
URL:https://visitpikeville.com/event/story-time-2-2-2-2-2-2-2-2-2-2-2-2-2-2-2-2-2-2-2-2-2-2-2-2-2-2-2-2-2-2-2-2-2-2-2-2-2-2-2-2-2-2-2-2-2-2-2-2-2-2-2-2-2-2-2-3-2-2-2-2-2-2-2-2-2-2-2-2-2-2-2-2-2-2-2-2-2-2-2-2-2-2-2-2-2-2-2-2-2-2-2-2-2-3-3/
LOCATION:Pike County Public Library\, 126 Lee Avenue\, Pikeville\, KY\, 41501\, United States
CATEGORIES:Pike County Public Library
ATTACH;FMTTYPE=image/png:https://visitpikeville.com/wp-content/uploads/2025/10/Story_Time_Schedule_25.png
END:VEVENT
BEGIN:VEVENT
DTSTART;TZID=America/Kentucky/Louisville:20251023T160000
DTEND;TZID=America/Kentucky/Louisville:20251023T170000
DTSTAMP:20260423T124502
CREATED:20251013T141225Z
LAST-MODIFIED:20251013T141225Z
UID:69740-1761235200-1761238800@visitpikeville.com
SUMMARY:Teen Guitar Class 2
DESCRIPTION:Beginner guitar lessons for patrons ages 13-17. This class meets weekly on Thursdays at 4:00. Please bring your own instrument. Registration required. \n\n\n\n\n\n\n  \nPlease call the library at 606-437-6001 to check availability.
URL:https://visitpikeville.com/event/teen-guitar-class-3-2-2-2-2-2-2-2-2-3-2-2-2-2-2-2-2-2-2-2-2-2/
LOCATION:Pike County Public Library\, 126 Lee Avenue\, Pikeville\, KY\, 41501\, United States
CATEGORIES:Pike County Public Library
ATTACH;FMTTYPE=image/png:https://visitpikeville.com/wp-content/uploads/2025/05/theory.png
END:VEVENT
BEGIN:VEVENT
DTSTART;TZID=America/Kentucky/Louisville:20251023T170000
DTEND;TZID=America/Kentucky/Louisville:20251023T180000
DTSTAMP:20260423T124502
CREATED:20251013T141601Z
LAST-MODIFIED:20251013T141601Z
UID:69750-1761238800-1761242400@visitpikeville.com
SUMMARY:Music Theory for Guitarists
DESCRIPTION:Understanding how music works will give you the tools you need to write riffs\, songs\, and solos\, and learn to improvise in a friendly hands-on environment. \n\n\n\n\n\n\nClass is held weekly at the Pike County Public Library (Lee Ave) every Thursday at 5:00. \nNo previous knowledge of music theory or reading music is necessary\, but this class is for adults and teens who already know how to play a little bit. \nRegistration required. Please call the library to check availability. 606-437-6001.
URL:https://visitpikeville.com/event/music-theory-for-guitarists-6-2-2-2-2-2-2-2-2-2-2/
LOCATION:Pike County Public Library\, 126 Lee Avenue\, Pikeville\, KY\, 41501\, United States
CATEGORIES:Pike County Public Library
ATTACH;FMTTYPE=image/png:https://visitpikeville.com/wp-content/uploads/2025/05/theory.png
END:VEVENT
BEGIN:VEVENT
DTSTART;TZID=America/Kentucky/Louisville:20251023T170000
DTEND;TZID=America/Kentucky/Louisville:20251023T184500
DTSTAMP:20260423T124502
CREATED:20251013T143529Z
LAST-MODIFIED:20251013T143529Z
UID:69778-1761238800-1761245100@visitpikeville.com
SUMMARY:Dungeons and Dragons
DESCRIPTION:Dungeons and Dragons Group meets every other Thursday at 5:00 at the Pike County Public Library (Lee Avenue). Beginners and experienced players alike are welcome. \n\n\n\n\n\n\n  \nDungeons and Dragons is a role playing game (RPG) where a single player plays as the Dungeon Master\, creating a world that the players interact with. Players act as a group of adventurers working together to complete quests\, slay monsters\, and achieve their own personal goals. The game uses a series of dice to help simulate how successful characters and monsters are at achieving their various goals.
URL:https://visitpikeville.com/event/dungeons-and-dragons-7-2-2-2-2-2-2-2/
LOCATION:Pike County Public Library\, 126 Lee Avenue\, Pikeville\, KY\, 41501\, United States
CATEGORIES:Pike County Public Library
ATTACH;FMTTYPE=image/png:https://visitpikeville.com/wp-content/uploads/2025/06/D_D_Group.png
END:VEVENT
BEGIN:VEVENT
DTSTART;TZID=America/Kentucky/Louisville:20251023T170000
DTEND;TZID=America/Kentucky/Louisville:20251023T190000
DTSTAMP:20260423T124502
CREATED:20251020T150312Z
LAST-MODIFIED:20251020T150312Z
UID:70087-1761238800-1761246000@visitpikeville.com
SUMMARY:Veterans and Family Cookout
DESCRIPTION:Thursday of Fall Conference October 23rd the post will be having a COOKOUT at the Pikeville Veterans Memorial Park at 5 pm . We will have corn hole set up \, hotdogs \, etc. ( directions are look for the big airplane when you come into Pikeville)
URL:https://visitpikeville.com/event/veterans-and-family-cookout/
LOCATION:Pikeville Veterans Memorial Park\, 119 2nd Street\, Pikeville\, KY\, 41501\, United States
CATEGORIES:Other
ATTACH;FMTTYPE=image/jpeg:https://visitpikeville.com/wp-content/uploads/2025/10/veteran-e1760972585911.jpg
END:VEVENT
BEGIN:VEVENT
DTSTART;TZID=America/Kentucky/Louisville:20251023T173000
DTEND;TZID=America/Kentucky/Louisville:20251023T193000
DTSTAMP:20260423T124502
CREATED:20251020T145157Z
LAST-MODIFIED:20251020T145157Z
UID:70073-1761240600-1761247800@visitpikeville.com
SUMMARY:Fall Lantern Paint Class
DESCRIPTION:Fall Lantern Paint Class \nWednesday\, October 23rd at 5:30 PM\nCozy fall vibes\, glowing lanterns\, pumpkins & leaves—perfect for your autumn décor!\n\n\n No drawing required – lantern is pre-sketched\n Step-by-step instruction\n Customize your colors and accents (pumpkins\, leaves\, berries\, glow!)\n 16×20 Canvas – $25 per painter\n\n\nBring your friends\, family\, or make it a relaxing night for yourself!\nPrivate message to reserve your seat – spots are limited!\n\n\n#falllantern #paintnight #2BrokeArtTeachers #fallvibes #glowlantern
URL:https://visitpikeville.com/event/fall-lantern-paint-class-2/
LOCATION:2 Broke Art Teachers\, 4505 Weddington Square\,\, Pikeville\, KY\, 41501\, United States
CATEGORIES:Other
ATTACH;FMTTYPE=image/jpeg:https://visitpikeville.com/wp-content/uploads/2025/10/lantern-1.jpg
END:VEVENT
BEGIN:VEVENT
DTSTART;TZID=America/Kentucky/Louisville:20251023T180000
DTEND;TZID=America/Kentucky/Louisville:20251023T210000
DTSTAMP:20260423T124502
CREATED:20251020T141547Z
LAST-MODIFIED:20251020T141547Z
UID:70062-1761242400-1761253200@visitpikeville.com
SUMMARY:Halloween Trivia
DESCRIPTION:We’re proud to host a great night for a great cause!\nJoin us this Thursday October 23rd as El Hasa Shriners brings Shriners Hospitals for Children – Lexington Live Trivia to Brothers Wright Distilling Co. on Second Street in downtown Pikeville.\n\n\nBring your team and put your knowledge to the test. Teams of four\, $10 per person. All proceeds will benefit Shriners Hospitals for Children – Lexington.\n\n\n Registration starts at 6:00 PM\n First question drops at 7:00 PM\n Costumes are welcome!\n\n\nWe’re honored to partner with the Shriners for this special event and look forward to a fun night supporting an incredible cause.\n\n\nPlease drink responsibly.\n\n\n#BWDC #BrothersWrightDistillingCo #DuelingBarrels #PikevilleKY #Shriners #ShrinersHospitalsForChildren #TriviaNight #LiveTrivia #Fundraiser #KentuckyEvents #DowntownPikeville #DrinkResponsibly #Bourbon #KentuckyBourbon #BWDC #kentuckybourbon #friendsofcoal #brotherswright
URL:https://visitpikeville.com/event/halloween-trivia/
LOCATION:Brothers Wright Distilling Co.\, 2nd Street\, Pikeville\, KY\, 41501\, United States
CATEGORIES:Other
ATTACH;FMTTYPE=image/jpeg:https://visitpikeville.com/wp-content/uploads/2025/10/trivia.jpg
END:VEVENT
END:VCALENDAR