BEGIN:VCALENDAR
VERSION:2.0
PRODID:-//Visit Pikeville - ECPv6.15.20//NONSGML v1.0//EN
CALSCALE:GREGORIAN
METHOD:PUBLISH
X-ORIGINAL-URL:https://visitpikeville.com
X-WR-CALDESC:Events for Visit Pikeville
REFRESH-INTERVAL;VALUE=DURATION:PT1H
X-Robots-Tag:noindex
X-PUBLISHED-TTL:PT1H
BEGIN:VTIMEZONE
TZID:America/Kentucky/Louisville
BEGIN:DAYLIGHT
TZOFFSETFROM:-0500
TZOFFSETTO:-0400
TZNAME:EDT
DTSTART:20240310T070000
END:DAYLIGHT
BEGIN:STANDARD
TZOFFSETFROM:-0400
TZOFFSETTO:-0500
TZNAME:EST
DTSTART:20241103T060000
END:STANDARD
BEGIN:DAYLIGHT
TZOFFSETFROM:-0500
TZOFFSETTO:-0400
TZNAME:EDT
DTSTART:20250309T070000
END:DAYLIGHT
BEGIN:STANDARD
TZOFFSETFROM:-0400
TZOFFSETTO:-0500
TZNAME:EST
DTSTART:20251102T060000
END:STANDARD
BEGIN:DAYLIGHT
TZOFFSETFROM:-0500
TZOFFSETTO:-0400
TZNAME:EDT
DTSTART:20260308T070000
END:DAYLIGHT
BEGIN:STANDARD
TZOFFSETFROM:-0400
TZOFFSETTO:-0500
TZNAME:EST
DTSTART:20261101T060000
END:STANDARD
END:VTIMEZONE
BEGIN:VEVENT
DTSTART;TZID=America/Kentucky/Louisville:20251022T110000
DTEND;TZID=America/Kentucky/Louisville:20251022T130000
DTSTAMP:20260423T155046
CREATED:20250929T134852Z
LAST-MODIFIED:20250929T134852Z
UID:69015-1761130800-1761138000@visitpikeville.com
SUMMARY:Brush & Brunch
DESCRIPTION:RSVP at 606-432-2534
URL:https://visitpikeville.com/event/brush-brunch-4/
LOCATION:Pike County Extension Office\, 148 Trivette Dr\, Pikeville\, KY\, 41501\, United States
CATEGORIES:Pike County Cooperative Extension Office
ATTACH;FMTTYPE=image/jpeg:https://visitpikeville.com/wp-content/uploads/2025/09/brush.jpg
END:VEVENT
BEGIN:VEVENT
DTSTART;TZID=America/Kentucky/Louisville:20251022T140000
DTEND;TZID=America/Kentucky/Louisville:20251022T150000
DTSTAMP:20260423T155046
CREATED:20251013T134718Z
LAST-MODIFIED:20251013T134718Z
UID:69719-1761141600-1761145200@visitpikeville.com
SUMMARY:Adult Guitar Class 2
DESCRIPTION:Beginner guitar lessons for patrons ages 18+. This class meets weekly on Wednesdays at 2:00. Please bring your own instrument. Registration required. \n\n\n\n\n\n\n  \nCall the library at 606-437-6001 to check availability.
URL:https://visitpikeville.com/event/adult-guitar-class-4-2-2-2-2-2-2-2-2-2-2-2-2-2-2-2-2-2-2-2-2-2-2-2-2-2/
LOCATION:Pike County Public Library\, 126 Lee Avenue\, Pikeville\, KY\, 41501\, United States
CATEGORIES:Pike County Public Library
ATTACH;FMTTYPE=image/png:https://visitpikeville.com/wp-content/uploads/2025/05/theory.png
END:VEVENT
BEGIN:VEVENT
DTSTART;TZID=America/Kentucky/Louisville:20251022T150000
DTEND;TZID=America/Kentucky/Louisville:20251022T170000
DTSTAMP:20260423T155046
CREATED:20250609T123701Z
LAST-MODIFIED:20250609T123701Z
UID:65023-1761145200-1761152400@visitpikeville.com
SUMMARY:Women's Soccer vs Montreat College
DESCRIPTION:Game Day!
URL:https://visitpikeville.com/event/womens-soccer-vs-montreat-college-2/
LOCATION:Bob Amos Park\, 424 Bob Amos Dr\, Pikeville\, Ky\, 41501
CATEGORIES:UPike
ATTACH;FMTTYPE=image/png:https://visitpikeville.com/wp-content/uploads/2025/06/Screenshot-2025-06-09-at-8.35.21 AM.png
END:VEVENT
BEGIN:VEVENT
DTSTART;TZID=America/Kentucky/Louisville:20251022T160000
DTEND;TZID=America/Kentucky/Louisville:20251022T170000
DTSTAMP:20260423T155046
CREATED:20250902T151224Z
LAST-MODIFIED:20250902T151224Z
UID:67859-1761148800-1761152400@visitpikeville.com
SUMMARY:Teen Time
DESCRIPTION:Teens ages 13-17 are invited to hang out\, get creative\, and have fun at Teen Time\, meeting alternating Mondays at 4:00. \n\n\n\n\n\n\n  \nJoin us in the Teen Room for a mix of crafts\, games\, video game tournaments\, snacks\, and more. It’s a great chance to relax\, meet new friends\, and try something new each week. No registration needed.
URL:https://visitpikeville.com/event/teen-time-2/
LOCATION:Pike County Public Library\, 126 Lee Avenue\, Pikeville\, KY\, 41501\, United States
CATEGORIES:Pike County Public Library
ATTACH;FMTTYPE=image/png:https://visitpikeville.com/wp-content/uploads/2025/09/Teen_Time_updated.png
END:VEVENT
BEGIN:VEVENT
DTSTART;TZID=America/Kentucky/Louisville:20251022T163000
DTEND;TZID=America/Kentucky/Louisville:20251022T173000
DTSTAMP:20260423T155046
CREATED:20251013T135852Z
LAST-MODIFIED:20251013T135852Z
UID:69729-1761150600-1761154200@visitpikeville.com
SUMMARY:Teen Guitar Class 1
DESCRIPTION:Beginner guitar lessons for patrons ages 13-17. This class meets weekly on Wednesdays at 4:30. Please bring your own instrument. Registration required. \n\n\n\n\n\n\n  \nPlease call the library at 606-437-6001 to check availability.
URL:https://visitpikeville.com/event/teen-guitar-class-3-2-2-2-2-2-2-2-2-2-2-2-2-2-2-2-2-2-2-2-2/
LOCATION:Pike County Public Library\, 126 Lee Avenue\, Pikeville\, KY\, 41501\, United States
CATEGORIES:Pike County Public Library
ATTACH;FMTTYPE=image/png:https://visitpikeville.com/wp-content/uploads/2025/05/theory.png
END:VEVENT
BEGIN:VEVENT
DTSTART;TZID=America/Kentucky/Louisville:20251022T173000
DTEND;TZID=America/Kentucky/Louisville:20251022T193000
DTSTAMP:20260423T155046
CREATED:20250609T123917Z
LAST-MODIFIED:20250609T123917Z
UID:65026-1761154200-1761161400@visitpikeville.com
SUMMARY:Men's Soccer vs Montreat College
DESCRIPTION:Game Day!
URL:https://visitpikeville.com/event/mens-soccer-vs-montreat-college-2/
LOCATION:Bob Amos Park\, 424 Bob Amos Dr\, Pikeville\, Ky\, 41501
CATEGORIES:UPike
ATTACH;FMTTYPE=image/png:https://visitpikeville.com/wp-content/uploads/2025/06/Screenshot-2025-06-09-at-8.37.08 AM.png
END:VEVENT
BEGIN:VEVENT
DTSTART;TZID=America/Kentucky/Louisville:20251022T190000
DTEND;TZID=America/Kentucky/Louisville:20251022T210000
DTSTAMP:20260423T155046
CREATED:20251006T130638Z
LAST-MODIFIED:20251006T130638Z
UID:69331-1761159600-1761166800@visitpikeville.com
SUMMARY:Open Mic Night
DESCRIPTION:Open Mic Night every Wednesday! \n\n\nJoin us upstairs at Dueling Barrels for Open Mic Night from 7–9 PM. Musicians\, singers\, and performers of all kinds are welcome to take the stage — or just come enjoy the local talent and a good drink. \n\n\n Use the blue door entrance at 244 Second Street\, downtown Pikeville.\n\n\nPlease drink responsibly.
URL:https://visitpikeville.com/event/open-mic-night-3-2-2/
LOCATION:Dueling Barrels\, 226 2nd Street\, Pikeville\, KY\, 41501\, United States
CATEGORIES:Other
ATTACH;FMTTYPE=image/jpeg:https://visitpikeville.com/wp-content/uploads/2025/10/open-mic.jpg
END:VEVENT
BEGIN:VEVENT
DTSTART;TZID=America/Kentucky/Louisville:20251022T193000
DTEND;TZID=America/Kentucky/Louisville:20251022T213000
DTSTAMP:20260423T155046
CREATED:20251006T130052Z
LAST-MODIFIED:20251006T130052Z
UID:69324-1761161400-1761168600@visitpikeville.com
SUMMARY:Bingo Night
DESCRIPTION:@ The Mine 606
URL:https://visitpikeville.com/event/bingo-night-2-2-2-2-2-2-2-2-2-2/
LOCATION:The Mine 606\, 121 Main St\, Pikeville\, KY\, 41501\, United States
CATEGORIES:Other
ATTACH;FMTTYPE=image/jpeg:https://visitpikeville.com/wp-content/uploads/2025/06/mine.jpg
END:VEVENT
END:VCALENDAR