BEGIN:VCALENDAR
VERSION:2.0
PRODID:-//Visit Pikeville - ECPv6.15.20//NONSGML v1.0//EN
CALSCALE:GREGORIAN
METHOD:PUBLISH
X-WR-CALNAME:Visit Pikeville
X-ORIGINAL-URL:https://visitpikeville.com
X-WR-CALDESC:Events for Visit Pikeville
REFRESH-INTERVAL;VALUE=DURATION:PT1H
X-Robots-Tag:noindex
X-PUBLISHED-TTL:PT1H
BEGIN:VTIMEZONE
TZID:America/Kentucky/Louisville
BEGIN:DAYLIGHT
TZOFFSETFROM:-0500
TZOFFSETTO:-0400
TZNAME:EDT
DTSTART:20240310T070000
END:DAYLIGHT
BEGIN:STANDARD
TZOFFSETFROM:-0400
TZOFFSETTO:-0500
TZNAME:EST
DTSTART:20241103T060000
END:STANDARD
BEGIN:DAYLIGHT
TZOFFSETFROM:-0500
TZOFFSETTO:-0400
TZNAME:EDT
DTSTART:20250309T070000
END:DAYLIGHT
BEGIN:STANDARD
TZOFFSETFROM:-0400
TZOFFSETTO:-0500
TZNAME:EST
DTSTART:20251102T060000
END:STANDARD
BEGIN:DAYLIGHT
TZOFFSETFROM:-0500
TZOFFSETTO:-0400
TZNAME:EDT
DTSTART:20260308T070000
END:DAYLIGHT
BEGIN:STANDARD
TZOFFSETFROM:-0400
TZOFFSETTO:-0500
TZNAME:EST
DTSTART:20261101T060000
END:STANDARD
END:VTIMEZONE
BEGIN:VEVENT
DTSTART;TZID=America/Kentucky/Louisville:20251021T100000
DTEND;TZID=America/Kentucky/Louisville:20251021T110000
DTSTAMP:20260423T141020
CREATED:20251006T122520Z
LAST-MODIFIED:20251006T122520Z
UID:69292-1761040800-1761044400@visitpikeville.com
SUMMARY:Pike County Fiscal Court Meeting
DESCRIPTION:  \n10:00am @ Old Courthouse
URL:https://visitpikeville.com/event/pike-county-fiscal-court-meeting-2-2-2-2-2-2-2-2-3-2-2-2-2-2-2-2-2-2-2-2-2-2-2-2-2-2-2-2-2/
LOCATION:Pike County Clerk\, 146 Main St\,\, Pikeville\, 41501\, United States
CATEGORIES:City of Pikeville
ATTACH;FMTTYPE=image/png:https://visitpikeville.com/wp-content/uploads/2023/09/image001.png
END:VEVENT
BEGIN:VEVENT
DTSTART;TZID=America/Kentucky/Louisville:20251021T163000
DTEND;TZID=America/Kentucky/Louisville:20251021T180000
DTSTAMP:20260423T141020
CREATED:20251013T131009Z
LAST-MODIFIED:20251013T131009Z
UID:69687-1761064200-1761069600@visitpikeville.com
SUMMARY:Ag Explorers Club
DESCRIPTION:Our Ag Explorers Club meeting for October has been RESCHEDULED for Tuesday\, October 21st at the Pikeville Farmers Market. If you are interested in learning more about our local farmers\, give us a call at the Pike County Extension Office to register for this club. We will be meeting on the 21st at the Farmers Market!
URL:https://visitpikeville.com/event/ag-explorers-club-3/
LOCATION:Pike County Extension Office\, 148 Trivette Dr\, Pikeville\, KY\, 41501\, United States
CATEGORIES:Pike County Cooperative Extension Office
ATTACH;FMTTYPE=image/jpeg:https://visitpikeville.com/wp-content/uploads/2025/10/ag-explorers.jpg
END:VEVENT
BEGIN:VEVENT
DTSTART;TZID=America/Kentucky/Louisville:20251021T163000
DTEND;TZID=America/Kentucky/Louisville:20251021T190000
DTSTAMP:20260423T141020
CREATED:20251006T123054Z
LAST-MODIFIED:20251006T123054Z
UID:69300-1761064200-1761073200@visitpikeville.com
SUMMARY:Pikeville Farmers Market
DESCRIPTION:Farmers Market season is starting to wind down! Make sure you come check it out before it’s too late 
URL:https://visitpikeville.com/event/pikeville-farmers-market-7-2-2/
LOCATION:Pikeville Farmer’s Market\, 130 Adams Lane\, Pikeville\, Ky
CATEGORIES:Pikeville Farmers Market
ATTACH;FMTTYPE=image/jpeg:https://visitpikeville.com/wp-content/uploads/2025/10/farmers-market.jpg
END:VEVENT
BEGIN:VEVENT
DTSTART;TZID=America/Kentucky/Louisville:20251021T163000
DTEND;TZID=America/Kentucky/Louisville:20251021T190000
DTSTAMP:20260423T141020
CREATED:20251013T133531Z
LAST-MODIFIED:20251013T133531Z
UID:69694-1761064200-1761073200@visitpikeville.com
SUMMARY:kids day at the Farmers Market
DESCRIPTION:Pike County extension will be hosting a kids day at the Farmers Market on October 21st!There will be an inflatable\, shopping bag decorating\, and more! Mountain View Pace will also be there providing free popcorn during the event! There is no entry fee\, and all are welcome! 
URL:https://visitpikeville.com/event/kids-day-at-the-farmers-market/
LOCATION:Pikeville Farmer’s Market\, 130 Adams Lane\, Pikeville\, Ky
CATEGORIES:Pikeville Farmers Market
ATTACH;FMTTYPE=image/jpeg:https://visitpikeville.com/wp-content/uploads/2025/10/kids.jpg
END:VEVENT
BEGIN:VEVENT
DTSTART;TZID=America/Kentucky/Louisville:20251021T170000
DTEND;TZID=America/Kentucky/Louisville:20251021T180000
DTSTAMP:20260423T141020
CREATED:20251013T134256Z
LAST-MODIFIED:20251013T134256Z
UID:69709-1761066000-1761069600@visitpikeville.com
SUMMARY:Adult Guitar Class 1
DESCRIPTION:Beginner guitar lessons for patrons ages 18+. This class meets weekly on Tuesdays at 5:00. Please bring your own instrument. Registration required. \n\n\n\n\n\n\n  \nCall the library at 606-437-6001 to check availability.
URL:https://visitpikeville.com/event/adult-guitar-class-4-2-2-2-2-2-2-2-2-2-2-2-2-2-3-3-2-2/
LOCATION:Pike County Public Library\, 126 Lee Avenue\, Pikeville\, KY\, 41501\, United States
CATEGORIES:Pike County Public Library
ATTACH;FMTTYPE=image/png:https://visitpikeville.com/wp-content/uploads/2025/05/theory.png
END:VEVENT
BEGIN:VEVENT
DTSTART;TZID=America/Kentucky/Louisville:20251021T170000
DTEND;TZID=America/Kentucky/Louisville:20251021T183000
DTSTAMP:20260423T141020
CREATED:20250929T141514Z
LAST-MODIFIED:20250929T141514Z
UID:69039-1761066000-1761071400@visitpikeville.com
SUMMARY:Painting Workshop
DESCRIPTION:Join us for a fun\, step-by-step painting workshop led by Kenna’s Creative Canvas! Create your own ‘October Night’ masterpiece with guided instruction. All materials are provided.\nRegistration required. This program is for teens and adults.\nTo register for October 14th\, click here: https://informationplace.libnet.info/event/14644132\nTo register for October 21st\, click here: https://informationplace.libnet.info/event/14644156\nRegistration Policy: Registration secures your place in the program\, and spaces often fill quickly. If you are registered but unable to attend\, please let us know so that another patron may take your place. The library will hold reserved seats for 10 minutes after the program begins. After this grace period\, any unclaimed places may be offered to patrons on standby.
URL:https://visitpikeville.com/event/painting-workshop-2/
LOCATION:Pike County Public Library\, 126 Lee Avenue\, Pikeville\, KY\, 41501\, United States
CATEGORIES:Pike County Public Library
ATTACH;FMTTYPE=image/jpeg:https://visitpikeville.com/wp-content/uploads/2025/09/WORKSHOP.jpg
END:VEVENT
BEGIN:VEVENT
DTSTART;TZID=America/Kentucky/Louisville:20251021T170000
DTEND;TZID=America/Kentucky/Louisville:20251021T190000
DTSTAMP:20260423T141020
CREATED:20251006T141919Z
LAST-MODIFIED:20251006T141919Z
UID:69392-1761066000-1761073200@visitpikeville.com
SUMMARY:Clay Mask Workshop
DESCRIPTION:@Pike County Extension Office
URL:https://visitpikeville.com/event/clay-mask-workshop-2/
LOCATION:Pike County Extension Office\, 148 Trivette Dr\, Pikeville\, KY\, 41501\, United States
CATEGORIES:Pike County Cooperative Extension Office
ATTACH;FMTTYPE=image/jpeg:https://visitpikeville.com/wp-content/uploads/2025/10/clay.jpg
END:VEVENT
BEGIN:VEVENT
DTSTART;TZID=America/Kentucky/Louisville:20251021T173000
DTEND;TZID=America/Kentucky/Louisville:20251021T184500
DTSTAMP:20260423T141020
CREATED:20250908T134742Z
LAST-MODIFIED:20250908T134742Z
UID:68129-1761067800-1761072300@visitpikeville.com
SUMMARY:Jazz Hands with Jen!
DESCRIPTION:Sep 16 – Oct 21st\, 2025 \nTUESDAY CLASS BREAKDOWN:\n• GRADES 1-6: 5:30PM – 6:45PM\n• GRADES 7–12: 7:00PM – 8:30PM \nINSTRUCTOR: JENNIFER DAWN HARTSTOCK \n\n\n\n\nGet ready to sing\, dance\, and shine in Jazz Hands with Jen—a high-energy musical theatre workshop at the Appalachian Center for the Arts Academy! \nThis fall\, we’re bringing the magic of Disney’s High School Musical to life with the anthem “We’re All in This Together.” Students will learn a full production number to perform in our end-of-session Show & Tell Showcase—a celebration of teamwork\, creativity\, and confidence on stage. \nNo experience required—just bring your enthusiasm\, your voice\, your moves\, and your team spirit!
URL:https://visitpikeville.com/event/jazz-hands-with-jen-2-2-2-2-2/
LOCATION:Appalachian Center for the Arts\, 218 2nd St\,\, Pikeville\, Ky\, 41501
CATEGORIES:The Appalachian Center for the Arts
ATTACH;FMTTYPE=image/jpeg:https://visitpikeville.com/wp-content/uploads/2025/09/jazz.jpg
END:VEVENT
BEGIN:VEVENT
DTSTART;TZID=America/Kentucky/Louisville:20251021T173000
DTEND;TZID=America/Kentucky/Louisville:20251021T193000
DTSTAMP:20260423T141020
CREATED:20251006T135610Z
LAST-MODIFIED:20251006T135610Z
UID:69377-1761067800-1761075000@visitpikeville.com
SUMMARY:Trunk or Treat!
DESCRIPTION:Kentucky State Police Post 9 invites you to our Trunk or Treat! \n\n\nBring the whole family out for a safe and fun Halloween event filled with:\n Candy\n Live Music\n Prizes & More!\n\n\n Tuesday\, October 21st\n 5:30 PM – 7:30 PM\n KSP Post 9\, 3499 N Mayo Trail\, Pikeville\, KY 41501
URL:https://visitpikeville.com/event/trunk-or-treat-2/
LOCATION:KSP Post 9\, 3499 N Mayo Trail\,\, Pikeville\, KY\, 41501\, United States
CATEGORIES:Kentucky State Police
ATTACH;FMTTYPE=image/jpeg:https://visitpikeville.com/wp-content/uploads/2025/10/trunk.jpg
END:VEVENT
BEGIN:VEVENT
DTSTART;TZID=America/Kentucky/Louisville:20251021T180000
DTEND;TZID=America/Kentucky/Louisville:20251021T190000
DTSTAMP:20260423T141020
CREATED:20251006T144335Z
LAST-MODIFIED:20251006T144335Z
UID:69425-1761069600-1761073200@visitpikeville.com
SUMMARY:Book Club
DESCRIPTION: Join UPIKE’s Center for Public Service for this October’s community Book Club! We’ll be reading Darkwater by W.E.B. Du Bois—an influential collection exploring democracy\, citizenship and civil rights. Faithlife Market\, downtown Pikeville Tuesdays in October |  6–7 p.m. Free book\, coffee & light refreshments
URL:https://visitpikeville.com/event/book-club-2-2/
LOCATION:Faith Life Market\, 130 Division St\,\, Pikeville\, KY\, 41501\, United States
CATEGORIES:UPike
ATTACH;FMTTYPE=image/jpeg:https://visitpikeville.com/wp-content/uploads/2025/10/book.jpg
END:VEVENT
BEGIN:VEVENT
DTSTART;TZID=America/Kentucky/Louisville:20251021T180000
DTEND;TZID=America/Kentucky/Louisville:20251021T191500
DTSTAMP:20260423T141020
CREATED:20250908T141509Z
LAST-MODIFIED:20250908T141509Z
UID:68153-1761069600-1761074100@visitpikeville.com
SUMMARY:With Imagination
DESCRIPTION:Sep 16 – Oct 21st\, 2025 \nTUESDAYS 6:00PM – 7:15PM \nINSTRUCTOR: Audrey Kuykendall \n\n\n\n\nThis class invites curious persons of all experience levels and physical abilities to explore body-based storytelling in a way that is adaptable\, creative\, and supportive through guided exercises and ensemble work inspired by Michael Chekhov’s Psychological Gesture. \nWhether you’re a novice public speaker or a veteran stage performer\, let’s discover simple\, adaptable tools to authentically express creativity\, exude confidence\, and explore connection. \nAll bodies and abilities are welcome\, and movement is always offered with options that work for you. Experience unnecessary—just a willingness to move\, explore\, and create.
URL:https://visitpikeville.com/event/with-imagination-2-2-2-2-2/
LOCATION:Appalachian Center for the Arts\, 218 2nd St\,\, Pikeville\, Ky\, 41501
CATEGORIES:The Appalachian Center for the Arts
ATTACH;FMTTYPE=image/jpeg:https://visitpikeville.com/wp-content/uploads/2025/09/jazz.jpg
END:VEVENT
BEGIN:VEVENT
DTSTART;TZID=America/Kentucky/Louisville:20251021T190000
DTEND;TZID=America/Kentucky/Louisville:20251021T203000
DTSTAMP:20260423T141020
CREATED:20250908T140432Z
LAST-MODIFIED:20250908T140432Z
UID:68141-1761073200-1761078600@visitpikeville.com
SUMMARY:Jazz Hands with Jen!
DESCRIPTION:Sep 16 – Oct 21st\, 2025 \nTUESDAY CLASS BREAKDOWN:\n• GRADES 1-6: 5:30PM – 6:45PM\n• GRADES 7–12: 7:00PM – 8:30PM \nINSTRUCTOR: JENNIFER DAWN HARTSTOCK \n\n\n\n\nGet ready to sing\, dance\, and shine in Jazz Hands with Jen—a high-energy musical theatre workshop at the Appalachian Center for the Arts Academy! \nThis fall\, we’re bringing the magic of Disney’s High School Musical to life with the anthem “We’re All in This Together.” Students will learn a full production number to perform in our end-of-session Show & Tell Showcase—a celebration of teamwork\, creativity\, and confidence on stage. \nNo experience required—just bring your enthusiasm\, your voice\, your moves\, and your team spirit!
URL:https://visitpikeville.com/event/jazz-hands-with-jen-2-2-2-2-2-2-2-2-2-2-2/
LOCATION:Appalachian Center for the Arts\, 218 2nd St\,\, Pikeville\, Ky\, 41501
CATEGORIES:The Appalachian Center for the Arts
ATTACH;FMTTYPE=image/jpeg:https://visitpikeville.com/wp-content/uploads/2025/09/jazz.jpg
END:VEVENT
END:VCALENDAR