BEGIN:VCALENDAR
VERSION:2.0
PRODID:-//Visit Pikeville - ECPv6.15.20//NONSGML v1.0//EN
CALSCALE:GREGORIAN
METHOD:PUBLISH
X-WR-CALNAME:Visit Pikeville
X-ORIGINAL-URL:https://visitpikeville.com
X-WR-CALDESC:Events for Visit Pikeville
REFRESH-INTERVAL;VALUE=DURATION:PT1H
X-Robots-Tag:noindex
X-PUBLISHED-TTL:PT1H
BEGIN:VTIMEZONE
TZID:America/Kentucky/Louisville
BEGIN:DAYLIGHT
TZOFFSETFROM:-0500
TZOFFSETTO:-0400
TZNAME:EDT
DTSTART:20240310T070000
END:DAYLIGHT
BEGIN:STANDARD
TZOFFSETFROM:-0400
TZOFFSETTO:-0500
TZNAME:EST
DTSTART:20241103T060000
END:STANDARD
BEGIN:DAYLIGHT
TZOFFSETFROM:-0500
TZOFFSETTO:-0400
TZNAME:EDT
DTSTART:20250309T070000
END:DAYLIGHT
BEGIN:STANDARD
TZOFFSETFROM:-0400
TZOFFSETTO:-0500
TZNAME:EST
DTSTART:20251102T060000
END:STANDARD
BEGIN:DAYLIGHT
TZOFFSETFROM:-0500
TZOFFSETTO:-0400
TZNAME:EDT
DTSTART:20260308T070000
END:DAYLIGHT
BEGIN:STANDARD
TZOFFSETFROM:-0400
TZOFFSETTO:-0500
TZNAME:EST
DTSTART:20261101T060000
END:STANDARD
END:VTIMEZONE
BEGIN:VEVENT
DTSTART;VALUE=DATE:20251014
DTEND;VALUE=DATE:20251015
DTSTAMP:20260423T124041
CREATED:20251013T115544Z
LAST-MODIFIED:20251013T115544Z
UID:69646-1760400000-1760486399@visitpikeville.com
SUMMARY:Esports vs Nicholls
DESCRIPTION:Super Smash Bros.
URL:https://visitpikeville.com/event/esports-vs-nicholls/
LOCATION:UPIKE\, 147 Sycamore St\,\, Pikeville\, KY\, 41501\, United States
CATEGORIES:UPike
ATTACH;FMTTYPE=image/png:https://visitpikeville.com/wp-content/uploads/2025/10/Screenshot-2025-10-13-at-7.51.45-AM.png
END:VEVENT
BEGIN:VEVENT
DTSTART;TZID=America/Kentucky/Louisville:20251014T110000
DTEND;TZID=America/Kentucky/Louisville:20251014T180000
DTSTAMP:20260423T124041
CREATED:20251006T142734Z
LAST-MODIFIED:20251006T142734Z
UID:69399-1760439600-1760464800@visitpikeville.com
SUMMARY:Art Exhibition
DESCRIPTION:@University of Pikeville
URL:https://visitpikeville.com/event/art-exhibition-2-2/
LOCATION:University Of Pikeville\, 147 Sycamore St\,\, Pikeville\, KY\, 41501\, United States
CATEGORIES:UPike
ATTACH;FMTTYPE=image/jpeg:https://visitpikeville.com/wp-content/uploads/2025/10/art-gallery.jpg
END:VEVENT
BEGIN:VEVENT
DTSTART;TZID=America/Kentucky/Louisville:20251014T120000
DTEND;TZID=America/Kentucky/Louisville:20251014T130000
DTSTAMP:20260423T124041
CREATED:20250929T121528Z
LAST-MODIFIED:20250929T121528Z
UID:68983-1760443200-1760446800@visitpikeville.com
SUMMARY:Lunch & Learn with American Heart Association
DESCRIPTION:FREE for members\n$20 for future-members
URL:https://visitpikeville.com/event/lunch-learn-with-american-heart-association/
LOCATION:Garfield House\, 178 College Street\, Pikeville\, KY\, 41501\, United States
CATEGORIES:Southeast Kentucky Chamber
ATTACH;FMTTYPE=image/png:https://visitpikeville.com/wp-content/uploads/2025/09/LL-Oct.2025-AmericanHeartAssociation.png
END:VEVENT
BEGIN:VEVENT
DTSTART;TZID=America/Kentucky/Louisville:20251014T163000
DTEND;TZID=America/Kentucky/Louisville:20251014T190000
DTSTAMP:20260423T124041
CREATED:20251006T122939Z
LAST-MODIFIED:20251006T122939Z
UID:69297-1760459400-1760468400@visitpikeville.com
SUMMARY:Pikeville Farmers Market
DESCRIPTION:Farmers Market season is starting to wind down! Make sure you come check it out before it’s too late 
URL:https://visitpikeville.com/event/pikeville-farmers-market-7-2/
LOCATION:Pikeville Farmer’s Market\, 130 Adams Lane\, Pikeville\, Ky
CATEGORIES:Pikeville Farmers Market
ATTACH;FMTTYPE=image/jpeg:https://visitpikeville.com/wp-content/uploads/2025/10/farmers-market.jpg
END:VEVENT
BEGIN:VEVENT
DTSTART;TZID=America/Kentucky/Louisville:20251014T170000
DTEND;TZID=America/Kentucky/Louisville:20251014T180000
DTSTAMP:20260423T124041
CREATED:20251013T134223Z
LAST-MODIFIED:20251013T134223Z
UID:69707-1760461200-1760464800@visitpikeville.com
SUMMARY:Adult Guitar Class 1
DESCRIPTION:Beginner guitar lessons for patrons ages 18+. This class meets weekly on Tuesdays at 5:00. Please bring your own instrument. Registration required. \n\n\n\n\n\n\n  \nCall the library at 606-437-6001 to check availability.
URL:https://visitpikeville.com/event/adult-guitar-class-4-2-2-2-2-2-2-2-2-2-2-2-2-2-3-3-2/
LOCATION:Pike County Public Library\, 126 Lee Avenue\, Pikeville\, KY\, 41501\, United States
CATEGORIES:Pike County Public Library
ATTACH;FMTTYPE=image/png:https://visitpikeville.com/wp-content/uploads/2025/05/theory.png
END:VEVENT
BEGIN:VEVENT
DTSTART;TZID=America/Kentucky/Louisville:20251014T170000
DTEND;TZID=America/Kentucky/Louisville:20251014T183000
DTSTAMP:20260423T124041
CREATED:20250929T141440Z
LAST-MODIFIED:20250929T141440Z
UID:69036-1760461200-1760466600@visitpikeville.com
SUMMARY:Painting Workshop
DESCRIPTION:Join us for a fun\, step-by-step painting workshop led by Kenna’s Creative Canvas! Create your own ‘October Night’ masterpiece with guided instruction. All materials are provided.\nRegistration required. This program is for teens and adults.\nTo register for October 14th\, click here: https://informationplace.libnet.info/event/14644132\nTo register for October 21st\, click here: https://informationplace.libnet.info/event/14644156\nRegistration Policy: Registration secures your place in the program\, and spaces often fill quickly. If you are registered but unable to attend\, please let us know so that another patron may take your place. The library will hold reserved seats for 10 minutes after the program begins. After this grace period\, any unclaimed places may be offered to patrons on standby.
URL:https://visitpikeville.com/event/painting-workshop/
LOCATION:Pike County Public Library\, 126 Lee Avenue\, Pikeville\, KY\, 41501\, United States
CATEGORIES:Pike County Public Library
ATTACH;FMTTYPE=image/jpeg:https://visitpikeville.com/wp-content/uploads/2025/09/WORKSHOP.jpg
END:VEVENT
BEGIN:VEVENT
DTSTART;TZID=America/Kentucky/Louisville:20251014T173000
DTEND;TZID=America/Kentucky/Louisville:20251014T184500
DTSTAMP:20260423T124041
CREATED:20250908T134715Z
LAST-MODIFIED:20250908T134715Z
UID:68127-1760463000-1760467500@visitpikeville.com
SUMMARY:Jazz Hands with Jen!
DESCRIPTION:Sep 16 – Oct 21st\, 2025 \nTUESDAY CLASS BREAKDOWN:\n• GRADES 1-6: 5:30PM – 6:45PM\n• GRADES 7–12: 7:00PM – 8:30PM \nINSTRUCTOR: JENNIFER DAWN HARTSTOCK \n\n\n\n\nGet ready to sing\, dance\, and shine in Jazz Hands with Jen—a high-energy musical theatre workshop at the Appalachian Center for the Arts Academy! \nThis fall\, we’re bringing the magic of Disney’s High School Musical to life with the anthem “We’re All in This Together.” Students will learn a full production number to perform in our end-of-session Show & Tell Showcase—a celebration of teamwork\, creativity\, and confidence on stage. \nNo experience required—just bring your enthusiasm\, your voice\, your moves\, and your team spirit!
URL:https://visitpikeville.com/event/jazz-hands-with-jen-2-2-2-2/
LOCATION:Appalachian Center for the Arts\, 218 2nd St\,\, Pikeville\, Ky\, 41501
CATEGORIES:The Appalachian Center for the Arts
ATTACH;FMTTYPE=image/jpeg:https://visitpikeville.com/wp-content/uploads/2025/09/jazz.jpg
END:VEVENT
BEGIN:VEVENT
DTSTART;TZID=America/Kentucky/Louisville:20251014T180000
DTEND;TZID=America/Kentucky/Louisville:20251014T190000
DTSTAMP:20260423T124041
CREATED:20251006T144257Z
LAST-MODIFIED:20251006T144257Z
UID:69422-1760464800-1760468400@visitpikeville.com
SUMMARY:Book Club
DESCRIPTION: Join UPIKE’s Center for Public Service for this October’s community Book Club! We’ll be reading Darkwater by W.E.B. Du Bois—an influential collection exploring democracy\, citizenship and civil rights. Faithlife Market\, downtown Pikeville Tuesdays in October |  6–7 p.m. Free book\, coffee & light refreshments
URL:https://visitpikeville.com/event/book-club-2/
LOCATION:Faith Life Market\, 130 Division St\,\, Pikeville\, KY\, 41501\, United States
CATEGORIES:UPike
ATTACH;FMTTYPE=image/jpeg:https://visitpikeville.com/wp-content/uploads/2025/10/book.jpg
END:VEVENT
BEGIN:VEVENT
DTSTART;TZID=America/Kentucky/Louisville:20251014T180000
DTEND;TZID=America/Kentucky/Louisville:20251014T191500
DTSTAMP:20260423T124041
CREATED:20250908T141342Z
LAST-MODIFIED:20250908T141342Z
UID:68151-1760464800-1760469300@visitpikeville.com
SUMMARY:With Imagination
DESCRIPTION:Sep 16 – Oct 21st\, 2025 \nTUESDAYS 6:00PM – 7:15PM \nINSTRUCTOR: Audrey Kuykendall \n\n\n\n\nThis class invites curious persons of all experience levels and physical abilities to explore body-based storytelling in a way that is adaptable\, creative\, and supportive through guided exercises and ensemble work inspired by Michael Chekhov’s Psychological Gesture. \nWhether you’re a novice public speaker or a veteran stage performer\, let’s discover simple\, adaptable tools to authentically express creativity\, exude confidence\, and explore connection. \nAll bodies and abilities are welcome\, and movement is always offered with options that work for you. Experience unnecessary—just a willingness to move\, explore\, and create.
URL:https://visitpikeville.com/event/with-imagination-2-2-2-2/
LOCATION:Appalachian Center for the Arts\, 218 2nd St\,\, Pikeville\, Ky\, 41501
CATEGORIES:The Appalachian Center for the Arts
ATTACH;FMTTYPE=image/jpeg:https://visitpikeville.com/wp-content/uploads/2025/09/jazz.jpg
END:VEVENT
BEGIN:VEVENT
DTSTART;TZID=America/Kentucky/Louisville:20251014T190000
DTEND;TZID=America/Kentucky/Louisville:20251014T203000
DTSTAMP:20260423T124041
CREATED:20250908T140407Z
LAST-MODIFIED:20250908T140407Z
UID:68139-1760468400-1760473800@visitpikeville.com
SUMMARY:Jazz Hands with Jen!
DESCRIPTION:Sep 16 – Oct 21st\, 2025 \nTUESDAY CLASS BREAKDOWN:\n• GRADES 1-6: 5:30PM – 6:45PM\n• GRADES 7–12: 7:00PM – 8:30PM \nINSTRUCTOR: JENNIFER DAWN HARTSTOCK \n\n\n\n\nGet ready to sing\, dance\, and shine in Jazz Hands with Jen—a high-energy musical theatre workshop at the Appalachian Center for the Arts Academy! \nThis fall\, we’re bringing the magic of Disney’s High School Musical to life with the anthem “We’re All in This Together.” Students will learn a full production number to perform in our end-of-session Show & Tell Showcase—a celebration of teamwork\, creativity\, and confidence on stage. \nNo experience required—just bring your enthusiasm\, your voice\, your moves\, and your team spirit!
URL:https://visitpikeville.com/event/jazz-hands-with-jen-2-2-2-2-2-2-2-2-2-2/
LOCATION:Appalachian Center for the Arts\, 218 2nd St\,\, Pikeville\, Ky\, 41501
CATEGORIES:The Appalachian Center for the Arts
ATTACH;FMTTYPE=image/jpeg:https://visitpikeville.com/wp-content/uploads/2025/09/jazz.jpg
END:VEVENT
END:VCALENDAR