BEGIN:VCALENDAR
VERSION:2.0
PRODID:-//Visit Pikeville - ECPv6.15.20//NONSGML v1.0//EN
CALSCALE:GREGORIAN
METHOD:PUBLISH
X-WR-CALNAME:Visit Pikeville
X-ORIGINAL-URL:https://visitpikeville.com
X-WR-CALDESC:Events for Visit Pikeville
REFRESH-INTERVAL;VALUE=DURATION:PT1H
X-Robots-Tag:noindex
X-PUBLISHED-TTL:PT1H
BEGIN:VTIMEZONE
TZID:America/Kentucky/Louisville
BEGIN:DAYLIGHT
TZOFFSETFROM:-0500
TZOFFSETTO:-0400
TZNAME:EDT
DTSTART:20240310T070000
END:DAYLIGHT
BEGIN:STANDARD
TZOFFSETFROM:-0400
TZOFFSETTO:-0500
TZNAME:EST
DTSTART:20241103T060000
END:STANDARD
BEGIN:DAYLIGHT
TZOFFSETFROM:-0500
TZOFFSETTO:-0400
TZNAME:EDT
DTSTART:20250309T070000
END:DAYLIGHT
BEGIN:STANDARD
TZOFFSETFROM:-0400
TZOFFSETTO:-0500
TZNAME:EST
DTSTART:20251102T060000
END:STANDARD
BEGIN:DAYLIGHT
TZOFFSETFROM:-0500
TZOFFSETTO:-0400
TZNAME:EDT
DTSTART:20260308T070000
END:DAYLIGHT
BEGIN:STANDARD
TZOFFSETFROM:-0400
TZOFFSETTO:-0500
TZNAME:EST
DTSTART:20261101T060000
END:STANDARD
END:VTIMEZONE
BEGIN:VEVENT
DTSTART;TZID=America/Kentucky/Louisville:20251012T150000
DTEND;TZID=America/Kentucky/Louisville:20251012T170000
DTSTAMP:20260423T124409
CREATED:20250217T152413Z
LAST-MODIFIED:20250217T152413Z
UID:62918-1760281200-1760288400@visitpikeville.com
SUMMARY:The Lightning Thief: The Percy Jackson Musical
DESCRIPTION:As the half-blood son of a Greek god\, Percy Jackson has newly-discovered powers he can’t control\, a destiny he doesn’t want\, and a mythology textbook’s worth of monsters on his trail. When Zeus’s master lightning bolt is stolen and Percy becomes the prime suspect\, he has to find and return the bolt to prove his innocence and prevent a war between the gods. \nBut to succeed on his quest\, Percy will have to do more than catch the thief. He must travel to the Underworld and back; solve the riddle of the Oracle\, which warns him of betrayal by a friend; and come to terms with the father who abandoned him. \nAdapted from the best-selling book The Lightning Thief by Rick Riordan and featuring a thrilling original rock score\, The Lightning Thief: The Percy Jackson Musical is an action-packed mythical adventure “worthy of the gods” (Time Out New York). \nGeneral Admission Tickets:\nIn Advance:\nAdult: $20 | Kids (up to 18) | Seniors (65+) $13 \nAt Door:\nAdult: $22 | Kids (up to 18) | Seniors (65+) $15
URL:https://visitpikeville.com/event/the-lightning-thief-the-percy-jackson-musical-2-2/
LOCATION:Appalachian Center for the Arts\, 218 2nd St\,\, Pikeville\, Ky\, 41501
CATEGORIES:The Appalachian Center for the Arts
ATTACH;FMTTYPE=image/jpeg:https://visitpikeville.com/wp-content/uploads/2025/02/lightning.jpg
END:VEVENT
END:VCALENDAR