BEGIN:VCALENDAR
VERSION:2.0
PRODID:-//Visit Pikeville - ECPv6.15.20//NONSGML v1.0//EN
CALSCALE:GREGORIAN
METHOD:PUBLISH
X-ORIGINAL-URL:https://visitpikeville.com
X-WR-CALDESC:Events for Visit Pikeville
REFRESH-INTERVAL;VALUE=DURATION:PT1H
X-Robots-Tag:noindex
X-PUBLISHED-TTL:PT1H
BEGIN:VTIMEZONE
TZID:America/Kentucky/Louisville
BEGIN:DAYLIGHT
TZOFFSETFROM:-0500
TZOFFSETTO:-0400
TZNAME:EDT
DTSTART:20240310T070000
END:DAYLIGHT
BEGIN:STANDARD
TZOFFSETFROM:-0400
TZOFFSETTO:-0500
TZNAME:EST
DTSTART:20241103T060000
END:STANDARD
BEGIN:DAYLIGHT
TZOFFSETFROM:-0500
TZOFFSETTO:-0400
TZNAME:EDT
DTSTART:20250309T070000
END:DAYLIGHT
BEGIN:STANDARD
TZOFFSETFROM:-0400
TZOFFSETTO:-0500
TZNAME:EST
DTSTART:20251102T060000
END:STANDARD
BEGIN:DAYLIGHT
TZOFFSETFROM:-0500
TZOFFSETTO:-0400
TZNAME:EDT
DTSTART:20260308T070000
END:DAYLIGHT
BEGIN:STANDARD
TZOFFSETFROM:-0400
TZOFFSETTO:-0500
TZNAME:EST
DTSTART:20261101T060000
END:STANDARD
END:VTIMEZONE
BEGIN:VEVENT
DTSTART;TZID=America/Kentucky/Louisville:20250922T080000
DTEND;TZID=America/Kentucky/Louisville:20251010T170000
DTSTAMP:20260423T124503
CREATED:20250922T131410Z
LAST-MODIFIED:20250922T131410Z
UID:68731-1758528000-1760115600@visitpikeville.com
SUMMARY:Apply for a Banner to Honor your Hometown Hero
DESCRIPTION: Veterans Day Hometown HERO Banners We’re honored to celebrate our local heroes again this year! We will be accepting only the first 75 applicants who submit a completed form along with a photo of their Veteran. Submit early to ensure your hero is featured! Application form is attached — don’t wait!PLEASE NOTE: Once the banners are taken down after Veterans Day\, you will need to pick yours up. We won’t be able to deliver them. Sadly\, we still have several from the past two years that were never picked up.Let’s come together to recognize the brave men and women who’ve served our country. 
URL:https://visitpikeville.com/event/apply-for-a-banner-to-honor-your-hometown-hero-2/
LOCATION:Pikeville-Pike County Tourism Welcome Center\, 685 Hambley Blvd\, KY\, 41501\, United States
CATEGORIES:City of Pikeville,Pikeville Tourism
ATTACH;FMTTYPE=image/jpeg:https://visitpikeville.com/wp-content/uploads/2025/09/BANNER.jpg
END:VEVENT
BEGIN:VEVENT
DTSTART;TZID=America/Kentucky/Louisville:20251007T163000
DTEND;TZID=America/Kentucky/Louisville:20251007T190000
DTSTAMP:20260423T124503
CREATED:20251006T122858Z
LAST-MODIFIED:20251006T122858Z
UID:69294-1759854600-1759863600@visitpikeville.com
SUMMARY:Pikeville Farmers Market
DESCRIPTION:Farmers Market season is starting to wind down! Make sure you come check it out before it’s too late 
URL:https://visitpikeville.com/event/pikeville-farmers-market-7/
LOCATION:Pikeville Farmer’s Market\, 130 Adams Lane\, Pikeville\, Ky
CATEGORIES:Pikeville Farmers Market
ATTACH;FMTTYPE=image/jpeg:https://visitpikeville.com/wp-content/uploads/2025/10/farmers-market.jpg
END:VEVENT
BEGIN:VEVENT
DTSTART;TZID=America/Kentucky/Louisville:20251007T170000
DTEND;TZID=America/Kentucky/Louisville:20251007T180000
DTSTAMP:20260423T124503
CREATED:20250922T132304Z
LAST-MODIFIED:20250922T132304Z
UID:68735-1759856400-1759860000@visitpikeville.com
SUMMARY:Zombies at the Story Trail
DESCRIPTION:Attention zombies! Shuffle your way to the Story Trail to read “Peanut Butter and Brains” by Joe McGee and Charles Santoso. Stay and make creepy-cute Zombie Mobiles—the ghoulishly good craft that lets you decorate and assemble your very own dangling zombies to scare (or delight!) all your friends. Costumes encouraged!\nThis program will be held Tuesday\, October 7th at 5:00 at the Story Trail. No registration required.\nWhat is the Story Trail? The Story Trail is a quarter mile\, handicapped accessible trail located at Bob Amos Park between the Overlook Events Center and Muddy Boots horse stable. Along the trail are posts that contain pages of a story book that change regularly\, so families can read a story as they walk the trail.\nWhere is the Story Trail? To best find the Story Trail\, enter the Overlook Events Center into your GPS (891 Bob Amos Dr Pikeville\, KY). The trail is on the road to the Events Center\, just before you come to their parking lot. Look for our sign on the right!
URL:https://visitpikeville.com/event/zombies-at-the-story-trail/
LOCATION:The Story Trail\, 424 Bob Amos Dr\,\, Pikeville\, KY\, 41501\, United States
CATEGORIES:City of Pikeville,Pike County Public Library
ATTACH;FMTTYPE=image/jpeg:https://visitpikeville.com/wp-content/uploads/2025/09/zombies.jpg
END:VEVENT
BEGIN:VEVENT
DTSTART;TZID=America/Kentucky/Louisville:20251007T170000
DTEND;TZID=America/Kentucky/Louisville:20251007T180000
DTSTAMP:20260423T124503
CREATED:20251013T134146Z
LAST-MODIFIED:20251013T134146Z
UID:69705-1759856400-1759860000@visitpikeville.com
SUMMARY:Adult Guitar Class 1
DESCRIPTION:Beginner guitar lessons for patrons ages 18+. This class meets weekly on Tuesdays at 5:00. Please bring your own instrument. Registration required. \n\n\n\n\n\n\n  \nCall the library at 606-437-6001 to check availability.
URL:https://visitpikeville.com/event/adult-guitar-class-4-2-2-2-2-2-2-2-2-2-2-2-2-2-3-3/
LOCATION:Pike County Public Library\, 126 Lee Avenue\, Pikeville\, KY\, 41501\, United States
CATEGORIES:Pike County Public Library
ATTACH;FMTTYPE=image/png:https://visitpikeville.com/wp-content/uploads/2025/05/theory.png
END:VEVENT
BEGIN:VEVENT
DTSTART;TZID=America/Kentucky/Louisville:20251007T170000
DTEND;TZID=America/Kentucky/Louisville:20251007T183000
DTSTAMP:20260423T124503
CREATED:20251006T122422Z
LAST-MODIFIED:20251006T122422Z
UID:69290-1759856400-1759861800@visitpikeville.com
SUMMARY:Pike County Fiscal Court Meeting
DESCRIPTION:  \n5:30pm @ Old Courthouse
URL:https://visitpikeville.com/event/pike-county-fiscal-court-meeting-2-2-2-2-2-2-2-2-3-2-2-2-2-2-2-2-2-2-2-2-2-2-2-2-2-2-2-2/
LOCATION:Pike County Clerk\, 146 Main St\,\, Pikeville\, 41501\, United States
CATEGORIES:City of Pikeville
ATTACH;FMTTYPE=image/png:https://visitpikeville.com/wp-content/uploads/2023/09/image001.png
END:VEVENT
BEGIN:VEVENT
DTSTART;TZID=America/Kentucky/Louisville:20251007T173000
DTEND;TZID=America/Kentucky/Louisville:20251007T184500
DTSTAMP:20260423T124503
CREATED:20250908T134649Z
LAST-MODIFIED:20250908T134649Z
UID:68125-1759858200-1759862700@visitpikeville.com
SUMMARY:Jazz Hands with Jen!
DESCRIPTION:Sep 16 – Oct 21st\, 2025 \nTUESDAY CLASS BREAKDOWN:\n• GRADES 1-6: 5:30PM – 6:45PM\n• GRADES 7–12: 7:00PM – 8:30PM \nINSTRUCTOR: JENNIFER DAWN HARTSTOCK \n\n\n\n\nGet ready to sing\, dance\, and shine in Jazz Hands with Jen—a high-energy musical theatre workshop at the Appalachian Center for the Arts Academy! \nThis fall\, we’re bringing the magic of Disney’s High School Musical to life with the anthem “We’re All in This Together.” Students will learn a full production number to perform in our end-of-session Show & Tell Showcase—a celebration of teamwork\, creativity\, and confidence on stage. \nNo experience required—just bring your enthusiasm\, your voice\, your moves\, and your team spirit!
URL:https://visitpikeville.com/event/jazz-hands-with-jen-2-2-2/
LOCATION:Appalachian Center for the Arts\, 218 2nd St\,\, Pikeville\, Ky\, 41501
CATEGORIES:The Appalachian Center for the Arts
ATTACH;FMTTYPE=image/jpeg:https://visitpikeville.com/wp-content/uploads/2025/09/jazz.jpg
END:VEVENT
BEGIN:VEVENT
DTSTART;TZID=America/Kentucky/Louisville:20251007T180000
DTEND;TZID=America/Kentucky/Louisville:20251007T190000
DTSTAMP:20260423T124503
CREATED:20251006T144224Z
LAST-MODIFIED:20251006T144224Z
UID:69419-1759860000-1759863600@visitpikeville.com
SUMMARY:Book Club
DESCRIPTION: Join UPIKE’s Center for Public Service for this October’s community Book Club! We’ll be reading Darkwater by W.E.B. Du Bois—an influential collection exploring democracy\, citizenship and civil rights. Faithlife Market\, downtown Pikeville Tuesdays in October |  6–7 p.m. Free book\, coffee & light refreshments
URL:https://visitpikeville.com/event/book-club/
LOCATION:Faith Life Market\, 130 Division St\,\, Pikeville\, KY\, 41501\, United States
CATEGORIES:UPike
ATTACH;FMTTYPE=image/jpeg:https://visitpikeville.com/wp-content/uploads/2025/10/book.jpg
END:VEVENT
BEGIN:VEVENT
DTSTART;TZID=America/Kentucky/Louisville:20251007T180000
DTEND;TZID=America/Kentucky/Louisville:20251007T191500
DTSTAMP:20260423T124503
CREATED:20250908T141303Z
LAST-MODIFIED:20250908T141303Z
UID:68149-1759860000-1759864500@visitpikeville.com
SUMMARY:With Imagination
DESCRIPTION:Sep 16 – Oct 21st\, 2025 \nTUESDAYS 6:00PM – 7:15PM \nINSTRUCTOR: Audrey Kuykendall \n\n\n\n\nThis class invites curious persons of all experience levels and physical abilities to explore body-based storytelling in a way that is adaptable\, creative\, and supportive through guided exercises and ensemble work inspired by Michael Chekhov’s Psychological Gesture. \nWhether you’re a novice public speaker or a veteran stage performer\, let’s discover simple\, adaptable tools to authentically express creativity\, exude confidence\, and explore connection. \nAll bodies and abilities are welcome\, and movement is always offered with options that work for you. Experience unnecessary—just a willingness to move\, explore\, and create.
URL:https://visitpikeville.com/event/with-imagination-2-2-2/
LOCATION:Appalachian Center for the Arts\, 218 2nd St\,\, Pikeville\, Ky\, 41501
CATEGORIES:The Appalachian Center for the Arts
ATTACH;FMTTYPE=image/jpeg:https://visitpikeville.com/wp-content/uploads/2025/09/jazz.jpg
END:VEVENT
BEGIN:VEVENT
DTSTART;TZID=America/Kentucky/Louisville:20251007T190000
DTEND;TZID=America/Kentucky/Louisville:20251007T203000
DTSTAMP:20260423T124503
CREATED:20250908T135401Z
LAST-MODIFIED:20250908T135401Z
UID:68137-1759863600-1759869000@visitpikeville.com
SUMMARY:Jazz Hands with Jen!
DESCRIPTION:Sep 16 – Oct 21st\, 2025 \nTUESDAY CLASS BREAKDOWN:\n• GRADES 1-6: 5:30PM – 6:45PM\n• GRADES 7–12: 7:00PM – 8:30PM \nINSTRUCTOR: JENNIFER DAWN HARTSTOCK \n\n\n\n\nGet ready to sing\, dance\, and shine in Jazz Hands with Jen—a high-energy musical theatre workshop at the Appalachian Center for the Arts Academy! \nThis fall\, we’re bringing the magic of Disney’s High School Musical to life with the anthem “We’re All in This Together.” Students will learn a full production number to perform in our end-of-session Show & Tell Showcase—a celebration of teamwork\, creativity\, and confidence on stage. \nNo experience required—just bring your enthusiasm\, your voice\, your moves\, and your team spirit!
URL:https://visitpikeville.com/event/jazz-hands-with-jen-2-2-2-2-2-2-2-2-2/
LOCATION:Appalachian Center for the Arts\, 218 2nd St\,\, Pikeville\, Ky\, 41501
CATEGORIES:The Appalachian Center for the Arts
ATTACH;FMTTYPE=image/jpeg:https://visitpikeville.com/wp-content/uploads/2025/09/jazz.jpg
END:VEVENT
END:VCALENDAR