BEGIN:VCALENDAR
VERSION:2.0
PRODID:-//Visit Pikeville - ECPv6.15.20//NONSGML v1.0//EN
CALSCALE:GREGORIAN
METHOD:PUBLISH
X-WR-CALNAME:Visit Pikeville
X-ORIGINAL-URL:https://visitpikeville.com
X-WR-CALDESC:Events for Visit Pikeville
REFRESH-INTERVAL;VALUE=DURATION:PT1H
X-Robots-Tag:noindex
X-PUBLISHED-TTL:PT1H
BEGIN:VTIMEZONE
TZID:America/Kentucky/Louisville
BEGIN:DAYLIGHT
TZOFFSETFROM:-0500
TZOFFSETTO:-0400
TZNAME:EDT
DTSTART:20240310T070000
END:DAYLIGHT
BEGIN:STANDARD
TZOFFSETFROM:-0400
TZOFFSETTO:-0500
TZNAME:EST
DTSTART:20241103T060000
END:STANDARD
BEGIN:DAYLIGHT
TZOFFSETFROM:-0500
TZOFFSETTO:-0400
TZNAME:EDT
DTSTART:20250309T070000
END:DAYLIGHT
BEGIN:STANDARD
TZOFFSETFROM:-0400
TZOFFSETTO:-0500
TZNAME:EST
DTSTART:20251102T060000
END:STANDARD
BEGIN:DAYLIGHT
TZOFFSETFROM:-0500
TZOFFSETTO:-0400
TZNAME:EDT
DTSTART:20260308T070000
END:DAYLIGHT
BEGIN:STANDARD
TZOFFSETFROM:-0400
TZOFFSETTO:-0500
TZNAME:EST
DTSTART:20261101T060000
END:STANDARD
END:VTIMEZONE
BEGIN:VEVENT
DTSTART;TZID=America/Kentucky/Louisville:20250922T080000
DTEND;TZID=America/Kentucky/Louisville:20251010T170000
DTSTAMP:20260423T110959
CREATED:20250922T131410Z
LAST-MODIFIED:20250922T131410Z
UID:68731-1758528000-1760115600@visitpikeville.com
SUMMARY:Apply for a Banner to Honor your Hometown Hero
DESCRIPTION: Veterans Day Hometown HERO Banners We’re honored to celebrate our local heroes again this year! We will be accepting only the first 75 applicants who submit a completed form along with a photo of their Veteran. Submit early to ensure your hero is featured! Application form is attached — don’t wait!PLEASE NOTE: Once the banners are taken down after Veterans Day\, you will need to pick yours up. We won’t be able to deliver them. Sadly\, we still have several from the past two years that were never picked up.Let’s come together to recognize the brave men and women who’ve served our country. 
URL:https://visitpikeville.com/event/apply-for-a-banner-to-honor-your-hometown-hero-2/
LOCATION:Pikeville-Pike County Tourism Welcome Center\, 685 Hambley Blvd\, KY\, 41501\, United States
CATEGORIES:City of Pikeville,Pikeville Tourism
ATTACH;FMTTYPE=image/jpeg:https://visitpikeville.com/wp-content/uploads/2025/09/BANNER.jpg
END:VEVENT
BEGIN:VEVENT
DTSTART;TZID=America/Kentucky/Louisville:20250925T130000
DTEND;TZID=America/Kentucky/Louisville:20250925T160000
DTSTAMP:20260423T110959
CREATED:20250915T133720Z
LAST-MODIFIED:20250915T133720Z
UID:68472-1758805200-1758816000@visitpikeville.com
SUMMARY:Child Safety Seat Check
DESCRIPTION:@Pikeville Walmart
URL:https://visitpikeville.com/event/child-safety-seat-check-2/
LOCATION:Pikeville Walmart Supercenter\, 254 Cassady Blvd\,\, Pikeville\, KY\, 41501\, United States
CATEGORIES:Pike County Health Department
ATTACH;FMTTYPE=image/jpeg:https://visitpikeville.com/wp-content/uploads/2025/09/seat.jpg
END:VEVENT
BEGIN:VEVENT
DTSTART;TZID=America/Kentucky/Louisville:20250925T160000
DTEND;TZID=America/Kentucky/Louisville:20250925T170000
DTSTAMP:20260423T110959
CREATED:20250902T143817Z
LAST-MODIFIED:20250902T143817Z
UID:67811-1758816000-1758819600@visitpikeville.com
SUMMARY:Teen Guitar Class 2
DESCRIPTION:Beginner guitar lessons for patrons ages 13-17. This class meets weekly on Thursdays at 4:00. Please bring your own instrument. Registration required. \n\n\n\n\n\n\n  \nPlease call the library at 606-437-6001 to check availability.
URL:https://visitpikeville.com/event/teen-guitar-class-3-2-2-2-2-2-2-2-2-3-2-2-2-2-2-2-2-2/
LOCATION:Pike County Public Library\, 126 Lee Avenue\, Pikeville\, KY\, 41501\, United States
CATEGORIES:Pike County Public Library
ATTACH;FMTTYPE=image/png:https://visitpikeville.com/wp-content/uploads/2025/05/theory.png
END:VEVENT
BEGIN:VEVENT
DTSTART;TZID=America/Kentucky/Louisville:20250925T170000
DTEND;TZID=America/Kentucky/Louisville:20250925T180000
DTSTAMP:20260423T110959
CREATED:20250902T144906Z
LAST-MODIFIED:20250902T144906Z
UID:67835-1758819600-1758823200@visitpikeville.com
SUMMARY:Guitar Scales and Technique Class
DESCRIPTION:Enhance your playing with a focus on scales\, finger exercises\, and technique-building drills.\nThis class will help you improve speed\, accuracy\, and fretboard knowledge while incorporating practical applications for soloing and improvisation. Perfect for players looking to refine their skills and expand their musical vocabulary. Must bring your own instrument.\nGuitar Scales and Technique Class will be held on alternating Saturdays at 4:00 at the Pike County Public Library (Lee Ave) beginning April 12.\nRegistration is required; please call the library at 606-437-6001.
URL:https://visitpikeville.com/event/guitar-scales-and-technique-class-2-2-2-2-2-2-2-2-2-2-2-2/
LOCATION:Pike County Public Library\, 126 Lee Avenue\, Pikeville\, KY\, 41501\, United States
CATEGORIES:Pike County Public Library
ATTACH;FMTTYPE=image/jpeg:https://visitpikeville.com/wp-content/uploads/2025/03/guitar-scales.jpg
END:VEVENT
BEGIN:VEVENT
DTSTART;TZID=America/Kentucky/Louisville:20250925T170000
DTEND;TZID=America/Kentucky/Louisville:20250925T184500
DTSTAMP:20260423T110959
CREATED:20250902T145017Z
LAST-MODIFIED:20250902T145017Z
UID:67839-1758819600-1758825900@visitpikeville.com
SUMMARY:Dungeons and Dragons
DESCRIPTION:Dungeons and Dragons Group meets every other Thursday at 5:00 at the Pike County Public Library (Lee Avenue). Beginners and experienced players alike are welcome. \n\n\n\n\n\n\n  \nDungeons and Dragons is a role playing game (RPG) where a single player plays as the Dungeon Master\, creating a world that the players interact with. Players act as a group of adventurers working together to complete quests\, slay monsters\, and achieve their own personal goals. The game uses a series of dice to help simulate how successful characters and monsters are at achieving their various goals.
URL:https://visitpikeville.com/event/dungeons-and-dragons-7-2-2-2-2-2-2/
LOCATION:Pike County Public Library\, 126 Lee Avenue\, Pikeville\, KY\, 41501\, United States
CATEGORIES:Pike County Public Library
ATTACH;FMTTYPE=image/png:https://visitpikeville.com/wp-content/uploads/2025/06/D_D_Group.png
END:VEVENT
BEGIN:VEVENT
DTSTART;TZID=America/Kentucky/Louisville:20250925T170000
DTEND;TZID=America/Kentucky/Louisville:20250925T210000
DTSTAMP:20260423T110959
CREATED:20250908T144259Z
LAST-MODIFIED:20250908T144259Z
UID:68185-1758819600-1758834000@visitpikeville.com
SUMMARY:Beginners Sewing
DESCRIPTION:Come and Join Us
URL:https://visitpikeville.com/event/beginners-sewing-2-2-2-2-2-2-2-2-2-2-2-2-2-2-2-2-2-2-2-2-2-2-2-2-2-2-2-2-2-2-2-2-2-2-2-2-2-2-2-3-2-2-2-2-2-2-2-2-2-2-2-2-2-2/
LOCATION:Bridgett’s Quilting and Fabric Shop\, 237 2nd St\,\, Pikeville\, KY\, 41501\, United States
CATEGORIES:Pikeville Main Street
ATTACH;FMTTYPE=image/jpeg:https://visitpikeville.com/wp-content/uploads/2023/10/bridgetts.jpeg
END:VEVENT
BEGIN:VEVENT
DTSTART;TZID=America/Kentucky/Louisville:20250925T180000
DTEND;TZID=America/Kentucky/Louisville:20250925T190000
DTSTAMP:20260423T110959
CREATED:20250825T133247Z
LAST-MODIFIED:20250825T133247Z
UID:67506-1758823200-1758826800@visitpikeville.com
SUMMARY:Mushroom Bookend Craft
DESCRIPTION:Create a charming addition to your bookshelf! Participants will paint and assemble a pair of wooden mushroom-themed bookends. All supplies are provided. Registration required.\nThis program will be held at the Pike County Public Library (Lee Avenue) on Thursday\, September 25th at 5:00.\nRegistration Policy: Registration secures your place in the program\, and spaces often fill quickly. If you are registered but unable to attend\, please let us know so that another patron may take your place.\nThe library will hold reserved seats for 10 minutes after the program begins. After this grace period\, any unclaimed places may be offered to patrons on standby.\nClick here to register: https://informationplace.libnet.info/event/14446723
URL:https://visitpikeville.com/event/mushroom-bookend-craft/
LOCATION:Pike County Public Library\, 126 Lee Avenue\, Pikeville\, KY\, 41501\, United States
CATEGORIES:Pike County Public Library
ATTACH;FMTTYPE=image/jpeg:https://visitpikeville.com/wp-content/uploads/2025/08/bookends.jpg
END:VEVENT
BEGIN:VEVENT
DTSTART;TZID=America/Kentucky/Louisville:20250925T180000
DTEND;TZID=America/Kentucky/Louisville:20250925T200000
DTSTAMP:20260423T110959
CREATED:20250915T122643Z
LAST-MODIFIED:20250915T122643Z
UID:68441-1758823200-1758830400@visitpikeville.com
SUMMARY:Ballad Workshop
DESCRIPTION:Free workshop!\n\n\nWorkshop will be Thursday\, Sept. 25th at 6pm at the App. It’s open to adults and children 4 and up.\n\n\nReserve your spot now\, only 25 spots available!\n\n\nhttps://us.patronbase.com/_Appalachi…/Performances/List…\n\n\nBallad Workshop\nWorkshop info:\n\n\nJoin renowned ballad singer William Ritter for an engaging introduction to the art of Appalachian balladry. This beginner-friendly workshop will explore the rich tradition of storytelling through song and provide hands-on experience in crafting your own ballad.\n\n\nWhat is a Ballad? Learn about the essential characteristics of traditional ballads—their narrative structure\, musical qualities\, and role in preserving community stories and cultural memory. William will share examples from the Appalachian tradition and discuss how ballads have served as vessels for history\, emotion\, and shared experience.\n\n\nWorkshop Elements:\n– Understanding ballad structure: verses\, refrains\, and narrative arc\n– Exploring traditional themes: love\, loss\, heroism\, and everyday life\n– Finding your own story to tell through song\n– Group exercises in collaborative ballad creation\n\n\nHands-On Learning: Participants will work individually and in small groups to begin crafting their own ballads\, with guidance from William on developing compelling narratives\, creating effective rhyme schemes\, and finding the emotional heart of their stories. No previous songwriting experience necessary—just bring your curiosity and willingness to explore this timeless art form.\n\n\nBio:\n\n\nWilliam Ritter is a seasoned old-time fiddler\, seed-saver\, and ballad singer from the mountains of Mitchell County\, North Carolina. Deeply passionate about preserving and sharing the rich cultural heritage of his region\, William weaves together stories\, songs\, and seeds\, believing that these old ways hold the key to building resilient communities. His dedication to Appalachian traditions led him to a life-changing apprenticeship with renowned ballad singer and storyteller Bobby McMillon in 2020\, and the following year he released his first solo album\, Mentor\, paying tribute to the mentors who generously shared their wisdom and heritage with him. William performs regularly alongside Sheila Kay Adams\, Donna Ray Norton and other members of the ballad singing collective\, Nest of Singing Birds.\n\n\nWilliam’s music is a heartfelt blend of old-time fiddle tunes\, folk songs\, ballads\, and original compositions that celebrate seed-saving and cultural preservation. His performances and programs are enriched by tales and insights from his studies in Appalachian Roots Music and his experiences during porch visits\, bean-stringings\, and seed-swaps. He shares his passion for traditional music and foodways through performing\, teaching\, and writing\, continuing the vital work of cultural preservation for future generations.\n\n\nAll Tickets: Free\nFor adults and children ages 4 and up.
URL:https://visitpikeville.com/event/ballad-workshop/
LOCATION:Appalachian Center for the Arts\, 218 2nd St\,\, Pikeville\, Ky\, 41501
CATEGORIES:The Appalachian Center for the Arts
ATTACH;FMTTYPE=image/jpeg:https://visitpikeville.com/wp-content/uploads/2025/09/ballad.jpg
END:VEVENT
BEGIN:VEVENT
DTSTART;TZID=America/Kentucky/Louisville:20250925T193000
DTEND;TZID=America/Kentucky/Louisville:20250925T213000
DTSTAMP:20260423T110959
CREATED:20250908T144510Z
LAST-MODIFIED:20250908T144510Z
UID:68191-1758828600-1758835800@visitpikeville.com
SUMMARY:Trivia Night
DESCRIPTION:@ The Mine 606
URL:https://visitpikeville.com/event/trivia-night-9-2-2-2-2-2-2-2-2/
LOCATION:The Mine 606\, 121 Main St\, Pikeville\, KY\, 41501\, United States
CATEGORIES:Other
ATTACH;FMTTYPE=image/jpeg:https://visitpikeville.com/wp-content/uploads/2025/06/mine.jpg
END:VEVENT
END:VCALENDAR