BEGIN:VCALENDAR
VERSION:2.0
PRODID:-//Visit Pikeville - ECPv6.15.20//NONSGML v1.0//EN
CALSCALE:GREGORIAN
METHOD:PUBLISH
X-WR-CALNAME:Visit Pikeville
X-ORIGINAL-URL:https://visitpikeville.com
X-WR-CALDESC:Events for Visit Pikeville
REFRESH-INTERVAL;VALUE=DURATION:PT1H
X-Robots-Tag:noindex
X-PUBLISHED-TTL:PT1H
BEGIN:VTIMEZONE
TZID:America/Kentucky/Louisville
BEGIN:DAYLIGHT
TZOFFSETFROM:-0500
TZOFFSETTO:-0400
TZNAME:EDT
DTSTART:20240310T070000
END:DAYLIGHT
BEGIN:STANDARD
TZOFFSETFROM:-0400
TZOFFSETTO:-0500
TZNAME:EST
DTSTART:20241103T060000
END:STANDARD
BEGIN:DAYLIGHT
TZOFFSETFROM:-0500
TZOFFSETTO:-0400
TZNAME:EDT
DTSTART:20250309T070000
END:DAYLIGHT
BEGIN:STANDARD
TZOFFSETFROM:-0400
TZOFFSETTO:-0500
TZNAME:EST
DTSTART:20251102T060000
END:STANDARD
BEGIN:DAYLIGHT
TZOFFSETFROM:-0500
TZOFFSETTO:-0400
TZNAME:EDT
DTSTART:20260308T070000
END:DAYLIGHT
BEGIN:STANDARD
TZOFFSETFROM:-0400
TZOFFSETTO:-0500
TZNAME:EST
DTSTART:20261101T060000
END:STANDARD
END:VTIMEZONE
BEGIN:VEVENT
DTSTART;TZID=America/Kentucky/Louisville:20250922T080000
DTEND;TZID=America/Kentucky/Louisville:20251010T170000
DTSTAMP:20260423T110053
CREATED:20250922T131410Z
LAST-MODIFIED:20250922T131410Z
UID:68731-1758528000-1760115600@visitpikeville.com
SUMMARY:Apply for a Banner to Honor your Hometown Hero
DESCRIPTION: Veterans Day Hometown HERO Banners We’re honored to celebrate our local heroes again this year! We will be accepting only the first 75 applicants who submit a completed form along with a photo of their Veteran. Submit early to ensure your hero is featured! Application form is attached — don’t wait!PLEASE NOTE: Once the banners are taken down after Veterans Day\, you will need to pick yours up. We won’t be able to deliver them. Sadly\, we still have several from the past two years that were never picked up.Let’s come together to recognize the brave men and women who’ve served our country. 
URL:https://visitpikeville.com/event/apply-for-a-banner-to-honor-your-hometown-hero-2/
LOCATION:Pikeville-Pike County Tourism Welcome Center\, 685 Hambley Blvd\, KY\, 41501\, United States
CATEGORIES:City of Pikeville,Pikeville Tourism
ATTACH;FMTTYPE=image/jpeg:https://visitpikeville.com/wp-content/uploads/2025/09/BANNER.jpg
END:VEVENT
BEGIN:VEVENT
DTSTART;TZID=America/Kentucky/Louisville:20250924T100000
DTEND;TZID=America/Kentucky/Louisville:20250924T110000
DTSTAMP:20260423T110053
CREATED:20250908T152237Z
LAST-MODIFIED:20250908T152237Z
UID:68220-1758708000-1758711600@visitpikeville.com
SUMMARY:Pike County Fiscal Court Meeting
DESCRIPTION:Special Called Meeting \n10:00am @ Old Courthouse
URL:https://visitpikeville.com/event/pike-county-fiscal-court-meeting-2-2-2-2-2-2-2-2-3-2-2-2-2-2-2-2-2-2-2-2-2-2-2-2-2-2-2/
LOCATION:Pike County Clerk\, 146 Main St\,\, Pikeville\, 41501\, United States
CATEGORIES:City of Pikeville
ATTACH;FMTTYPE=image/png:https://visitpikeville.com/wp-content/uploads/2023/09/image001.png
END:VEVENT
BEGIN:VEVENT
DTSTART;TZID=America/Kentucky/Louisville:20250924T140000
DTEND;TZID=America/Kentucky/Louisville:20250924T150000
DTSTAMP:20260423T110053
CREATED:20250902T142128Z
LAST-MODIFIED:20250902T142128Z
UID:67794-1758722400-1758726000@visitpikeville.com
SUMMARY:Adult Guitar Class 2
DESCRIPTION:Beginner guitar lessons for patrons ages 18+. This class meets weekly on Wednesdays at 2:00. Please bring your own instrument. Registration required. \n\n\n\n\n\n\n  \nCall the library at 606-437-6001 to check availability.
URL:https://visitpikeville.com/event/adult-guitar-class-4-2-2-2-2-2-2-2-2-2-2-2-2-2-2-2-2-2-2-2-2-2/
LOCATION:Pike County Public Library\, 126 Lee Avenue\, Pikeville\, KY\, 41501\, United States
CATEGORIES:Pike County Public Library
ATTACH;FMTTYPE=image/png:https://visitpikeville.com/wp-content/uploads/2025/05/theory.png
END:VEVENT
BEGIN:VEVENT
DTSTART;TZID=America/Kentucky/Louisville:20250924T163000
DTEND;TZID=America/Kentucky/Louisville:20250924T173000
DTSTAMP:20260423T110053
CREATED:20250902T142625Z
LAST-MODIFIED:20250902T142625Z
UID:67802-1758731400-1758735000@visitpikeville.com
SUMMARY:Teen Guitar Class 1
DESCRIPTION:Beginner guitar lessons for patrons ages 13-17. This class meets weekly on Wednesdays at 4:30. Please bring your own instrument. Registration required. \n\n\n\n\n\n\n  \nPlease call the library at 606-437-6001 to check availability.
URL:https://visitpikeville.com/event/teen-guitar-class-3-2-2-2-2-2-2-2-2-2-2-2-2-2-2-2-2/
LOCATION:Pike County Public Library\, 126 Lee Avenue\, Pikeville\, KY\, 41501\, United States
CATEGORIES:Pike County Public Library
ATTACH;FMTTYPE=image/png:https://visitpikeville.com/wp-content/uploads/2025/05/theory.png
END:VEVENT
BEGIN:VEVENT
DTSTART;TZID=America/Kentucky/Louisville:20250924T170000
DTEND;TZID=America/Kentucky/Louisville:20250924T190000
DTSTAMP:20260423T110053
CREATED:20250609T114655Z
LAST-MODIFIED:20250609T114655Z
UID:64993-1758733200-1758740400@visitpikeville.com
SUMMARY:Women's Soccer vs Union Commonwealth University (Ky.)
DESCRIPTION:Game Day!
URL:https://visitpikeville.com/event/womens-soccer-vs-union-commonwealth-university-ky/
LOCATION:Bob Amos Park\, 424 Bob Amos Dr\, Pikeville\, Ky\, 41501
CATEGORIES:UPike
ATTACH;FMTTYPE=image/png:https://visitpikeville.com/wp-content/uploads/2025/06/Screenshot-2025-06-09-at-7.42.05 AM.png
END:VEVENT
BEGIN:VEVENT
DTSTART;TZID=America/Kentucky/Louisville:20250924T193000
DTEND;TZID=America/Kentucky/Louisville:20250924T213000
DTSTAMP:20260423T110053
CREATED:20250609T115013Z
LAST-MODIFIED:20250609T115013Z
UID:64996-1758742200-1758749400@visitpikeville.com
SUMMARY:Men's Soccer vs Union Commonwealth University (Ky.)
DESCRIPTION:Game Day!
URL:https://visitpikeville.com/event/mens-soccer-vs-union-commonwealth-university-ky/
LOCATION:Bob Amos Park\, 424 Bob Amos Dr\, Pikeville\, Ky\, 41501
CATEGORIES:UPike
ATTACH;FMTTYPE=image/png:https://visitpikeville.com/wp-content/uploads/2025/06/Screenshot-2025-06-09-at-7.48.10 AM.png
END:VEVENT
BEGIN:VEVENT
DTSTART;TZID=America/Kentucky/Louisville:20250924T193000
DTEND;TZID=America/Kentucky/Louisville:20250924T213000
DTSTAMP:20260423T110053
CREATED:20250908T143912Z
LAST-MODIFIED:20250908T143912Z
UID:68179-1758742200-1758749400@visitpikeville.com
SUMMARY:Bingo Night
DESCRIPTION:@ The Mine 606
URL:https://visitpikeville.com/event/bingo-night-2-2-2-2-2-2-2-2/
LOCATION:The Mine 606\, 121 Main St\, Pikeville\, KY\, 41501\, United States
CATEGORIES:Other
ATTACH;FMTTYPE=image/jpeg:https://visitpikeville.com/wp-content/uploads/2025/06/mine.jpg
END:VEVENT
END:VCALENDAR