BEGIN:VCALENDAR
VERSION:2.0
PRODID:-//Visit Pikeville - ECPv6.15.20//NONSGML v1.0//EN
CALSCALE:GREGORIAN
METHOD:PUBLISH
X-ORIGINAL-URL:https://visitpikeville.com
X-WR-CALDESC:Events for Visit Pikeville
REFRESH-INTERVAL;VALUE=DURATION:PT1H
X-Robots-Tag:noindex
X-PUBLISHED-TTL:PT1H
BEGIN:VTIMEZONE
TZID:America/Kentucky/Louisville
BEGIN:DAYLIGHT
TZOFFSETFROM:-0500
TZOFFSETTO:-0400
TZNAME:EDT
DTSTART:20240310T070000
END:DAYLIGHT
BEGIN:STANDARD
TZOFFSETFROM:-0400
TZOFFSETTO:-0500
TZNAME:EST
DTSTART:20241103T060000
END:STANDARD
BEGIN:DAYLIGHT
TZOFFSETFROM:-0500
TZOFFSETTO:-0400
TZNAME:EDT
DTSTART:20250309T070000
END:DAYLIGHT
BEGIN:STANDARD
TZOFFSETFROM:-0400
TZOFFSETTO:-0500
TZNAME:EST
DTSTART:20251102T060000
END:STANDARD
BEGIN:DAYLIGHT
TZOFFSETFROM:-0500
TZOFFSETTO:-0400
TZNAME:EDT
DTSTART:20260308T070000
END:DAYLIGHT
BEGIN:STANDARD
TZOFFSETFROM:-0400
TZOFFSETTO:-0500
TZNAME:EST
DTSTART:20261101T060000
END:STANDARD
END:VTIMEZONE
BEGIN:VEVENT
DTSTART;VALUE=DATE:20250919
DTEND;VALUE=DATE:20250921
DTSTAMP:20260423T111236
CREATED:20250714T140720Z
LAST-MODIFIED:20250915T123525Z
UID:65924-1758240000-1758412799@visitpikeville.com
SUMMARY:The Appalachian Moonshine\, Music\, & Makers Festival
DESCRIPTION:Mark your calendars!  The Appalachian Moonshine\, Music\, & Makers Festival is happening this Friday & Saturday\, September 19-20\, in downtown Pikeville! Get ready for a weekend of live music\, delicious food\, craft vendors\, and much more. Admission is FREE!
URL:https://visitpikeville.com/event/the-appalachian-moonshine-music-makers-festival-2/
LOCATION:KY
CATEGORIES:City of Pikeville
ATTACH;FMTTYPE=image/jpeg:https://visitpikeville.com/wp-content/uploads/2025/07/moonshine-1.jpg
END:VEVENT
BEGIN:VEVENT
DTSTART;TZID=America/Kentucky/Louisville:20250920T090000
DTEND;TZID=America/Kentucky/Louisville:20250920T120000
DTSTAMP:20260423T111236
CREATED:20250908T151005Z
LAST-MODIFIED:20250908T151005Z
UID:68217-1758358800-1758369600@visitpikeville.com
SUMMARY:Colors of Courage 5K
DESCRIPTION: Just Announced: Colors of Courage 5K has been RESCHEDULED!Due to the weather outlook\, the 10th Annual Colors of Courage 5K has been postponed. The new date is Saturday\, September 20th\, at 9:00 a.m. in downtown Pikeville. Pre-registration and early packet pick-up will be available on Friday\, September 19th. Registration remains open at $30 in advance and $35 on race day by visiting https://www.pikevillehospital.org/colorsofcourage/A big thank you to our inspiring Sponsors and the PMC & Lawson Cancer Center team who set up\, organized and made this event possible!We can’t wait to see our participants at the starting line as we honor the strength and courage of our patients\, their families and our community.
URL:https://visitpikeville.com/event/colors-of-courage-5k-2/
LOCATION:Main Street\, Main Street\, Pikeville\, KY\, 41501\, United States
CATEGORIES:Pikeville Medical Center
ATTACH;FMTTYPE=image/jpeg:https://visitpikeville.com/wp-content/uploads/2025/09/colors.jpg
END:VEVENT
BEGIN:VEVENT
DTSTART;TZID=America/Kentucky/Louisville:20250920T100000
DTEND;TZID=America/Kentucky/Louisville:20250920T120000
DTSTAMP:20260423T111236
CREATED:20250902T130624Z
LAST-MODIFIED:20250902T130624Z
UID:67750-1758362400-1758369600@visitpikeville.com
SUMMARY:3rd Annual Rally for Recovery
DESCRIPTION:For more info contact LaGenia Layne 606-434-6160 or genialayne@hotmail.com
URL:https://visitpikeville.com/event/3rd-annual-rally-for-recovery/
LOCATION:KY
CATEGORIES:Southeast Kentucky Chamber
ATTACH;FMTTYPE=image/jpeg:https://visitpikeville.com/wp-content/uploads/2025/09/recovery.jpg
END:VEVENT
BEGIN:VEVENT
DTSTART;TZID=America/Kentucky/Louisville:20250920T130000
DTEND;TZID=America/Kentucky/Louisville:20250920T150000
DTSTAMP:20260423T111236
CREATED:20250915T143640Z
LAST-MODIFIED:20250915T143640Z
UID:68485-1758373200-1758380400@visitpikeville.com
SUMMARY:Family Paint Class
DESCRIPTION:Family Paint Class — Saturday\, Sept. 20 at 1:00 PMBring the kiddos\, grandparents\, and all your creative cousins—this one’s for the whole crew!  no experience needed.Private message to reserve—spaces fill up quick!  2 Broke Art Teachers (Pikeville) All supplies included $20 each Perfect for ages 5 and up
URL:https://visitpikeville.com/event/family-paint-class-3/
LOCATION:2 Broke Art Teachers\, 4505 Weddington Square\,\, Pikeville\, KY\, 41501\, United States
CATEGORIES:Other
ATTACH;FMTTYPE=image/jpeg:https://visitpikeville.com/wp-content/uploads/2025/09/FAMILY.jpg
END:VEVENT
BEGIN:VEVENT
DTSTART;TZID=America/Kentucky/Louisville:20250920T160000
DTEND;TZID=America/Kentucky/Louisville:20250920T170000
DTSTAMP:20260423T111236
CREATED:20250902T144126Z
LAST-MODIFIED:20250902T144126Z
UID:67819-1758384000-1758387600@visitpikeville.com
SUMMARY:Chess Club
DESCRIPTION:Chess Group meets alternating Saturdays at 4:00 at the Pike County Public Library (Lee Avenue). \n\n\n\n\n\n\nAll ages are welcome and no experience is required. Learn how to play chess or play against other enthusiasts.
URL:https://visitpikeville.com/event/chess-club-2-2-2-2-2-2/
LOCATION:Pike County Public Library\, 126 Lee Avenue\, Pikeville\, KY\, 41501\, United States
CATEGORIES:Pike County Public Library
ATTACH;FMTTYPE=image/png:https://visitpikeville.com/wp-content/uploads/2025/06/Chess_Club_SAT.png
END:VEVENT
BEGIN:VEVENT
DTSTART;TZID=America/Kentucky/Louisville:20250920T170000
DTEND;TZID=America/Kentucky/Louisville:20250920T190000
DTSTAMP:20260423T111236
CREATED:20250915T143453Z
LAST-MODIFIED:20250915T143453Z
UID:68482-1758387600-1758394800@visitpikeville.com
SUMMARY:Fall Deer Paint Class
DESCRIPTION: Fall Deer Paint Class Saturday\, September 20th at 5:00 PMJoin us for a cozy fall painting session featuring graceful deer—perfect for beginners and seasoned veterans alike! We’ll guide you step-by-step and you’ll leave with a beautiful autumn canvas to show off.$30 per painterPrivate message to reserve—spaces fill up quick!
URL:https://visitpikeville.com/event/fall-deer-paint-class/
LOCATION:2 Broke Art Teachers\, 4505 Weddington Square\,\, Pikeville\, KY\, 41501\, United States
CATEGORIES:Other
ATTACH;FMTTYPE=image/jpeg:https://visitpikeville.com/wp-content/uploads/2025/09/FALL-DEER.jpg
END:VEVENT
BEGIN:VEVENT
DTSTART;TZID=America/Kentucky/Louisville:20250920T180000
DTEND;TZID=America/Kentucky/Louisville:20250920T210000
DTSTAMP:20260423T111236
CREATED:20250519T130228Z
LAST-MODIFIED:20250519T130228Z
UID:64629-1758391200-1758402000@visitpikeville.com
SUMMARY:Football vs Cumberland University
DESCRIPTION:Game Day!!
URL:https://visitpikeville.com/event/football-vs-cumberland-university/
LOCATION:Hambley Athletic Complex\, 120 Championship Dr\,\, Pikeville\, KY\, 41501\, United States
CATEGORIES:UPike
ATTACH;FMTTYPE=image/png:https://visitpikeville.com/wp-content/uploads/2025/05/Screenshot-2025-05-19-at-8.56.25 AM.png
END:VEVENT
BEGIN:VEVENT
DTSTART;TZID=America/Kentucky/Louisville:20250920T180000
DTEND;TZID=America/Kentucky/Louisville:20250920T210000
DTSTAMP:20260423T111236
CREATED:20250825T122325Z
LAST-MODIFIED:20250825T122325Z
UID:67489-1758391200-1758402000@visitpikeville.com
SUMMARY:Square Dancing
DESCRIPTION:No experience or sign up required! Just show up and have fun!
URL:https://visitpikeville.com/event/square-dancing/
LOCATION:Pike County Cooperative Extension Office\, 148 Trivette Dr\, Pikeville\, KY\, 41501\, United States
CATEGORIES:Pike County Cooperative Extension Office
ATTACH;FMTTYPE=image/jpeg:https://visitpikeville.com/wp-content/uploads/2025/08/square-dancing.jpg
END:VEVENT
BEGIN:VEVENT
DTSTART;TZID=America/Kentucky/Louisville:20250920T190000
DTEND;TZID=America/Kentucky/Louisville:20250920T220000
DTSTAMP:20260423T111236
CREATED:20250227T163806Z
LAST-MODIFIED:20250227T163806Z
UID:63070-1758394800-1758405600@visitpikeville.com
SUMMARY:Travis Tritt
DESCRIPTION:WIN TICKETS to See Travis Tritt in Pikeville! \n\n\nIt’s a Great Day to Be Alive because we’re giving YOU the chance to win a pair of tickets before they go on sale! Here’s how to enter:\n\n\n LIKE this post\n TAG who you’re bringing if you win!\n SHARE to spread the word!\n\n\n Want to lock in your seats early? Get presale tickets Thursday from 10 AM – 12 AM with password FEB25.  Public on-sale starts Friday at 10 AM—don’t miss out!\n\n\nEnter now and we might just be T-R-O-U-B-L-E for giving away free tickets!   #TravisTritt #Pikeville
URL:https://visitpikeville.com/event/travis-tritt/
LOCATION:Appalachian Wireless Arena\, 126 Main Street\, Pikeville\, Ky\, 41501
CATEGORIES:Appalachian Wireless Arena
ATTACH;FMTTYPE=image/jpeg:https://visitpikeville.com/wp-content/uploads/2025/02/480456566_663523642719896_3296082073853193707_n.jpg
END:VEVENT
BEGIN:VEVENT
DTSTART;TZID=America/Kentucky/Louisville:20250920T190000
DTEND;TZID=America/Kentucky/Louisville:20250920T220000
DTSTAMP:20260423T111236
CREATED:20250804T130720Z
LAST-MODIFIED:20250804T130720Z
UID:66724-1758394800-1758405600@visitpikeville.com
SUMMARY:AMW BLUEGRASS BRAWL
DESCRIPTION:PIKEVILLE\, KY LOOK OUT!\n\n\nOn September 20th we return to town to bring the next installment of the AMW BLUEGRASS BRAWL!\n\n\nWe will be live on Pay Per View !\n\n\nFeaturing all of your favorites and more!\nAMW Champion Marty Clay\nthe return of Pikeville’s own Bobby Love\n New South Champion Stan Sierra\n AMW Tag Team Champions & NWA Superstars the Countrt Gents.\nNew South Tag Team Champions The Box Office Blondes\n The Heatseekers\n Chase Emery\nAnd many more!\n\n\nThe event will be held at Pike Central High School\n\n\nIt will also be a fundraiser for the Pike Central Boys Basketball Team.\n\n\nMore info to come soon!
URL:https://visitpikeville.com/event/amw-bluegrass-brawl/
LOCATION:Pike Central High School\, 100 Winners Circle Drive\,\, Pikeville\, KY\, 41501\, United States
CATEGORIES:Other
ATTACH;FMTTYPE=image/jpeg:https://visitpikeville.com/wp-content/uploads/2025/08/brawl.jpg
END:VEVENT
BEGIN:VEVENT
DTSTART;TZID=America/Kentucky/Louisville:20250920T193000
DTEND;TZID=America/Kentucky/Louisville:20250921T013000
DTSTAMP:20260423T111236
CREATED:20250908T144955Z
LAST-MODIFIED:20250908T145231Z
UID:68200-1758396600-1758418200@visitpikeville.com
SUMMARY:Live DJ at Bank 253
DESCRIPTION:  \n7:30pm – 01:30am
URL:https://visitpikeville.com/event/live-music-at-bank-253-3-2-2-2-2-2-2-2-2-2-2-2-2-2-2-2-2-2-2-2-2-2-2-2-2-2-2-2-2-2-2-2-2-2-2/
LOCATION:Bank 253\, 253 2nd St\,\, Pikeville\, KY\, 41501\, United States
CATEGORIES:Other
ATTACH;FMTTYPE=image/jpeg:https://visitpikeville.com/wp-content/uploads/2025/09/BANK-253.jpg
END:VEVENT
END:VCALENDAR