BEGIN:VCALENDAR
VERSION:2.0
PRODID:-//Visit Pikeville - ECPv6.15.20//NONSGML v1.0//EN
CALSCALE:GREGORIAN
METHOD:PUBLISH
X-WR-CALNAME:Visit Pikeville
X-ORIGINAL-URL:https://visitpikeville.com
X-WR-CALDESC:Events for Visit Pikeville
REFRESH-INTERVAL;VALUE=DURATION:PT1H
X-Robots-Tag:noindex
X-PUBLISHED-TTL:PT1H
BEGIN:VTIMEZONE
TZID:America/Kentucky/Louisville
BEGIN:DAYLIGHT
TZOFFSETFROM:-0500
TZOFFSETTO:-0400
TZNAME:EDT
DTSTART:20240310T070000
END:DAYLIGHT
BEGIN:STANDARD
TZOFFSETFROM:-0400
TZOFFSETTO:-0500
TZNAME:EST
DTSTART:20241103T060000
END:STANDARD
BEGIN:DAYLIGHT
TZOFFSETFROM:-0500
TZOFFSETTO:-0400
TZNAME:EDT
DTSTART:20250309T070000
END:DAYLIGHT
BEGIN:STANDARD
TZOFFSETFROM:-0400
TZOFFSETTO:-0500
TZNAME:EST
DTSTART:20251102T060000
END:STANDARD
BEGIN:DAYLIGHT
TZOFFSETFROM:-0500
TZOFFSETTO:-0400
TZNAME:EDT
DTSTART:20260308T070000
END:DAYLIGHT
BEGIN:STANDARD
TZOFFSETFROM:-0400
TZOFFSETTO:-0500
TZNAME:EST
DTSTART:20261101T060000
END:STANDARD
END:VTIMEZONE
BEGIN:VEVENT
DTSTART;VALUE=DATE:20250919
DTEND;VALUE=DATE:20250921
DTSTAMP:20260423T111009
CREATED:20250714T140720Z
LAST-MODIFIED:20250915T123525Z
UID:65924-1758240000-1758412799@visitpikeville.com
SUMMARY:The Appalachian Moonshine\, Music\, & Makers Festival
DESCRIPTION:Mark your calendars!  The Appalachian Moonshine\, Music\, & Makers Festival is happening this Friday & Saturday\, September 19-20\, in downtown Pikeville! Get ready for a weekend of live music\, delicious food\, craft vendors\, and much more. Admission is FREE!
URL:https://visitpikeville.com/event/the-appalachian-moonshine-music-makers-festival-2/
LOCATION:KY
CATEGORIES:City of Pikeville
ATTACH;FMTTYPE=image/jpeg:https://visitpikeville.com/wp-content/uploads/2025/07/moonshine-1.jpg
END:VEVENT
BEGIN:VEVENT
DTSTART;TZID=America/Kentucky/Louisville:20250919T110000
DTEND;TZID=America/Kentucky/Louisville:20250919T180000
DTSTAMP:20260423T111009
CREATED:20250908T150442Z
LAST-MODIFIED:20250908T150442Z
UID:68214-1758279600-1758304800@visitpikeville.com
SUMMARY:Quilt Show
DESCRIPTION:Date: Friday\, Sept. 19 & Saturday\, Sept. 20\n Location: The Appalachian Center for the Arts\n Time: 11AM- 6PM
URL:https://visitpikeville.com/event/quilt-show-3/
LOCATION:Appalachian Center for the Arts\, 218 2nd St\,\, Pikeville\, Ky\, 41501
CATEGORIES:The Appalachian Center for the Arts
ATTACH;FMTTYPE=image/jpeg:https://visitpikeville.com/wp-content/uploads/2025/09/quilt.jpg
END:VEVENT
BEGIN:VEVENT
DTSTART;TZID=America/Kentucky/Louisville:20250919T170000
DTEND;TZID=America/Kentucky/Louisville:20250919T190000
DTSTAMP:20260423T111009
CREATED:20250825T164840Z
LAST-MODIFIED:20250825T164840Z
UID:67527-1758301200-1758308400@visitpikeville.com
SUMMARY:Hot Air Balloon Rides
DESCRIPTION:Celebrate Library Card Sign-Up Month with us and take to the skies!Use your library card to check out 10 items at any of our library branches to earn a ticket for a Tethered Hot Air Balloon ride on September 18-19. All ages welcome!Don’t have a library card? Visit your nearest branch to sign up.The sky’s the limit with your library card!Learn more here: https://tinyurl.com/47hes9zv
URL:https://visitpikeville.com/event/hot-air-balloon-rides-2/
LOCATION:Pike County Public Library\, 126 Lee Avenue\, Pikeville\, KY\, 41501\, United States
CATEGORIES:Pike County Public Library
ATTACH;FMTTYPE=image/jpeg:https://visitpikeville.com/wp-content/uploads/2025/08/balloon.jpg
END:VEVENT
BEGIN:VEVENT
DTSTART;TZID=America/Kentucky/Louisville:20250919T180000
DTEND;TZID=America/Kentucky/Louisville:20250919T200000
DTSTAMP:20260423T111009
CREATED:20250428T141011Z
LAST-MODIFIED:20250428T141011Z
UID:64024-1758304800-1758312000@visitpikeville.com
SUMMARY:Good Ole Boys Rods & Cruisers
DESCRIPTION:Join Us @ 6:00pm for door prizes\, music and more.
URL:https://visitpikeville.com/event/good-ole-boys-rods-cruisers-2-2-2-2/
LOCATION:KY
CATEGORIES:Pikeville Tourism
ATTACH;FMTTYPE=image/jpeg:https://visitpikeville.com/wp-content/uploads/2025/04/good-ole-boys.jpg
END:VEVENT
BEGIN:VEVENT
DTSTART;TZID=America/Kentucky/Louisville:20250919T193000
DTEND;TZID=America/Kentucky/Louisville:20250919T213000
DTSTAMP:20260423T111009
CREATED:20250527T114941Z
LAST-MODIFIED:20250527T114941Z
UID:64738-1758310200-1758317400@visitpikeville.com
SUMMARY:Edith Tells All
DESCRIPTION:“Edith Tells All”\, Pamela Gilmer’s One-Woman Show telling the story of Edith Maxwell\, a schoolteacher from Pound\, Virginia who\, at the age of 21\, drew national media attention when she was convicted of murdering her father with a high-heeled shoe. \nPamela Gilmer traces the story of ‘slipper slayer’ Edith Maxwell from local schoolteacher\, to convicted felon\, to free woman\, after Eleanor Roosevelt advocated for her release and the Washington Post raised money for her legal defense. \n7:00 pm Doors Open\n7:30pm Show
URL:https://visitpikeville.com/event/edith-tells-all/
LOCATION:Appalachian Center for the Arts\, 218 2nd St\,\, Pikeville\, Ky\, 41501
CATEGORIES:The Appalachian Center for the Arts
ATTACH;FMTTYPE=image/jpeg:https://visitpikeville.com/wp-content/uploads/2025/05/edith.jpg
END:VEVENT
BEGIN:VEVENT
DTSTART;TZID=America/Kentucky/Louisville:20250919T193000
DTEND;TZID=America/Kentucky/Louisville:20250919T223000
DTSTAMP:20260423T111009
CREATED:20250908T144847Z
LAST-MODIFIED:20250908T145314Z
UID:68198-1758310200-1758321000@visitpikeville.com
SUMMARY:Live Music at Bank 253
DESCRIPTION:  \n7:30 – 10:30 pm
URL:https://visitpikeville.com/event/live-music-at-bank-253-3-2-2-2-2-2-2-2-2-2-2-2-2-2-2-2-2-2-2-2-2-2-2-2-2-2-2-2-2-2-2-2-2-2/
LOCATION:Bank 253\, 253 2nd St\,\, Pikeville\, KY\, 41501\, United States
CATEGORIES:Other
ATTACH;FMTTYPE=image/jpeg:https://visitpikeville.com/wp-content/uploads/2025/09/BANK-253.jpg
END:VEVENT
END:VCALENDAR