BEGIN:VCALENDAR
VERSION:2.0
PRODID:-//Visit Pikeville - ECPv6.15.20//NONSGML v1.0//EN
CALSCALE:GREGORIAN
METHOD:PUBLISH
X-WR-CALNAME:Visit Pikeville
X-ORIGINAL-URL:https://visitpikeville.com
X-WR-CALDESC:Events for Visit Pikeville
REFRESH-INTERVAL;VALUE=DURATION:PT1H
X-Robots-Tag:noindex
X-PUBLISHED-TTL:PT1H
BEGIN:VTIMEZONE
TZID:America/Kentucky/Louisville
BEGIN:DAYLIGHT
TZOFFSETFROM:-0500
TZOFFSETTO:-0400
TZNAME:EDT
DTSTART:20240310T070000
END:DAYLIGHT
BEGIN:STANDARD
TZOFFSETFROM:-0400
TZOFFSETTO:-0500
TZNAME:EST
DTSTART:20241103T060000
END:STANDARD
BEGIN:DAYLIGHT
TZOFFSETFROM:-0500
TZOFFSETTO:-0400
TZNAME:EDT
DTSTART:20250309T070000
END:DAYLIGHT
BEGIN:STANDARD
TZOFFSETFROM:-0400
TZOFFSETTO:-0500
TZNAME:EST
DTSTART:20251102T060000
END:STANDARD
BEGIN:DAYLIGHT
TZOFFSETFROM:-0500
TZOFFSETTO:-0400
TZNAME:EDT
DTSTART:20260308T070000
END:DAYLIGHT
BEGIN:STANDARD
TZOFFSETFROM:-0400
TZOFFSETTO:-0500
TZNAME:EST
DTSTART:20261101T060000
END:STANDARD
END:VTIMEZONE
BEGIN:VEVENT
DTSTART;TZID=America/Kentucky/Louisville:20250916T080000
DTEND;TZID=America/Kentucky/Louisville:20250916T170000
DTSTAMP:20260423T111006
CREATED:20250902T132455Z
LAST-MODIFIED:20250902T132455Z
UID:67756-1758009600-1758042000@visitpikeville.com
SUMMARY:Monthly Support Group for Grieving Parents
DESCRIPTION:Third Tuesday of every month
URL:https://visitpikeville.com/event/monthly-support-group-for-grieving-parents/
LOCATION:Pike County Health Department\, 119 River Drive\,\, Pikeville\, KY\, 41501\, United States
CATEGORIES:Pike County Health Department
ATTACH;FMTTYPE=image/jpeg:https://visitpikeville.com/wp-content/uploads/2025/09/support-group.jpg
END:VEVENT
BEGIN:VEVENT
DTSTART;TZID=America/Kentucky/Louisville:20250916T100000
DTEND;TZID=America/Kentucky/Louisville:20250916T120000
DTSTAMP:20260423T111006
CREATED:20250915T133227Z
LAST-MODIFIED:20250915T133227Z
UID:68467-1758016800-1758024000@visitpikeville.com
SUMMARY:Town Mountain Eye Clinic
DESCRIPTION: Big things are happening in Pikeville!We’re cutting the ribbon at the Town Mountain Eye Clinic and can’t wait to see you there. Tuesday\, September 16th at 10:00 AM 387 Town Mountain Rd.\, Pikeville\, KY 41501Let’s celebrate together as we open the doors to expanded vision care for our community!
URL:https://visitpikeville.com/event/town-mountain-eye-clinic/
LOCATION:Town Mountain Eye Clinic\, 387 Town Mountain Rd.\, Pikeville\, KY\, 41501\, United States
CATEGORIES:UPike
ATTACH;FMTTYPE=image/jpeg:https://visitpikeville.com/wp-content/uploads/2025/09/eye-clinic.jpg
END:VEVENT
BEGIN:VEVENT
DTSTART;TZID=America/Kentucky/Louisville:20250916T130000
DTEND;TZID=America/Kentucky/Louisville:20250916T170000
DTSTAMP:20260423T111006
CREATED:20250811T120848Z
LAST-MODIFIED:20250811T120848Z
UID:66946-1758027600-1758042000@visitpikeville.com
SUMMARY:CPR Training
DESCRIPTION:Learn life-saving skills from certified instructors & earn your 2-year certification through the American Heart Association! Call 606-509-5500 for more information.
URL:https://visitpikeville.com/event/cpr-training-2-2/
LOCATION:Pike County Health Department\, 119 River Drive\,\, Pikeville\, KY\, 41501\, United States
CATEGORIES:Pike County Health Department
ATTACH;FMTTYPE=image/jpeg:https://visitpikeville.com/wp-content/uploads/2025/08/cpr.jpg
END:VEVENT
BEGIN:VEVENT
DTSTART;TZID=America/Kentucky/Louisville:20250916T153000
DTEND;TZID=America/Kentucky/Louisville:20250916T163000
DTSTAMP:20260423T111006
CREATED:20250825T121107Z
LAST-MODIFIED:20250825T121107Z
UID:67486-1758036600-1758040200@visitpikeville.com
SUMMARY:Lawson Cancer Center Support Group
DESCRIPTION:3:30pm every third tuesday of each month
URL:https://visitpikeville.com/event/lawson-cancer-center-support-group/
LOCATION:Leonard Lawson Cancer Center\, 172 S Mayo Trail\,\, Pikeville\, KY\, 41501\, United States
CATEGORIES:Pikeville Medical Center
ATTACH;FMTTYPE=image/jpeg:https://visitpikeville.com/wp-content/uploads/2025/08/cancer.jpg
END:VEVENT
BEGIN:VEVENT
DTSTART;TZID=America/Kentucky/Louisville:20250916T170000
DTEND;TZID=America/Kentucky/Louisville:20250916T180000
DTSTAMP:20260423T111006
CREATED:20250902T135843Z
LAST-MODIFIED:20250902T135843Z
UID:67782-1758042000-1758045600@visitpikeville.com
SUMMARY:Adult Guitar Class
DESCRIPTION:Beginner guitar lessons for patrons ages 18+. This class meets weekly on Tuesdays at 5:00. Please bring your own instrument. Registration required. \n\n\n\n\n\n\n  \nCall the library at 606-437-6001 to check availability.
URL:https://visitpikeville.com/event/adult-guitar-class-4-2-2-2-2-2-2-2-2-2-2-2-2-2-3-2-2/
LOCATION:Pike County Public Library\, 126 Lee Avenue\, Pikeville\, KY\, 41501\, United States
CATEGORIES:Pike County Public Library
ATTACH;FMTTYPE=image/png:https://visitpikeville.com/wp-content/uploads/2025/05/theory.png
END:VEVENT
BEGIN:VEVENT
DTSTART;TZID=America/Kentucky/Louisville:20250916T170000
DTEND;TZID=America/Kentucky/Louisville:20250916T190000
DTSTAMP:20260423T111006
CREATED:20250818T175626Z
LAST-MODIFIED:20250818T175626Z
UID:67267-1758042000-1758049200@visitpikeville.com
SUMMARY:Jailey Hall
DESCRIPTION:Local author Jailey Hall will be at the Pike County Public Library (Lee Avenue) on Tuesday\, September 16th from 5:00-7:00 with her new tetralogy series\, The Thimble of Seasons.\n\n\nThe story follows four teens — Evy\, Etain\, Elowen\, and Kalliope — who discover that their missing parents are bound to an ancient power hidden in a silver thimble.\n\n\nIn Book I: The Thimble of Seasons\, the siblings first encounter the thimble’s magic and the faceless Watcher that hunts them\, beginning their desperate search for answers.\n\n\nIn Book II: The Rift Between Us\, their path grows darker as they follow scattered clues toward their parents\, torn between trust and suspicion. By the end\, they finally glimpse their parents — alive\, but entangled in forces they barely understand.\n\n\nIn Book III: The Lantern That Never Burns Out\, the trail leads to Ashpeak\, where the eternal lantern ties the thimble to a deeper rift. During the Festival of Lights\, they uncover hidden tunnels\, face trials beneath the Hall of Flame\, and discover their parents’ captivity — but also that the Watcher serves a greater master.\n\n\nIn Book IV: The Last Stitch\, the siblings descend into the Loom itself — the source of every thread that binds their world. One by one they face illusions and personal trials until the final choice falls to Evy. To free her parents and seal the rift\, she sacrifices herself\, becoming part of the Loom and the Last Stitch that holds the world together.\n\n\nTogether\, the quartet tells a story of family and fracture\, of shadows that cannot be outrun\, and of the painful truth that every stitch comes at a cost.
URL:https://visitpikeville.com/event/jailey-hall/
LOCATION:Pike County Public Library\, 126 Lee Avenue\, Pikeville\, KY\, 41501\, United States
CATEGORIES:Pike County Public Library
ATTACH;FMTTYPE=image/jpeg:https://visitpikeville.com/wp-content/uploads/2025/08/jailey.jpg
END:VEVENT
BEGIN:VEVENT
DTSTART;TZID=America/Kentucky/Louisville:20250916T173000
DTEND;TZID=America/Kentucky/Louisville:20250916T183000
DTSTAMP:20260423T111006
CREATED:20250818T175901Z
LAST-MODIFIED:20250818T175901Z
UID:67270-1758043800-1758047400@visitpikeville.com
SUMMARY:The Science of Pokémon
DESCRIPTION:Discover the science behind Pokémon\, with America’s “Mr. Science\,” as students touch a Pikachu lightning bolt\, help capture Charizard in a jug\, launch Poké Balls and more.\nThis program will be held Tuesday\, September 16th at 5:30 at the Pike County Public Library. No registration required.\nJason Lindsey\, also known as “Mr. Science\,” is a highly respected professional in STEM education\, science journalism\, and meteorology. He is an award-winning author\, his second book\, “Big Science Experiments for Little Kids\,” is a best-seller on Amazon. Jason has appeared on the NBC Today Show\, Sherri\, Fox & Friends\, RFD-TV\, WeatherNation\, and numerous television stations across the United States.
URL:https://visitpikeville.com/event/the-science-of-pokemon/
LOCATION:Pike County Public Library\, 126 Lee Avenue\, Pikeville\, KY\, 41501\, United States
CATEGORIES:Pike County Public Library
ATTACH;FMTTYPE=image/jpeg:https://visitpikeville.com/wp-content/uploads/2025/08/pokemon.jpg
END:VEVENT
BEGIN:VEVENT
DTSTART;TZID=America/Kentucky/Louisville:20250916T173000
DTEND;TZID=America/Kentucky/Louisville:20250916T184500
DTSTAMP:20260423T111006
CREATED:20250908T133045Z
LAST-MODIFIED:20250908T133045Z
UID:68118-1758043800-1758048300@visitpikeville.com
SUMMARY:Jazz Hands with Jen!
DESCRIPTION:Sep 16 – Oct 21st\, 2025 \nTUESDAY CLASS BREAKDOWN:\n• GRADES 1-6: 5:30PM – 6:45PM\n• GRADES 7–12: 7:00PM – 8:30PM \nINSTRUCTOR: JENNIFER DAWN HARTSTOCK \n\n\n\n\nGet ready to sing\, dance\, and shine in Jazz Hands with Jen—a high-energy musical theatre workshop at the Appalachian Center for the Arts Academy! \nThis fall\, we’re bringing the magic of Disney’s High School Musical to life with the anthem “We’re All in This Together.” Students will learn a full production number to perform in our end-of-session Show & Tell Showcase—a celebration of teamwork\, creativity\, and confidence on stage. \nNo experience required—just bring your enthusiasm\, your voice\, your moves\, and your team spirit!
URL:https://visitpikeville.com/event/jazz-hands-with-jen/
LOCATION:Appalachian Center for the Arts\, 218 2nd St\,\, Pikeville\, Ky\, 41501
CATEGORIES:The Appalachian Center for the Arts
ATTACH;FMTTYPE=image/jpeg:https://visitpikeville.com/wp-content/uploads/2025/09/jazz.jpg
END:VEVENT
BEGIN:VEVENT
DTSTART;TZID=America/Kentucky/Louisville:20250916T180000
DTEND;TZID=America/Kentucky/Louisville:20250916T191500
DTSTAMP:20260423T111006
CREATED:20250908T140641Z
LAST-MODIFIED:20250908T140641Z
UID:68143-1758045600-1758050100@visitpikeville.com
SUMMARY:With Imagination
DESCRIPTION:Sep 16 – Oct 21st\, 2025 \nTUESDAYS 6:00PM – 7:15PM \nINSTRUCTOR: Audrey Kuykendall \n\n\n\n\nThis class invites curious persons of all experience levels and physical abilities to explore body-based storytelling in a way that is adaptable\, creative\, and supportive through guided exercises and ensemble work inspired by Michael Chekhov’s Psychological Gesture. \nWhether you’re a novice public speaker or a veteran stage performer\, let’s discover simple\, adaptable tools to authentically express creativity\, exude confidence\, and explore connection. \nAll bodies and abilities are welcome\, and movement is always offered with options that work for you. Experience unnecessary—just a willingness to move\, explore\, and create.
URL:https://visitpikeville.com/event/with-imagination/
LOCATION:Appalachian Center for the Arts\, 218 2nd St\,\, Pikeville\, Ky\, 41501
CATEGORIES:The Appalachian Center for the Arts
ATTACH;FMTTYPE=image/jpeg:https://visitpikeville.com/wp-content/uploads/2025/09/jazz.jpg
END:VEVENT
BEGIN:VEVENT
DTSTART;TZID=America/Kentucky/Louisville:20250916T180000
DTEND;TZID=America/Kentucky/Louisville:20250916T210000
DTSTAMP:20260423T111006
CREATED:20250908T150049Z
LAST-MODIFIED:20250908T150049Z
UID:68211-1758045600-1758056400@visitpikeville.com
SUMMARY:ANNIE AUDITIONS!
DESCRIPTION:When: Tuesday September 16Time: 6-9 PM. Children 5-12 will be auditioning from 6-7 PM12 and older will audition from 7-9 PM\nAges: 5-105\nChildren 5-12 should come prepared to do a 30 second song and prepare to read from the script.\nAges 12+ should come prepared to do a 30 second song\,present a short monologue\, and prepare to read from the script.\nVideo auditions are also accepted and can be sent to shannon@theapparts.org\nlooking forward to seeing everyone there!
URL:https://visitpikeville.com/event/annie-auditions/
LOCATION:Appalachian Center for the Arts\, 218 2nd St\,\, Pikeville\, Ky\, 41501
CATEGORIES:The Appalachian Center for the Arts
ATTACH;FMTTYPE=image/jpeg:https://visitpikeville.com/wp-content/uploads/2025/09/auditions.jpg
END:VEVENT
BEGIN:VEVENT
DTSTART;TZID=America/Kentucky/Louisville:20250916T190000
DTEND;TZID=America/Kentucky/Louisville:20250916T203000
DTSTAMP:20260423T111006
CREATED:20250908T134829Z
LAST-MODIFIED:20250908T134829Z
UID:68131-1758049200-1758054600@visitpikeville.com
SUMMARY:Jazz Hands with Jen!
DESCRIPTION:Sep 16 – Oct 21st\, 2025 \nTUESDAY CLASS BREAKDOWN:\n• GRADES 1-6: 5:30PM – 6:45PM\n• GRADES 7–12: 7:00PM – 8:30PM \nINSTRUCTOR: JENNIFER DAWN HARTSTOCK \n\n\n\n\nGet ready to sing\, dance\, and shine in Jazz Hands with Jen—a high-energy musical theatre workshop at the Appalachian Center for the Arts Academy! \nThis fall\, we’re bringing the magic of Disney’s High School Musical to life with the anthem “We’re All in This Together.” Students will learn a full production number to perform in our end-of-session Show & Tell Showcase—a celebration of teamwork\, creativity\, and confidence on stage. \nNo experience required—just bring your enthusiasm\, your voice\, your moves\, and your team spirit!
URL:https://visitpikeville.com/event/jazz-hands-with-jen-2-2-2-2-2-2/
LOCATION:Appalachian Center for the Arts\, 218 2nd St\,\, Pikeville\, Ky\, 41501
CATEGORIES:The Appalachian Center for the Arts
ATTACH;FMTTYPE=image/jpeg:https://visitpikeville.com/wp-content/uploads/2025/09/jazz.jpg
END:VEVENT
END:VCALENDAR