BEGIN:VCALENDAR
VERSION:2.0
PRODID:-//Visit Pikeville - ECPv6.15.20//NONSGML v1.0//EN
CALSCALE:GREGORIAN
METHOD:PUBLISH
X-WR-CALNAME:Visit Pikeville
X-ORIGINAL-URL:https://visitpikeville.com
X-WR-CALDESC:Events for Visit Pikeville
REFRESH-INTERVAL;VALUE=DURATION:PT1H
X-Robots-Tag:noindex
X-PUBLISHED-TTL:PT1H
BEGIN:VTIMEZONE
TZID:America/Kentucky/Louisville
BEGIN:DAYLIGHT
TZOFFSETFROM:-0500
TZOFFSETTO:-0400
TZNAME:EDT
DTSTART:20240310T070000
END:DAYLIGHT
BEGIN:STANDARD
TZOFFSETFROM:-0400
TZOFFSETTO:-0500
TZNAME:EST
DTSTART:20241103T060000
END:STANDARD
BEGIN:DAYLIGHT
TZOFFSETFROM:-0500
TZOFFSETTO:-0400
TZNAME:EDT
DTSTART:20250309T070000
END:DAYLIGHT
BEGIN:STANDARD
TZOFFSETFROM:-0400
TZOFFSETTO:-0500
TZNAME:EST
DTSTART:20251102T060000
END:STANDARD
BEGIN:DAYLIGHT
TZOFFSETFROM:-0500
TZOFFSETTO:-0400
TZNAME:EDT
DTSTART:20260308T070000
END:DAYLIGHT
BEGIN:STANDARD
TZOFFSETFROM:-0400
TZOFFSETTO:-0500
TZNAME:EST
DTSTART:20261101T060000
END:STANDARD
END:VTIMEZONE
BEGIN:VEVENT
DTSTART;TZID=America/Kentucky/Louisville:20250914T150000
DTEND;TZID=America/Kentucky/Louisville:20250914T170000
DTSTAMP:20260423T110056
CREATED:20250217T151035Z
LAST-MODIFIED:20250217T151035Z
UID:62911-1757862000-1757869200@visitpikeville.com
SUMMARY:Clue
DESCRIPTION:Based on the iconic 1985 Paramount movie\, which was inspired by the classic Hasbro board game\, Clue is a hilarious farce-meets-murder mystery. The tale begins at a remote mansion\, where six mysterious guests assemble for an unusual dinner party\, with murder and blackmail on the menu. \nWhen their host turns up dead\, they all become suspects. Led by Wadsworth—the butler—Miss Scarlet\, Professor Plum\, Mrs. White\, Mr. Green\, Mrs. Peacock\, and Colonel Mustard race to find the killer as the body count stacks up. \nClue is the comedy whodunit that will leave both cult fans and newcomers in stitches as they try to figure out… WHO did it\, WHERE\, and with WHAT! \nTickets:\nIn Advance – Adult: $20 | Kids (up to 18) | Seniors (65+) $13\nAt Door – Adult: $22 | Kids (up to 18) | Seniors (65+) $15
URL:https://visitpikeville.com/event/clue-2-2-2/
LOCATION:Appalachian Center for the Arts\, 218 2nd St\,\, Pikeville\, Ky\, 41501
CATEGORIES:The Appalachian Center for the Arts
ATTACH;FMTTYPE=image/jpeg:https://visitpikeville.com/wp-content/uploads/2025/02/clue.jpg
END:VEVENT
END:VCALENDAR