BEGIN:VCALENDAR
VERSION:2.0
PRODID:-//Visit Pikeville - ECPv6.15.20//NONSGML v1.0//EN
CALSCALE:GREGORIAN
METHOD:PUBLISH
X-WR-CALNAME:Visit Pikeville
X-ORIGINAL-URL:https://visitpikeville.com
X-WR-CALDESC:Events for Visit Pikeville
REFRESH-INTERVAL;VALUE=DURATION:PT1H
X-Robots-Tag:noindex
X-PUBLISHED-TTL:PT1H
BEGIN:VTIMEZONE
TZID:America/Kentucky/Louisville
BEGIN:DAYLIGHT
TZOFFSETFROM:-0500
TZOFFSETTO:-0400
TZNAME:EDT
DTSTART:20240310T070000
END:DAYLIGHT
BEGIN:STANDARD
TZOFFSETFROM:-0400
TZOFFSETTO:-0500
TZNAME:EST
DTSTART:20241103T060000
END:STANDARD
BEGIN:DAYLIGHT
TZOFFSETFROM:-0500
TZOFFSETTO:-0400
TZNAME:EDT
DTSTART:20250309T070000
END:DAYLIGHT
BEGIN:STANDARD
TZOFFSETFROM:-0400
TZOFFSETTO:-0500
TZNAME:EST
DTSTART:20251102T060000
END:STANDARD
BEGIN:DAYLIGHT
TZOFFSETFROM:-0500
TZOFFSETTO:-0400
TZNAME:EDT
DTSTART:20260308T070000
END:DAYLIGHT
BEGIN:STANDARD
TZOFFSETFROM:-0400
TZOFFSETTO:-0500
TZNAME:EST
DTSTART:20261101T060000
END:STANDARD
END:VTIMEZONE
BEGIN:VEVENT
DTSTART;VALUE=DATE:20250616
DTEND;VALUE=DATE:20250906
DTSTAMP:20260423T104952
CREATED:20250616T123825Z
LAST-MODIFIED:20250616T123825Z
UID:65211-1750032000-1757116799@visitpikeville.com
SUMMARY:Friends of Kentucky Agriculture Specialty License Plate Contest
DESCRIPTION:WIN $500!\n\n\nThe Kentucky Department of Agriculture is excited to launch the Friends of Kentucky Agriculture Specialty License Plate Contest with Kentucky 4-H and Kentucky FFA Association. This contest is open to current 4-H and FFA members or any student interested in agriculture!\n\n\nSubmit your original photography\, digital\, or hand-drawn artwork that includes the 4-H\, FFA\, and Kentucky Proud logos.\n\n\n Deadline: September 5\, 2025\n $500 cash prize to the winning design!\n Enter at kyagr.com/agfriends\n\n\nThis brand new plate will be available to all Kentucky drivers who want to show their support for agriculture\, not just production farmers. Proceeds will benefit 4-H\, FFA\, and Kentucky Proud programs across the state.\n\n\nThe current Farm License Plate will still be available for eligible farmers\, and we encourage continued renewal of that plate! The new Friends of KY Agriculture plate is an exciting option for Kentuckians who are proud to support the future of ag. We are excited to roll out the new Friends of Ag plate in 2026!
URL:https://visitpikeville.com/event/friends-of-kentucky-agriculture-specialty-license-plate-contest/
LOCATION:Online Event\, Pikeville\, KY\, 41501\, United States
CATEGORIES:Other
ATTACH;FMTTYPE=image/jpeg:https://visitpikeville.com/wp-content/uploads/2025/06/plate.jpg
END:VEVENT
BEGIN:VEVENT
DTSTART;TZID=America/Kentucky/Louisville:20250903T140000
DTEND;TZID=America/Kentucky/Louisville:20250903T150000
DTSTAMP:20260423T104952
CREATED:20250902T141611Z
LAST-MODIFIED:20250902T141611Z
UID:67788-1756908000-1756911600@visitpikeville.com
SUMMARY:Adult Guitar Class 2
DESCRIPTION:Beginner guitar lessons for patrons ages 18+. This class meets weekly on Wednesdays at 2:00. Please bring your own instrument. Registration required. \n\n\n\n\n\n\n  \nCall the library at 606-437-6001 to check availability.
URL:https://visitpikeville.com/event/adult-guitar-class-4-2-2-2-2-2-2-2-2-2-2-2-2-2-2-2-2-2-2/
LOCATION:Pike County Public Library\, 126 Lee Avenue\, Pikeville\, KY\, 41501\, United States
CATEGORIES:Pike County Public Library
ATTACH;FMTTYPE=image/png:https://visitpikeville.com/wp-content/uploads/2025/05/theory.png
END:VEVENT
BEGIN:VEVENT
DTSTART;TZID=America/Kentucky/Louisville:20250903T163000
DTEND;TZID=America/Kentucky/Louisville:20250903T173000
DTSTAMP:20260423T104952
CREATED:20250902T142332Z
LAST-MODIFIED:20250902T142332Z
UID:67796-1756917000-1756920600@visitpikeville.com
SUMMARY:Teen Guitar Class 1
DESCRIPTION:Beginner guitar lessons for patrons ages 13-17. This class meets weekly on Wednesdays at 4:30. Please bring your own instrument. Registration required. \n\n\n\n\n\n\n  \nPlease call the library at 606-437-6001 to check availability.
URL:https://visitpikeville.com/event/teen-guitar-class-3-2-2-2-2-2-2-2-2-2-2-2-2-2/
LOCATION:Pike County Public Library\, 126 Lee Avenue\, Pikeville\, KY\, 41501\, United States
CATEGORIES:Pike County Public Library
ATTACH;FMTTYPE=image/png:https://visitpikeville.com/wp-content/uploads/2025/05/theory.png
END:VEVENT
END:VCALENDAR