BEGIN:VCALENDAR
VERSION:2.0
PRODID:-//Visit Pikeville - ECPv6.15.20//NONSGML v1.0//EN
CALSCALE:GREGORIAN
METHOD:PUBLISH
X-ORIGINAL-URL:https://visitpikeville.com
X-WR-CALDESC:Events for Visit Pikeville
REFRESH-INTERVAL;VALUE=DURATION:PT1H
X-Robots-Tag:noindex
X-PUBLISHED-TTL:PT1H
BEGIN:VTIMEZONE
TZID:America/Kentucky/Louisville
BEGIN:DAYLIGHT
TZOFFSETFROM:-0500
TZOFFSETTO:-0400
TZNAME:EDT
DTSTART:20240310T070000
END:DAYLIGHT
BEGIN:STANDARD
TZOFFSETFROM:-0400
TZOFFSETTO:-0500
TZNAME:EST
DTSTART:20241103T060000
END:STANDARD
BEGIN:DAYLIGHT
TZOFFSETFROM:-0500
TZOFFSETTO:-0400
TZNAME:EDT
DTSTART:20250309T070000
END:DAYLIGHT
BEGIN:STANDARD
TZOFFSETFROM:-0400
TZOFFSETTO:-0500
TZNAME:EST
DTSTART:20251102T060000
END:STANDARD
BEGIN:DAYLIGHT
TZOFFSETFROM:-0500
TZOFFSETTO:-0400
TZNAME:EDT
DTSTART:20260308T070000
END:DAYLIGHT
BEGIN:STANDARD
TZOFFSETFROM:-0400
TZOFFSETTO:-0500
TZNAME:EST
DTSTART:20261101T060000
END:STANDARD
END:VTIMEZONE
BEGIN:VEVENT
DTSTART;VALUE=DATE:20250616
DTEND;VALUE=DATE:20250906
DTSTAMP:20260423T105924
CREATED:20250616T123825Z
LAST-MODIFIED:20250616T123825Z
UID:65211-1750032000-1757116799@visitpikeville.com
SUMMARY:Friends of Kentucky Agriculture Specialty License Plate Contest
DESCRIPTION:WIN $500!\n\n\nThe Kentucky Department of Agriculture is excited to launch the Friends of Kentucky Agriculture Specialty License Plate Contest with Kentucky 4-H and Kentucky FFA Association. This contest is open to current 4-H and FFA members or any student interested in agriculture!\n\n\nSubmit your original photography\, digital\, or hand-drawn artwork that includes the 4-H\, FFA\, and Kentucky Proud logos.\n\n\n Deadline: September 5\, 2025\n $500 cash prize to the winning design!\n Enter at kyagr.com/agfriends\n\n\nThis brand new plate will be available to all Kentucky drivers who want to show their support for agriculture\, not just production farmers. Proceeds will benefit 4-H\, FFA\, and Kentucky Proud programs across the state.\n\n\nThe current Farm License Plate will still be available for eligible farmers\, and we encourage continued renewal of that plate! The new Friends of KY Agriculture plate is an exciting option for Kentuckians who are proud to support the future of ag. We are excited to roll out the new Friends of Ag plate in 2026!
URL:https://visitpikeville.com/event/friends-of-kentucky-agriculture-specialty-license-plate-contest/
LOCATION:Online Event\, Pikeville\, KY\, 41501\, United States
CATEGORIES:Other
ATTACH;FMTTYPE=image/jpeg:https://visitpikeville.com/wp-content/uploads/2025/06/plate.jpg
END:VEVENT
BEGIN:VEVENT
DTSTART;VALUE=DATE:20250808
DTEND;VALUE=DATE:20250901
DTSTAMP:20260423T105924
CREATED:20250210T153007Z
LAST-MODIFIED:20250210T153007Z
UID:62761-1754611200-1756684799@visitpikeville.com
SUMMARY:BLOODSONG
DESCRIPTION:THE STORY OF THE HATFIELDS AND MCCOYS\nAug. 8 – Aug. 31\, 2025
URL:https://visitpikeville.com/event/a-dolls-house-part-2-2-2-2/
LOCATION:Pikeville High School\, 120 Championship Dr\,\, Pikeville\, KY\, 41501\, United States
CATEGORIES:Pikeville Tourism
ATTACH;FMTTYPE=image/jpeg:https://visitpikeville.com/wp-content/uploads/2025/02/act.jpg
END:VEVENT
BEGIN:VEVENT
DTSTART;TZID=America/Kentucky/Louisville:20250826T170000
DTEND;TZID=America/Kentucky/Louisville:20250826T180000
DTSTAMP:20260423T105924
CREATED:20250811T124645Z
LAST-MODIFIED:20250811T124645Z
UID:66974-1756227600-1756231200@visitpikeville.com
SUMMARY:Adult Guitar Class
DESCRIPTION:Beginner guitar lessons for patrons ages 18+. This class meets weekly on Tuesdays at 5:00. Please bring your own instrument. Registration required. \n\n\n\n\n\n\n  \nCall the library at 606-437-6001 to check availability.
URL:https://visitpikeville.com/event/adult-guitar-class-4-2-2-2-2-2-2-2-2-2-2-2-2-2/
LOCATION:Pike County Public Library\, 126 Lee Avenue\, Pikeville\, KY\, 41501\, United States
CATEGORIES:Pike County Public Library
ATTACH;FMTTYPE=image/png:https://visitpikeville.com/wp-content/uploads/2025/05/theory.png
END:VEVENT
BEGIN:VEVENT
DTSTART;TZID=America/Kentucky/Louisville:20250826T170000
DTEND;TZID=America/Kentucky/Louisville:20250826T180000
DTSTAMP:20260423T105924
CREATED:20250811T131123Z
LAST-MODIFIED:20250811T131123Z
UID:67008-1756227600-1756231200@visitpikeville.com
SUMMARY:Edible Arrangement Workshop
DESCRIPTION:Get creative—and a little fruity! In this fun\, hands-on class\, participants will design their own edible fruit bouquets using fresh ingredients like strawberries\, apples\, and pineapples.\nLearn how to shape fruit into flowers and arrange them into a beautiful (and delicious) display. All materials are provided\, and participants will be able to keep their tool set. Registration is required.\nClick here to register: https://informationplace.libnet.info/event/14028433\nRegistration Policy: Registration secures your place in the program\, and spaces often fill quickly. If you are registered but unable to attend\, please let us know so that another patron may take your place.\nThe library will hold reserved seats for 10 minutes after the program begins. After this grace period\, any unclaimed places may be offered to patrons on standby.
URL:https://visitpikeville.com/event/edible-arrangement-workshop/
LOCATION:Pike County Public Library\, 126 Lee Avenue\, Pikeville\, KY\, 41501\, United States
CATEGORIES:Pike County Public Library
ATTACH;FMTTYPE=image/jpeg:https://visitpikeville.com/wp-content/uploads/2025/08/edible.jpg
END:VEVENT
BEGIN:VEVENT
DTSTART;TZID=America/Kentucky/Louisville:20250826T180000
DTEND;TZID=America/Kentucky/Louisville:20250826T200000
DTSTAMP:20260423T105924
CREATED:20250609T112524Z
LAST-MODIFIED:20250609T112524Z
UID:64972-1756231200-1756238400@visitpikeville.com
SUMMARY:Volleyball vs WVU-Tech
DESCRIPTION:Game Day!
URL:https://visitpikeville.com/event/volleyball-vs-wvu-tech/
LOCATION:Bob Amos Park\, 424 Bob Amos Dr\, Pikeville\, Ky\, 41501
CATEGORIES:UPike
ATTACH;FMTTYPE=image/png:https://visitpikeville.com/wp-content/uploads/2025/06/Screenshot-2025-06-09-at-7.25.08 AM.png
END:VEVENT
END:VCALENDAR