BEGIN:VCALENDAR
VERSION:2.0
PRODID:-//Visit Pikeville - ECPv6.15.20//NONSGML v1.0//EN
CALSCALE:GREGORIAN
METHOD:PUBLISH
X-ORIGINAL-URL:https://visitpikeville.com
X-WR-CALDESC:Events for Visit Pikeville
REFRESH-INTERVAL;VALUE=DURATION:PT1H
X-Robots-Tag:noindex
X-PUBLISHED-TTL:PT1H
BEGIN:VTIMEZONE
TZID:America/Kentucky/Louisville
BEGIN:DAYLIGHT
TZOFFSETFROM:-0500
TZOFFSETTO:-0400
TZNAME:EDT
DTSTART:20240310T070000
END:DAYLIGHT
BEGIN:STANDARD
TZOFFSETFROM:-0400
TZOFFSETTO:-0500
TZNAME:EST
DTSTART:20241103T060000
END:STANDARD
BEGIN:DAYLIGHT
TZOFFSETFROM:-0500
TZOFFSETTO:-0400
TZNAME:EDT
DTSTART:20250309T070000
END:DAYLIGHT
BEGIN:STANDARD
TZOFFSETFROM:-0400
TZOFFSETTO:-0500
TZNAME:EST
DTSTART:20251102T060000
END:STANDARD
BEGIN:DAYLIGHT
TZOFFSETFROM:-0500
TZOFFSETTO:-0400
TZNAME:EDT
DTSTART:20260308T070000
END:DAYLIGHT
BEGIN:STANDARD
TZOFFSETFROM:-0400
TZOFFSETTO:-0500
TZNAME:EST
DTSTART:20261101T060000
END:STANDARD
END:VTIMEZONE
BEGIN:VEVENT
DTSTART;VALUE=DATE:20250616
DTEND;VALUE=DATE:20250906
DTSTAMP:20260421T084219
CREATED:20250616T123825Z
LAST-MODIFIED:20250616T123825Z
UID:65211-1750032000-1757116799@visitpikeville.com
SUMMARY:Friends of Kentucky Agriculture Specialty License Plate Contest
DESCRIPTION:WIN $500!\n\n\nThe Kentucky Department of Agriculture is excited to launch the Friends of Kentucky Agriculture Specialty License Plate Contest with Kentucky 4-H and Kentucky FFA Association. This contest is open to current 4-H and FFA members or any student interested in agriculture!\n\n\nSubmit your original photography\, digital\, or hand-drawn artwork that includes the 4-H\, FFA\, and Kentucky Proud logos.\n\n\n Deadline: September 5\, 2025\n $500 cash prize to the winning design!\n Enter at kyagr.com/agfriends\n\n\nThis brand new plate will be available to all Kentucky drivers who want to show their support for agriculture\, not just production farmers. Proceeds will benefit 4-H\, FFA\, and Kentucky Proud programs across the state.\n\n\nThe current Farm License Plate will still be available for eligible farmers\, and we encourage continued renewal of that plate! The new Friends of KY Agriculture plate is an exciting option for Kentuckians who are proud to support the future of ag. We are excited to roll out the new Friends of Ag plate in 2026!
URL:https://visitpikeville.com/event/friends-of-kentucky-agriculture-specialty-license-plate-contest/
LOCATION:Online Event\, Pikeville\, KY\, 41501\, United States
CATEGORIES:Other
ATTACH;FMTTYPE=image/jpeg:https://visitpikeville.com/wp-content/uploads/2025/06/plate.jpg
END:VEVENT
BEGIN:VEVENT
DTSTART;VALUE=DATE:20250627
DTEND;VALUE=DATE:20250720
DTSTAMP:20260421T084219
CREATED:20250210T152858Z
LAST-MODIFIED:20250210T152858Z
UID:62759-1750982400-1752969599@visitpikeville.com
SUMMARY:PICKLEBALL
DESCRIPTION:June 27 – July 19\, 2025
URL:https://visitpikeville.com/event/a-dolls-house-part-2-2-2/
LOCATION:Pikeville High School\, 120 Championship Dr\,\, Pikeville\, KY\, 41501\, United States
CATEGORIES:Pikeville Tourism
ATTACH;FMTTYPE=image/jpeg:https://visitpikeville.com/wp-content/uploads/2025/02/act.jpg
END:VEVENT
BEGIN:VEVENT
DTSTART;TZID=America/Kentucky/Louisville:20250707T090000
DTEND;TZID=America/Kentucky/Louisville:20250718T150000
DTSTAMP:20260421T084219
CREATED:20250120T141645Z
LAST-MODIFIED:20250120T141645Z
UID:62216-1751878800-1752850800@visitpikeville.com
SUMMARY:Aristocats Kids Camp 2 (ages 5-12)
DESCRIPTION:In the heart of Paris\, a kind and eccentric millionairess wills her entire estate to Duchess\, her high-society cat\, and her three little kittens. Laughs and adventure ensue as the greedy\, bumbling butler pulls off the ultimate catnap caper. Now it’s up to the rough-and-tumble alley cat\, Thomas O’Malley\, and his band of swingin’ jazz cats to save the day. \n\n\n\n\nRegistration: $265 – Ages 5–12 \nDates: July 7th – July 18th\, 2025 \nMeets: Monday-Friday 9:00 AM – 3:00 PM \nPerformances: July 17th and 18th \nRegistrations will open Feb. 1st
URL:https://visitpikeville.com/event/aristocats-kids-camp-2-ages-5-12/
LOCATION:Appalachian Center for the Arts\, 218 2nd St\,\, Pikeville\, Ky\, 41501
CATEGORIES:The Appalachian Center for the Arts
ATTACH;FMTTYPE=image/jpeg:https://visitpikeville.com/wp-content/uploads/2025/01/arist0cats2.jpg
END:VEVENT
BEGIN:VEVENT
DTSTART;VALUE=DATE:20250710
DTEND;VALUE=DATE:20250711
DTSTAMP:20260421T084219
CREATED:20250702T152145Z
LAST-MODIFIED:20250702T152145Z
UID:65435-1752105600-1752191999@visitpikeville.com
SUMMARY:Thirsty Thursday
DESCRIPTION:@ The Mine 606
URL:https://visitpikeville.com/event/thirsty-thursday-2-2-2-2/
LOCATION:The Mine 606\, 121 Main St\, Pikeville\, KY\, 41501\, United States
CATEGORIES:Other
ATTACH;FMTTYPE=image/jpeg:https://visitpikeville.com/wp-content/uploads/2025/06/mine.jpg
END:VEVENT
BEGIN:VEVENT
DTSTART;TZID=America/Kentucky/Louisville:20250710T100000
DTEND;TZID=America/Kentucky/Louisville:20250710T120000
DTSTAMP:20260421T084219
CREATED:20250630T134005Z
LAST-MODIFIED:20250630T134005Z
UID:65338-1752141600-1752148800@visitpikeville.com
SUMMARY:Family Friendly Blacksmith Workshop
DESCRIPTION:Using a portable forge\, blacksmith Bob Montgomery will demonstrate traditional elements of blacksmithing\, then directly engage participants in metal work using a hammer and anvil.\nUsing techniques of heating\, hammering\, and bending\, participants will create an iron hook of their own. Recommended for ages 8 and up\, though Bob has worked with children in preschool.\nBob Montgomery has been a blacksmith and farrier for 40 years. He uses the traditional metalworking techniques of heating\, bending and drawing out to build sculptures and functional pieces. As a member of ABANA and the Kentucky Guild of Artists and Craftsmen\, he participates in exhibitions and his work is displayed throughout the region as public art and in private collections. Since the early 1990s he has been sharing his art and love of blacksmithing with students throughout the state.\nThis program will be held on Thursday\, July 10th at the Pike County Public Library (Lee Avenue). Patrons may attend either a Morning Session (10:00-12:00) or an Afternoon Session (1:00-3:00). The program will take place under a tent in the field behind the library. Registration is required.\nTo register for the Morning Session\, click here: https://informationplace.libnet.info/event/13355318\nTo register for the Afternoon Session\, click here:https://informationplace.libnet.info/event/13355715\nRegistration Policy: Registration secures your place in the program\, and spaces often fill quickly. If you are registered but unable to attend\, please let us know so that another patron may take your place.\nThe library will hold reserved seats for 10 minutes after the program begins. After this grace period\, any unclaimed places may be offered to patrons on standby.
URL:https://visitpikeville.com/event/family-friendly-blacksmith-workshop-3/
LOCATION:Pike County Public Library\, 126 Lee Avenue\, Pikeville\, KY\, 41501\, United States
CATEGORIES:Pike County Public Library
ATTACH;FMTTYPE=image/jpeg:https://visitpikeville.com/wp-content/uploads/2025/06/blacksmith.jpg
END:VEVENT
BEGIN:VEVENT
DTSTART;TZID=America/Kentucky/Louisville:20250710T110000
DTEND;TZID=America/Kentucky/Louisville:20250710T120000
DTSTAMP:20260421T084219
CREATED:20250602T142040Z
LAST-MODIFIED:20250602T142040Z
UID:64888-1752145200-1752148800@visitpikeville.com
SUMMARY:Summer Story Time
DESCRIPTION:Summer Story Time is for children ages 1-5 and features books\, action/movement\, songs\, and a craft. \n\n\n\n\n\n\n  \nSummer Story Time is held at the Pike County Public Library (Lee Ave) every Thursday at 11:00 from June 5th-July 17th.
URL:https://visitpikeville.com/event/summer-story-time-3-2-2-2-2-2/
LOCATION:Pike County Public Library\, 126 Lee Avenue\, Pikeville\, KY\, 41501\, United States
CATEGORIES:Pike County Public Library
ATTACH;FMTTYPE=image/png:https://visitpikeville.com/wp-content/uploads/2025/06/Summer_Story_Time.png
END:VEVENT
BEGIN:VEVENT
DTSTART;TZID=America/Kentucky/Louisville:20250710T130000
DTEND;TZID=America/Kentucky/Louisville:20250710T150000
DTSTAMP:20260421T084219
CREATED:20250630T134058Z
LAST-MODIFIED:20250630T134058Z
UID:65341-1752152400-1752159600@visitpikeville.com
SUMMARY:Family Friendly Blacksmith Workshop
DESCRIPTION:Using a portable forge\, blacksmith Bob Montgomery will demonstrate traditional elements of blacksmithing\, then directly engage participants in metal work using a hammer and anvil.\nUsing techniques of heating\, hammering\, and bending\, participants will create an iron hook of their own. Recommended for ages 8 and up\, though Bob has worked with children in preschool.\nBob Montgomery has been a blacksmith and farrier for 40 years. He uses the traditional metalworking techniques of heating\, bending and drawing out to build sculptures and functional pieces. As a member of ABANA and the Kentucky Guild of Artists and Craftsmen\, he participates in exhibitions and his work is displayed throughout the region as public art and in private collections. Since the early 1990s he has been sharing his art and love of blacksmithing with students throughout the state.\nThis program will be held on Thursday\, July 10th at the Pike County Public Library (Lee Avenue). Patrons may attend either a Morning Session (10:00-12:00) or an Afternoon Session (1:00-3:00). The program will take place under a tent in the field behind the library. Registration is required.\nTo register for the Morning Session\, click here: https://informationplace.libnet.info/event/13355318\nTo register for the Afternoon Session\, click here:https://informationplace.libnet.info/event/13355715\nRegistration Policy: Registration secures your place in the program\, and spaces often fill quickly. If you are registered but unable to attend\, please let us know so that another patron may take your place.\nThe library will hold reserved seats for 10 minutes after the program begins. After this grace period\, any unclaimed places may be offered to patrons on standby.
URL:https://visitpikeville.com/event/family-friendly-blacksmith-workshop-3-2/
LOCATION:Pike County Public Library\, 126 Lee Avenue\, Pikeville\, KY\, 41501\, United States
CATEGORIES:Pike County Public Library
ATTACH;FMTTYPE=image/jpeg:https://visitpikeville.com/wp-content/uploads/2025/06/blacksmith.jpg
END:VEVENT
BEGIN:VEVENT
DTSTART;TZID=America/Kentucky/Louisville:20250710T160000
DTEND;TZID=America/Kentucky/Louisville:20250710T190000
DTSTAMP:20260421T084219
CREATED:20250707T141819Z
LAST-MODIFIED:20250707T141819Z
UID:65690-1752163200-1752174000@visitpikeville.com
SUMMARY:Fun Thursday
DESCRIPTION:Check in anytime between 4:00 &5:00 to begin your painting private message to reserve
URL:https://visitpikeville.com/event/fun-thursday/
LOCATION:2 Broke Art Teachers\, 4505 Weddington Square\,\, Pikeville\, KY\, 41501\, United States
CATEGORIES:Other
ATTACH;FMTTYPE=image/jpeg:https://visitpikeville.com/wp-content/uploads/2025/07/fun.jpg
END:VEVENT
BEGIN:VEVENT
DTSTART;TZID=America/Kentucky/Louisville:20250710T170000
DTEND;TZID=America/Kentucky/Louisville:20250710T210000
DTSTAMP:20260421T084219
CREATED:20250702T184749Z
LAST-MODIFIED:20250702T184749Z
UID:65450-1752166800-1752181200@visitpikeville.com
SUMMARY:Beginners Sewing
DESCRIPTION:Come and Join Us
URL:https://visitpikeville.com/event/beginners-sewing-2-2-2-2-2-2-2-2-2-2-2-2-2-2-2-2-2-2-2-2-2-2-2-2-2-2-2-2-2-2-2-2-2-2-2-2-2-2-2-3-2-2-2-2/
LOCATION:Bridgett’s Quilting and Fabric Shop\, 237 2nd St\,\, Pikeville\, KY\, 41501\, United States
CATEGORIES:Pikeville Main Street
ATTACH;FMTTYPE=image/jpeg:https://visitpikeville.com/wp-content/uploads/2023/10/bridgetts.jpeg
END:VEVENT
END:VCALENDAR