BEGIN:VCALENDAR
VERSION:2.0
PRODID:-//Visit Pikeville - ECPv6.15.20//NONSGML v1.0//EN
CALSCALE:GREGORIAN
METHOD:PUBLISH
X-WR-CALNAME:Visit Pikeville
X-ORIGINAL-URL:https://visitpikeville.com
X-WR-CALDESC:Events for Visit Pikeville
REFRESH-INTERVAL;VALUE=DURATION:PT1H
X-Robots-Tag:noindex
X-PUBLISHED-TTL:PT1H
BEGIN:VTIMEZONE
TZID:America/Kentucky/Louisville
BEGIN:DAYLIGHT
TZOFFSETFROM:-0500
TZOFFSETTO:-0400
TZNAME:EDT
DTSTART:20240310T070000
END:DAYLIGHT
BEGIN:STANDARD
TZOFFSETFROM:-0400
TZOFFSETTO:-0500
TZNAME:EST
DTSTART:20241103T060000
END:STANDARD
BEGIN:DAYLIGHT
TZOFFSETFROM:-0500
TZOFFSETTO:-0400
TZNAME:EDT
DTSTART:20250309T070000
END:DAYLIGHT
BEGIN:STANDARD
TZOFFSETFROM:-0400
TZOFFSETTO:-0500
TZNAME:EST
DTSTART:20251102T060000
END:STANDARD
BEGIN:DAYLIGHT
TZOFFSETFROM:-0500
TZOFFSETTO:-0400
TZNAME:EDT
DTSTART:20260308T070000
END:DAYLIGHT
BEGIN:STANDARD
TZOFFSETFROM:-0400
TZOFFSETTO:-0500
TZNAME:EST
DTSTART:20261101T060000
END:STANDARD
END:VTIMEZONE
BEGIN:VEVENT
DTSTART;VALUE=DATE:20250616
DTEND;VALUE=DATE:20250906
DTSTAMP:20260421T082539
CREATED:20250616T123825Z
LAST-MODIFIED:20250616T123825Z
UID:65211-1750032000-1757116799@visitpikeville.com
SUMMARY:Friends of Kentucky Agriculture Specialty License Plate Contest
DESCRIPTION:WIN $500!\n\n\nThe Kentucky Department of Agriculture is excited to launch the Friends of Kentucky Agriculture Specialty License Plate Contest with Kentucky 4-H and Kentucky FFA Association. This contest is open to current 4-H and FFA members or any student interested in agriculture!\n\n\nSubmit your original photography\, digital\, or hand-drawn artwork that includes the 4-H\, FFA\, and Kentucky Proud logos.\n\n\n Deadline: September 5\, 2025\n $500 cash prize to the winning design!\n Enter at kyagr.com/agfriends\n\n\nThis brand new plate will be available to all Kentucky drivers who want to show their support for agriculture\, not just production farmers. Proceeds will benefit 4-H\, FFA\, and Kentucky Proud programs across the state.\n\n\nThe current Farm License Plate will still be available for eligible farmers\, and we encourage continued renewal of that plate! The new Friends of KY Agriculture plate is an exciting option for Kentuckians who are proud to support the future of ag. We are excited to roll out the new Friends of Ag plate in 2026!
URL:https://visitpikeville.com/event/friends-of-kentucky-agriculture-specialty-license-plate-contest/
LOCATION:Online Event\, Pikeville\, KY\, 41501\, United States
CATEGORIES:Other
ATTACH;FMTTYPE=image/jpeg:https://visitpikeville.com/wp-content/uploads/2025/06/plate.jpg
END:VEVENT
BEGIN:VEVENT
DTSTART;VALUE=DATE:20250627
DTEND;VALUE=DATE:20250720
DTSTAMP:20260421T082539
CREATED:20250210T152858Z
LAST-MODIFIED:20250210T152858Z
UID:62759-1750982400-1752969599@visitpikeville.com
SUMMARY:PICKLEBALL
DESCRIPTION:June 27 – July 19\, 2025
URL:https://visitpikeville.com/event/a-dolls-house-part-2-2-2/
LOCATION:Pikeville High School\, 120 Championship Dr\,\, Pikeville\, KY\, 41501\, United States
CATEGORIES:Pikeville Tourism
ATTACH;FMTTYPE=image/jpeg:https://visitpikeville.com/wp-content/uploads/2025/02/act.jpg
END:VEVENT
BEGIN:VEVENT
DTSTART;VALUE=DATE:20250704
DTEND;VALUE=DATE:20250705
DTSTAMP:20260421T082539
CREATED:20250519T134514Z
LAST-MODIFIED:20250630T131608Z
UID:64652-1751587200-1751673599@visitpikeville.com
SUMMARY:Red\, White\, and BBQ
DESCRIPTION:Get ready for the BIGGEST July 4th Celebration yet in Pikeville! \n\n\nWe’re pulling out all the stops for Red\, White & BBQ on Friday\, July 4th\, with a full day of fun for everyone in Main Street and City Park!\n\n\nHere’s what’s happening:\n\n\n Main Street:\n\n\n1:00 PM: Food Trucks & Vendors! Delicious eats and unique finds all afternoon.\n\n\n7:00 PM: Live Music with Julie Goff & The Swagtones! Get ready to groove.\n\n\n City Park:\n\n\n5:00 PM: Fire up your taste buds and challenge yourself at the Hot Pepper Eating Contest!\n\n\n6:00 PM – 9:00 PM: FREE Face Painting\, sponsored by the City of Pikeville! Get your patriotic designs!\n\n\n6:00 PM: Prepare to be amazed! The Magic of Eugene Mullins returns for his 3rd spectacular year! \n\n\n7:00 PM: Dare to taste the heat at Pikeville Hot Ones (Hot Sauce provided by Friends Drift Inn)!\n\n\n8:00 PM: Get ready for laughs and leaps with our classic Sack Race! Plus\, the winner will receive a 4-pack of tickets to Sesame Street Live! Elmo & Friends Say Hello at the Appalachian Wireless Arena this December!\n\n\nAnd to cap off the evening… FIREWORKS that will light up the sky! \n\n\nPlus\, enter to win a GRAND PRIZE! A family 4-pack of tickets to Sesame Street Live! Elmo & Friends Say Hello at the Appalachian Wireless Arena this December!\n\n\nBring your family\, bring your friends\, and make unforgettable memories in Pikeville!\n\n\n#VisitPikeville #PikevilleKY #July4th #RedWhiteBBQ #FoodTrucks #LiveMusic #MagicShow #HotOnes #SackRace #PepperEatingContest #Fireworks #FamilyFun #CityPark #ElmoAndFriends
URL:https://visitpikeville.com/event/red-white-and-bbq/
LOCATION:Downtown Pikeville\, Pikeville\, Ky\, 41501
CATEGORIES:City of Pikeville
ATTACH;FMTTYPE=image/jpeg:https://visitpikeville.com/wp-content/uploads/2025/05/red.jpg
END:VEVENT
BEGIN:VEVENT
DTSTART;TZID=America/Kentucky/Louisville:20250704T170000
DTEND;TZID=America/Kentucky/Louisville:20250704T180000
DTSTAMP:20260421T082539
CREATED:20250630T125302Z
LAST-MODIFIED:20250630T125302Z
UID:65317-1751648400-1751652000@visitpikeville.com
SUMMARY:Hot Pepper Eating Contest
DESCRIPTION: Think you can handle the heat? Dare to be the spiciest at the Hot Pepper Eating Contest during Pikeville’s Red\, White\, & BBQ celebration! Join us on July 4th at 5 PM in City Park for an explosive showdown!Apply now\, as limited contestant spots are available! Do you have what it takes to be crowned the ultimate pepper champion? Fire up your taste buds and prove it!Apply to compete now at: www.visitpikeville.com Don’t delay\, spaces are filling up!Don’t just watch the fireworks\, be the fire! #VisitPikeville #HotPepperContest #RedWhiteAndBBQ #July4th #DareToBeSpiciest #CityOfPikeville #AppalachianWirelessArena
URL:https://visitpikeville.com/event/hot-pepper-eating-contest/
LOCATION:Pikeville City Park\, 101 Cumberland Ct\,\, Pikeville\, KY\, 41501
CATEGORIES:City of Pikeville
ATTACH;FMTTYPE=image/jpeg:https://visitpikeville.com/wp-content/uploads/2025/06/pepper-eating.jpg
END:VEVENT
BEGIN:VEVENT
DTSTART;TZID=America/Kentucky/Louisville:20250704T180000
DTEND;TZID=America/Kentucky/Louisville:20250704T190000
DTSTAMP:20260421T082539
CREATED:20250630T132038Z
LAST-MODIFIED:20250630T132038Z
UID:65328-1751652000-1751655600@visitpikeville.com
SUMMARY:July 4th Magic Show!
DESCRIPTION:Get ready to be amazed\, Pikeville!  For our 3rd year in a row\, we’re thrilled to feature The Magic of Eugene Mullins for an enchanting July 4th Magic Show!Join us at 6 PM in City Park for an evening filled with incredible illusions\, dazzling tricks\, and unforgettable family fun. It’s the perfect way to kick off your Independence Day celebrations before the fireworks!Don’t miss out on the magic! See you there!  #VisitPikeville #PikevilleKY #July4th #MagicShow #EugeneMullins #FamilyFun #CityPark #IndependenceDay
URL:https://visitpikeville.com/event/july-4th-magic-show/
LOCATION:Pikeville City Park\, 101 Cumberland Ct\,\, Pikeville\, KY\, 41501
CATEGORIES:City of Pikeville
ATTACH;FMTTYPE=image/jpeg:https://visitpikeville.com/wp-content/uploads/2025/06/magic.jpg
END:VEVENT
BEGIN:VEVENT
DTSTART;TZID=America/Kentucky/Louisville:20250704T190000
DTEND;TZID=America/Kentucky/Louisville:20250704T210000
DTSTAMP:20260421T082539
CREATED:20250630T123240Z
LAST-MODIFIED:20250630T123240Z
UID:65313-1751655600-1751662800@visitpikeville.com
SUMMARY:Pikeville Hot Ones
DESCRIPTION:Get ready for the heat\, Pikeville! \n\n\nAs part of the City of Pikeville’s Red\, White\, & BBQ Celebration\, don’t miss the Pikeville Hot Ones event bringing the fire to City Park on July 4th at 7 PM!\n\n\nWatch as several of our very own local “celebrities” take on the ultimate spicy wing challenge! Who will conquer the heat?\n\n\nHuge thanks to Friends Drift Inn for providing the local hot sauces that will bring the !\n\n\nYou won’t want to miss this sizzling spectacle! Mark your calendars and come cheer them on!\n\n\n#VisitPikeville #PikevilleHotOnes #RedWhiteAndBBQ #July4th #CityPark #LocalCelebrity #HotSauceChallenge #FriendsDriftInn #PikevilleKY
URL:https://visitpikeville.com/event/pikeville-hot-ones/
LOCATION:Pikeville City Park\, 101 Cumberland Ct\,\, Pikeville\, KY\, 41501
CATEGORIES:City of Pikeville
ATTACH;FMTTYPE=image/jpeg:https://visitpikeville.com/wp-content/uploads/2025/06/hot-ones.jpg
END:VEVENT
BEGIN:VEVENT
DTSTART;TZID=America/Kentucky/Louisville:20250704T190000
DTEND;TZID=America/Kentucky/Louisville:20250704T220000
DTSTAMP:20260421T082539
CREATED:20250331T131135Z
LAST-MODIFIED:20250331T131135Z
UID:63685-1751655600-1751666400@visitpikeville.com
SUMMARY:Julie Goff and the swagtones (fireworks)
DESCRIPTION:@Mountain Top Media Stage
URL:https://visitpikeville.com/event/julie-goff-and-the-swagtones-fireworks/
LOCATION:Mountain Top Media Stage\, 126 Main St\,\, Pikeville\, KY\, 41501\, United States
CATEGORIES:Mountain Top Media
ATTACH;FMTTYPE=image/jpeg:https://visitpikeville.com/wp-content/uploads/2025/03/swagtones.jpg
END:VEVENT
BEGIN:VEVENT
DTSTART;TZID=America/Kentucky/Louisville:20250704T200000
DTEND;TZID=America/Kentucky/Louisville:20250704T210000
DTSTAMP:20260421T082539
CREATED:20250630T131834Z
LAST-MODIFIED:20250630T131834Z
UID:65325-1751659200-1751662800@visitpikeville.com
SUMMARY:Sack Race
DESCRIPTION:Get ready for an action-packed 4th of July in Pikeville!\n\n\nLace up your shoes and get ready to hop\, skip\, and jump into our Sack Race at 8 PM on July 4th for some classic fun and laughs!\n\n\nAnd don’t forget\, there’s a PRIZE to win\, a family 4-pack of tickets to Sesame Street Live! Elmo & Friends Say Hello at the Appalachian Wireless Arena this December!\n\n\nIt’s all part of Pikeville’s Red\, White & BBQ celebration! Bring the whole crew for a fantastic day!\n\n\n#VisitPikeville #PikevilleKY #July4th #SackRace #FamilyFun #CityPark #RedWhiteBBQ #ElmoAndFriends
URL:https://visitpikeville.com/event/sack-race/
LOCATION:Pikeville City Park\, 101 Cumberland Ct\,\, Pikeville\, KY\, 41501
CATEGORIES:City of Pikeville
ATTACH;FMTTYPE=image/jpeg:https://visitpikeville.com/wp-content/uploads/2025/06/sack-race.jpg
END:VEVENT
END:VCALENDAR