BEGIN:VCALENDAR
VERSION:2.0
PRODID:-//Visit Pikeville - ECPv6.15.20//NONSGML v1.0//EN
CALSCALE:GREGORIAN
METHOD:PUBLISH
X-ORIGINAL-URL:https://visitpikeville.com
X-WR-CALDESC:Events for Visit Pikeville
REFRESH-INTERVAL;VALUE=DURATION:PT1H
X-Robots-Tag:noindex
X-PUBLISHED-TTL:PT1H
BEGIN:VTIMEZONE
TZID:America/Kentucky/Louisville
BEGIN:DAYLIGHT
TZOFFSETFROM:-0500
TZOFFSETTO:-0400
TZNAME:EDT
DTSTART:20240310T070000
END:DAYLIGHT
BEGIN:STANDARD
TZOFFSETFROM:-0400
TZOFFSETTO:-0500
TZNAME:EST
DTSTART:20241103T060000
END:STANDARD
BEGIN:DAYLIGHT
TZOFFSETFROM:-0500
TZOFFSETTO:-0400
TZNAME:EDT
DTSTART:20250309T070000
END:DAYLIGHT
BEGIN:STANDARD
TZOFFSETFROM:-0400
TZOFFSETTO:-0500
TZNAME:EST
DTSTART:20251102T060000
END:STANDARD
BEGIN:DAYLIGHT
TZOFFSETFROM:-0500
TZOFFSETTO:-0400
TZNAME:EDT
DTSTART:20260308T070000
END:DAYLIGHT
BEGIN:STANDARD
TZOFFSETFROM:-0400
TZOFFSETTO:-0500
TZNAME:EST
DTSTART:20261101T060000
END:STANDARD
END:VTIMEZONE
BEGIN:VEVENT
DTSTART;VALUE=DATE:20250616
DTEND;VALUE=DATE:20250906
DTSTAMP:20260424T103329
CREATED:20250616T123825Z
LAST-MODIFIED:20250616T123825Z
UID:65211-1750032000-1757116799@visitpikeville.com
SUMMARY:Friends of Kentucky Agriculture Specialty License Plate Contest
DESCRIPTION:WIN $500!\n\n\nThe Kentucky Department of Agriculture is excited to launch the Friends of Kentucky Agriculture Specialty License Plate Contest with Kentucky 4-H and Kentucky FFA Association. This contest is open to current 4-H and FFA members or any student interested in agriculture!\n\n\nSubmit your original photography\, digital\, or hand-drawn artwork that includes the 4-H\, FFA\, and Kentucky Proud logos.\n\n\n Deadline: September 5\, 2025\n $500 cash prize to the winning design!\n Enter at kyagr.com/agfriends\n\n\nThis brand new plate will be available to all Kentucky drivers who want to show their support for agriculture\, not just production farmers. Proceeds will benefit 4-H\, FFA\, and Kentucky Proud programs across the state.\n\n\nThe current Farm License Plate will still be available for eligible farmers\, and we encourage continued renewal of that plate! The new Friends of KY Agriculture plate is an exciting option for Kentuckians who are proud to support the future of ag. We are excited to roll out the new Friends of Ag plate in 2026!
URL:https://visitpikeville.com/event/friends-of-kentucky-agriculture-specialty-license-plate-contest/
LOCATION:Online Event\, Pikeville\, KY\, 41501\, United States
CATEGORIES:Other
ATTACH;FMTTYPE=image/jpeg:https://visitpikeville.com/wp-content/uploads/2025/06/plate.jpg
END:VEVENT
BEGIN:VEVENT
DTSTART;TZID=America/Kentucky/Louisville:20250616T090000
DTEND;TZID=America/Kentucky/Louisville:20250627T150000
DTSTAMP:20260424T103329
CREATED:20250120T140806Z
LAST-MODIFIED:20250120T140806Z
UID:62210-1750064400-1751036400@visitpikeville.com
SUMMARY:Aristocats Kids Camp 1 (ages 5-12)
DESCRIPTION:In the heart of Paris\, a kind and eccentric millionairess wills her entire estate to Duchess\, her high-society cat\, and her three little kittens. Laughs and adventure ensue as the greedy\, bumbling butler pulls off the ultimate catnap caper. Now it’s up to the rough-and-tumble alley cat\, Thomas O’Malley\, and his band of swingin’ jazz cats to save the day. \n\n\n\n\nRegistration: $265 – Ages 5–12 \nDates: June 16th – 27th\, 2025 \nMeets: Monday-Friday 9:00 AM – 3:00 PM \nPerformances: June 27th and 28th \nRegistrations will open Feb. 1st
URL:https://visitpikeville.com/event/aristocats-kids-camp-1-ages-5-12/
LOCATION:Appalachian Center for the Arts\, 218 2nd St\,\, Pikeville\, Ky\, 41501
CATEGORIES:The Appalachian Center for the Arts
ATTACH;FMTTYPE=image/jpeg:https://visitpikeville.com/wp-content/uploads/2025/01/aristocats.jpg
END:VEVENT
BEGIN:VEVENT
DTSTART;TZID=America/Kentucky/Louisville:20250616T120000
DTEND;TZID=America/Kentucky/Louisville:20250627T170000
DTSTAMP:20260424T103329
CREATED:20250120T141001Z
LAST-MODIFIED:20250120T141001Z
UID:62213-1750075200-1751043600@visitpikeville.com
SUMMARY:Tech Camp (ages 12-18)
DESCRIPTION:Welcome to TECH CAMP! Do you know what a par can is? Can you operate a light board? Have you ever used a table saw? If you answered “no”\, or “yes”\, to any of these questions\, then you should sign up for this tech camp. In this camp\, you will be engaged in all aspects of technical theatre and design including\, but not limited to set construction\, light & sound board operation\, and costume/make-up experience. This two-week camp will culminate in active participation as crew for the production of Aristocats Kids. \n\n\n\n\nRegistration: $200 – Ages 12-18 \nDates: June 16th – 27th\, 2025 \nMeets: Monday-Friday 12:00 PM – 5:00 PM \nPerformances: June 27th and 28th \nRegistrations will open Feb. 1st
URL:https://visitpikeville.com/event/tech-camp-ages-12-18/
LOCATION:Appalachian Center for the Arts\, 218 2nd St\,\, Pikeville\, Ky\, 41501
CATEGORIES:The Appalachian Center for the Arts
ATTACH;FMTTYPE=image/jpeg:https://visitpikeville.com/wp-content/uploads/2025/01/tech-camp.jpg
END:VEVENT
BEGIN:VEVENT
DTSTART;TZID=America/Kentucky/Louisville:20250623T090000
DTEND;TZID=America/Kentucky/Louisville:20250627T160000
DTSTAMP:20260424T103329
CREATED:20250616T122438Z
LAST-MODIFIED:20250616T122438Z
UID:65204-1750669200-1751040000@visitpikeville.com
SUMMARY:FREE Peer Support Specialist Certification
DESCRIPTION:Our curriculum has been approved by the state of Kentucky\, and we have a Registered Adult Peer Support Specialist teaching the class! Peer Support Specialist jobs normally earn around $15 dollars per hour starting out. Contact us to reserve your spot today!
URL:https://visitpikeville.com/event/free-peer-support-specialist-certification/
LOCATION:WestCare Perry Cline Emergency Shelter\, 126 Trivette Dr. Suite 302\, Pikeville\, KY\, 41501\, United States
CATEGORIES:Southeast Kentucky Chamber
ATTACH;FMTTYPE=image/jpeg:https://visitpikeville.com/wp-content/uploads/2025/06/westcare.jpg
END:VEVENT
BEGIN:VEVENT
DTSTART;VALUE=DATE:20250624
DTEND;VALUE=DATE:20250625
DTSTAMP:20260424T103329
CREATED:20250609T140210Z
LAST-MODIFIED:20250609T140210Z
UID:65119-1750723200-1750809599@visitpikeville.com
SUMMARY:Street Taco Tuesday
DESCRIPTION:@ The Mine 606
URL:https://visitpikeville.com/event/street-taco-tuesday-2-2/
LOCATION:The Mine 606\, 121 Main St\, Pikeville\, KY\, 41501\, United States
CATEGORIES:Other
ATTACH;FMTTYPE=image/jpeg:https://visitpikeville.com/wp-content/uploads/2025/06/mine.jpg
END:VEVENT
BEGIN:VEVENT
DTSTART;TZID=America/Kentucky/Louisville:20250624T140000
DTEND;TZID=America/Kentucky/Louisville:20250624T150000
DTSTAMP:20260424T103329
CREATED:20250527T123737Z
LAST-MODIFIED:20250527T123737Z
UID:64758-1750773600-1750777200@visitpikeville.com
SUMMARY:Bean Art Mosaic
DESCRIPTION:Join us as we use lima beans to create mosaic art to be painted. This program for children ages 12 and under will be held June 24th at 2:00 at the Pike County Public Library (Lee Ave).\nNo registration required.
URL:https://visitpikeville.com/event/bean-art-mosaic/
LOCATION:Pike County Public Library\, 126 Lee Avenue\, Pikeville\, KY\, 41501\, United States
CATEGORIES:Pike County Public Library
ATTACH;FMTTYPE=image/jpeg:https://visitpikeville.com/wp-content/uploads/2025/05/bean.jpg
END:VEVENT
BEGIN:VEVENT
DTSTART;TZID=America/Kentucky/Louisville:20250624T163000
DTEND;TZID=America/Kentucky/Louisville:20250624T190000
DTSTAMP:20260424T103329
CREATED:20250609T133632Z
LAST-MODIFIED:20250609T133632Z
UID:65068-1750782600-1750791600@visitpikeville.com
SUMMARY:Pikeville Farmers Market
DESCRIPTION:The market is now open on both Saturdays 9:00am – 1:00pm and Tuesdays 4:30 -7:00pm. Come out and get fresh local produce\, plants\, delicious baked goods\, fresh strawberries\, and more!
URL:https://visitpikeville.com/event/pikeville-farmers-market-6-2-2-2-2-2-2-2-2-2/
LOCATION:Pikeville Farmer’s Market\, 130 Adams Lane\, Pikeville\, Ky
CATEGORIES:Pikeville Farmers Market
ATTACH;FMTTYPE=image/jpeg:https://visitpikeville.com/wp-content/uploads/2025/06/farmers-market.jpg
END:VEVENT
BEGIN:VEVENT
DTSTART;TZID=America/Kentucky/Louisville:20250624T170000
DTEND;TZID=America/Kentucky/Louisville:20250624T180000
DTSTAMP:20260424T103329
CREATED:20250602T140725Z
LAST-MODIFIED:20250602T140725Z
UID:64867-1750784400-1750788000@visitpikeville.com
SUMMARY:Adult Guitar Class
DESCRIPTION:Beginner guitar lessons for patrons ages 18+. This class meets weekly on Tuesdays at 5:00. Please bring your own instrument. Registration required. \n\n\n\n\n\n\n  \nCall the library at 606-437-6001 to check availability.
URL:https://visitpikeville.com/event/adult-guitar-class-4-2-2-2-2-2-2-2/
LOCATION:Pike County Public Library\, 126 Lee Avenue\, Pikeville\, KY\, 41501\, United States
CATEGORIES:Pike County Public Library
ATTACH;FMTTYPE=image/png:https://visitpikeville.com/wp-content/uploads/2025/05/theory.png
END:VEVENT
END:VCALENDAR