BEGIN:VCALENDAR
VERSION:2.0
PRODID:-//Visit Pikeville - ECPv6.15.20//NONSGML v1.0//EN
CALSCALE:GREGORIAN
METHOD:PUBLISH
X-ORIGINAL-URL:https://visitpikeville.com
X-WR-CALDESC:Events for Visit Pikeville
REFRESH-INTERVAL;VALUE=DURATION:PT1H
X-Robots-Tag:noindex
X-PUBLISHED-TTL:PT1H
BEGIN:VTIMEZONE
TZID:America/Kentucky/Louisville
BEGIN:DAYLIGHT
TZOFFSETFROM:-0500
TZOFFSETTO:-0400
TZNAME:EDT
DTSTART:20240310T070000
END:DAYLIGHT
BEGIN:STANDARD
TZOFFSETFROM:-0400
TZOFFSETTO:-0500
TZNAME:EST
DTSTART:20241103T060000
END:STANDARD
BEGIN:DAYLIGHT
TZOFFSETFROM:-0500
TZOFFSETTO:-0400
TZNAME:EDT
DTSTART:20250309T070000
END:DAYLIGHT
BEGIN:STANDARD
TZOFFSETFROM:-0400
TZOFFSETTO:-0500
TZNAME:EST
DTSTART:20251102T060000
END:STANDARD
BEGIN:DAYLIGHT
TZOFFSETFROM:-0500
TZOFFSETTO:-0400
TZNAME:EDT
DTSTART:20260308T070000
END:DAYLIGHT
BEGIN:STANDARD
TZOFFSETFROM:-0400
TZOFFSETTO:-0500
TZNAME:EST
DTSTART:20261101T060000
END:STANDARD
END:VTIMEZONE
BEGIN:VEVENT
DTSTART;VALUE=DATE:20250616
DTEND;VALUE=DATE:20250906
DTSTAMP:20260424T071929
CREATED:20250616T123825Z
LAST-MODIFIED:20250616T123825Z
UID:65211-1750032000-1757116799@visitpikeville.com
SUMMARY:Friends of Kentucky Agriculture Specialty License Plate Contest
DESCRIPTION:WIN $500!\n\n\nThe Kentucky Department of Agriculture is excited to launch the Friends of Kentucky Agriculture Specialty License Plate Contest with Kentucky 4-H and Kentucky FFA Association. This contest is open to current 4-H and FFA members or any student interested in agriculture!\n\n\nSubmit your original photography\, digital\, or hand-drawn artwork that includes the 4-H\, FFA\, and Kentucky Proud logos.\n\n\n Deadline: September 5\, 2025\n $500 cash prize to the winning design!\n Enter at kyagr.com/agfriends\n\n\nThis brand new plate will be available to all Kentucky drivers who want to show their support for agriculture\, not just production farmers. Proceeds will benefit 4-H\, FFA\, and Kentucky Proud programs across the state.\n\n\nThe current Farm License Plate will still be available for eligible farmers\, and we encourage continued renewal of that plate! The new Friends of KY Agriculture plate is an exciting option for Kentuckians who are proud to support the future of ag. We are excited to roll out the new Friends of Ag plate in 2026!
URL:https://visitpikeville.com/event/friends-of-kentucky-agriculture-specialty-license-plate-contest/
LOCATION:Online Event\, Pikeville\, KY\, 41501\, United States
CATEGORIES:Other
ATTACH;FMTTYPE=image/jpeg:https://visitpikeville.com/wp-content/uploads/2025/06/plate.jpg
END:VEVENT
BEGIN:VEVENT
DTSTART;TZID=America/Kentucky/Louisville:20250616T090000
DTEND;TZID=America/Kentucky/Louisville:20250627T150000
DTSTAMP:20260424T071929
CREATED:20250120T140806Z
LAST-MODIFIED:20250120T140806Z
UID:62210-1750064400-1751036400@visitpikeville.com
SUMMARY:Aristocats Kids Camp 1 (ages 5-12)
DESCRIPTION:In the heart of Paris\, a kind and eccentric millionairess wills her entire estate to Duchess\, her high-society cat\, and her three little kittens. Laughs and adventure ensue as the greedy\, bumbling butler pulls off the ultimate catnap caper. Now it’s up to the rough-and-tumble alley cat\, Thomas O’Malley\, and his band of swingin’ jazz cats to save the day. \n\n\n\n\nRegistration: $265 – Ages 5–12 \nDates: June 16th – 27th\, 2025 \nMeets: Monday-Friday 9:00 AM – 3:00 PM \nPerformances: June 27th and 28th \nRegistrations will open Feb. 1st
URL:https://visitpikeville.com/event/aristocats-kids-camp-1-ages-5-12/
LOCATION:Appalachian Center for the Arts\, 218 2nd St\,\, Pikeville\, Ky\, 41501
CATEGORIES:The Appalachian Center for the Arts
ATTACH;FMTTYPE=image/jpeg:https://visitpikeville.com/wp-content/uploads/2025/01/aristocats.jpg
END:VEVENT
BEGIN:VEVENT
DTSTART;TZID=America/Kentucky/Louisville:20250616T120000
DTEND;TZID=America/Kentucky/Louisville:20250627T170000
DTSTAMP:20260424T071929
CREATED:20250120T141001Z
LAST-MODIFIED:20250120T141001Z
UID:62213-1750075200-1751043600@visitpikeville.com
SUMMARY:Tech Camp (ages 12-18)
DESCRIPTION:Welcome to TECH CAMP! Do you know what a par can is? Can you operate a light board? Have you ever used a table saw? If you answered “no”\, or “yes”\, to any of these questions\, then you should sign up for this tech camp. In this camp\, you will be engaged in all aspects of technical theatre and design including\, but not limited to set construction\, light & sound board operation\, and costume/make-up experience. This two-week camp will culminate in active participation as crew for the production of Aristocats Kids. \n\n\n\n\nRegistration: $200 – Ages 12-18 \nDates: June 16th – 27th\, 2025 \nMeets: Monday-Friday 12:00 PM – 5:00 PM \nPerformances: June 27th and 28th \nRegistrations will open Feb. 1st
URL:https://visitpikeville.com/event/tech-camp-ages-12-18/
LOCATION:Appalachian Center for the Arts\, 218 2nd St\,\, Pikeville\, Ky\, 41501
CATEGORIES:The Appalachian Center for the Arts
ATTACH;FMTTYPE=image/jpeg:https://visitpikeville.com/wp-content/uploads/2025/01/tech-camp.jpg
END:VEVENT
BEGIN:VEVENT
DTSTART;TZID=America/Kentucky/Louisville:20250620T110000
DTEND;TZID=America/Kentucky/Louisville:20250620T120000
DTSTAMP:20260424T071929
CREATED:20250616T114944Z
LAST-MODIFIED:20250616T114944Z
UID:65198-1750417200-1750420800@visitpikeville.com
SUMMARY:Ribbon Cutting Ceremony at Blue Diamond Pools and Spas
DESCRIPTION:Join us
URL:https://visitpikeville.com/event/ribbon-cutting-ceremony-at-blue-diamond-pools-and-spas/
LOCATION:Blue Diamond Pools and Spas\, 5229 N. Mayo Trail\, Pikeville\, KY\, 41501\, United States
CATEGORIES:Southeast Kentucky Chamber
ATTACH;FMTTYPE=image/png:https://visitpikeville.com/wp-content/uploads/2025/06/RibbonCutting-BlueDiamondPoolsSpasCC1.png
END:VEVENT
BEGIN:VEVENT
DTSTART;TZID=America/Kentucky/Louisville:20250620T110000
DTEND;TZID=America/Kentucky/Louisville:20250620T220000
DTSTAMP:20260424T071929
CREATED:20250609T134850Z
LAST-MODIFIED:20250609T134850Z
UID:65087-1750417200-1750456800@visitpikeville.com
SUMMARY:Food Truck Friday
DESCRIPTION:11:00 am – 10:00pm or sell out
URL:https://visitpikeville.com/event/food-truck-friday-3-2/
LOCATION:Downtown Pikeville\, Pikeville\, Ky\, 41501
CATEGORIES:Pikeville Main Street,Pikeville Tourism
ATTACH;FMTTYPE=image/jpeg:https://visitpikeville.com/wp-content/uploads/2025/06/food-truck.jpg
END:VEVENT
BEGIN:VEVENT
DTSTART;TZID=America/Kentucky/Louisville:20250620T180000
DTEND;TZID=America/Kentucky/Louisville:20250620T200000
DTSTAMP:20260424T071929
CREATED:20250428T140829Z
LAST-MODIFIED:20250428T140829Z
UID:64018-1750442400-1750449600@visitpikeville.com
SUMMARY:Good Ole Boys Rods & Cruisers
DESCRIPTION:Join Us @ 6:00pm for door prizes\, music and more.
URL:https://visitpikeville.com/event/good-ole-boys-rods-cruisers-2/
LOCATION:KY
CATEGORIES:Pikeville Tourism
ATTACH;FMTTYPE=image/jpeg:https://visitpikeville.com/wp-content/uploads/2025/04/good-ole-boys.jpg
END:VEVENT
BEGIN:VEVENT
DTSTART;TZID=America/Kentucky/Louisville:20250620T190000
DTEND;TZID=America/Kentucky/Louisville:20250620T220000
DTSTAMP:20260424T071929
CREATED:20250331T130801Z
LAST-MODIFIED:20250331T130801Z
UID:63682-1750446000-1750456800@visitpikeville.com
SUMMARY:Exit 23 (Off road outlaws)
DESCRIPTION:@Mountain Top Media Stage
URL:https://visitpikeville.com/event/exit-23-off-road-outlaws/
LOCATION:Mountain Top Media Stage\, 126 Main St\,\, Pikeville\, KY\, 41501\, United States
CATEGORIES:Mountain Top Media
ATTACH;FMTTYPE=image/jpeg:https://visitpikeville.com/wp-content/uploads/2025/03/exit-23-1.jpg
END:VEVENT
BEGIN:VEVENT
DTSTART;TZID=America/Kentucky/Louisville:20250620T193000
DTEND;TZID=America/Kentucky/Louisville:20250620T223000
DTSTAMP:20260424T071929
CREATED:20250609T135138Z
LAST-MODIFIED:20250609T135138Z
UID:65093-1750447800-1750458600@visitpikeville.com
SUMMARY:Live Music at Bank 253
DESCRIPTION:7:30 – 10:30 pm
URL:https://visitpikeville.com/event/live-music-at-bank-253-3-2-2-2-2-2-2-2-2-2-2-2-2-2-2-2-2-2-2-2-2/
LOCATION:Bank 253\, 253 2nd St\,\, Pikeville\, KY\, 41501\, United States
CATEGORIES:Other
ATTACH;FMTTYPE=image/jpeg:https://visitpikeville.com/wp-content/uploads/2025/02/bank253.jpg
END:VEVENT
END:VCALENDAR