BEGIN:VCALENDAR
VERSION:2.0
PRODID:-//Visit Pikeville - ECPv6.15.20//NONSGML v1.0//EN
CALSCALE:GREGORIAN
METHOD:PUBLISH
X-WR-CALNAME:Visit Pikeville
X-ORIGINAL-URL:https://visitpikeville.com
X-WR-CALDESC:Events for Visit Pikeville
REFRESH-INTERVAL;VALUE=DURATION:PT1H
X-Robots-Tag:noindex
X-PUBLISHED-TTL:PT1H
BEGIN:VTIMEZONE
TZID:America/Kentucky/Louisville
BEGIN:DAYLIGHT
TZOFFSETFROM:-0500
TZOFFSETTO:-0400
TZNAME:EDT
DTSTART:20240310T070000
END:DAYLIGHT
BEGIN:STANDARD
TZOFFSETFROM:-0400
TZOFFSETTO:-0500
TZNAME:EST
DTSTART:20241103T060000
END:STANDARD
BEGIN:DAYLIGHT
TZOFFSETFROM:-0500
TZOFFSETTO:-0400
TZNAME:EDT
DTSTART:20250309T070000
END:DAYLIGHT
BEGIN:STANDARD
TZOFFSETFROM:-0400
TZOFFSETTO:-0500
TZNAME:EST
DTSTART:20251102T060000
END:STANDARD
BEGIN:DAYLIGHT
TZOFFSETFROM:-0500
TZOFFSETTO:-0400
TZNAME:EDT
DTSTART:20260308T070000
END:DAYLIGHT
BEGIN:STANDARD
TZOFFSETFROM:-0400
TZOFFSETTO:-0500
TZNAME:EST
DTSTART:20261101T060000
END:STANDARD
END:VTIMEZONE
BEGIN:VEVENT
DTSTART;VALUE=DATE:20250612
DTEND;VALUE=DATE:20250613
DTSTAMP:20260424T071752
CREATED:20250609T134131Z
LAST-MODIFIED:20250609T134131Z
UID:65076-1749686400-1749772799@visitpikeville.com
SUMMARY:Thirsty Thursday
DESCRIPTION:@ The Mine 606
URL:https://visitpikeville.com/event/thirsty-thursday/
LOCATION:The Mine 606\, 121 Main St\, Pikeville\, KY\, 41501\, United States
CATEGORIES:Other
ATTACH;FMTTYPE=image/jpeg:https://visitpikeville.com/wp-content/uploads/2025/06/mine.jpg
END:VEVENT
BEGIN:VEVENT
DTSTART;TZID=America/Kentucky/Louisville:20250612T110000
DTEND;TZID=America/Kentucky/Louisville:20250612T120000
DTSTAMP:20260424T071752
CREATED:20250602T141554Z
LAST-MODIFIED:20250602T141554Z
UID:64880-1749726000-1749729600@visitpikeville.com
SUMMARY:Summer Story Time
DESCRIPTION:Summer Story Time is for children ages 1-5 and features books\, action/movement\, songs\, and a craft. \n\n\n\n\n\n\n  \nSummer Story Time is held at the Pike County Public Library (Lee Ave) every Thursday at 11:00 from June 5th-July 17th.
URL:https://visitpikeville.com/event/summer-story-time-3-2/
LOCATION:Pike County Public Library\, 126 Lee Avenue\, Pikeville\, KY\, 41501\, United States
CATEGORIES:Pike County Public Library
ATTACH;FMTTYPE=image/png:https://visitpikeville.com/wp-content/uploads/2025/06/Summer_Story_Time.png
END:VEVENT
BEGIN:VEVENT
DTSTART;TZID=America/Kentucky/Louisville:20250612T150000
DTEND;TZID=America/Kentucky/Louisville:20250612T160000
DTSTAMP:20260424T071752
CREATED:20250602T142424Z
LAST-MODIFIED:20250602T142424Z
UID:64895-1749740400-1749744000@visitpikeville.com
SUMMARY:Beginner Kids Guitar Class
DESCRIPTION:Beginner guitar lessons for children ages 8-12. This class meets weekly on Thursdays at 3:00. Please bring your own instrument. \n\n\n\n\n\n\n  \nRegistration required. Please call the library at 606-437-6001 to check availability.
URL:https://visitpikeville.com/event/beginner-kids-guitar-class-2/
LOCATION:Pike County Public Library\, 126 Lee Avenue\, Pikeville\, KY\, 41501\, United States
CATEGORIES:Pike County Public Library
ATTACH;FMTTYPE=image/png:https://visitpikeville.com/wp-content/uploads/2025/06/Homeschool_Guitar_Lessons.png
END:VEVENT
BEGIN:VEVENT
DTSTART;TZID=America/Kentucky/Louisville:20250612T170000
DTEND;TZID=America/Kentucky/Louisville:20250612T180000
DTSTAMP:20260424T071752
CREATED:20250512T183511Z
LAST-MODIFIED:20250512T183511Z
UID:64488-1749747600-1749751200@visitpikeville.com
SUMMARY:Rubber Stamp Making Workshop
DESCRIPTION:Unleash your creativity in this hands-on workshop where you’ll learn the art of rubber stamp carving!\nDiscover how to design\, carve\, and print custom stamps using simple tools and techniques. Whether you’re a seasoned crafter or a beginner\, this workshop is perfect for creating personalized stationery\, art projects\, or unique gifts. All materials will be provided\, and participants will leave with their own handmade stamp. Come carve out some fun with us!\nAll materials provided. This workshop is for adults and children 5th grade and older. Registration required.\nClick here to register: https://informationplace.libnet.info/event/12844665
URL:https://visitpikeville.com/event/rubber-stamp-making-workshop/
LOCATION:Pike County Public Library\, 126 Lee Avenue\, Pikeville\, KY\, 41501\, United States
CATEGORIES:Pike County Public Library
ATTACH;FMTTYPE=image/jpeg:https://visitpikeville.com/wp-content/uploads/2025/05/rubber-stamp.jpg
END:VEVENT
BEGIN:VEVENT
DTSTART;TZID=America/Kentucky/Louisville:20250612T170000
DTEND;TZID=America/Kentucky/Louisville:20250612T180000
DTSTAMP:20260424T071752
CREATED:20250602T164811Z
LAST-MODIFIED:20250602T164811Z
UID:64909-1749747600-1749751200@visitpikeville.com
SUMMARY:Music Theory for Guitarists
DESCRIPTION:Understanding how music works will give you the tools you need to write riffs\, songs\, and solos\, and learn to improvise in a friendly hands-on environment. \n\n\n\n\n\n\nClass is held weekly at the Pike County Public Library (Lee Ave) every Thursday at 5:00. \nNo previous knowledge of music theory or reading music is necessary\, but this class is for adults and teens who already know how to play a little bit. \nRegistration required. Please call the library to check availability. 606-437-6001.
URL:https://visitpikeville.com/event/music-theory-for-guitarists-6-2/
LOCATION:Pike County Public Library\, 126 Lee Avenue\, Pikeville\, KY\, 41501\, United States
CATEGORIES:Pike County Public Library
ATTACH;FMTTYPE=image/png:https://visitpikeville.com/wp-content/uploads/2025/05/theory.png
END:VEVENT
BEGIN:VEVENT
DTSTART;TZID=America/Kentucky/Louisville:20250612T170000
DTEND;TZID=America/Kentucky/Louisville:20250612T210000
DTSTAMP:20260424T071752
CREATED:20250609T134336Z
LAST-MODIFIED:20250609T134336Z
UID:65078-1749747600-1749762000@visitpikeville.com
SUMMARY:Beginners Sewing
DESCRIPTION:Come and Join Us
URL:https://visitpikeville.com/event/beginners-sewing-2-2-2-2-2-2-2-2-2-2-2-2-2-2-2-2-2-2-2-2-2-2-2-2-2-2-2-2-2-2-2-2-2-2-2-2-2-2-2-3/
LOCATION:Bridgett’s Quilting and Fabric Shop\, 237 2nd St\,\, Pikeville\, KY\, 41501\, United States
CATEGORIES:Pikeville Main Street
ATTACH;FMTTYPE=image/jpeg:https://visitpikeville.com/wp-content/uploads/2023/10/bridgetts.jpeg
END:VEVENT
BEGIN:VEVENT
DTSTART;TZID=America/Kentucky/Louisville:20250612T180000
DTEND;TZID=America/Kentucky/Louisville:20250612T200000
DTSTAMP:20260424T071752
CREATED:20241216T140750Z
LAST-MODIFIED:20250203T150604Z
UID:60905-1749751200-1749758400@visitpikeville.com
SUMMARY:Speaking engagement with actor C Thomas Howell from the Outsiders
DESCRIPTION:Pre-Show Meet and Greet starts at 6pm\nSpend a night with actor C. Thomas Howell and hear behind-the-scenes trivia\, stories about filming\, information about his charity work\, and more. A musician and veteran of over 200 different film and TV projects\, Tommy has been in classics like E.T. The Extra-Terrestrial and The Outsiders\, on TV shows like Criminal Minds\, The Walking Dead\, Animal Kingdom\, and The Punisher\, as well as voice acting for Marvel’s Justice League series and appearing in the live-action Amazing Spider-Man. \nFrom 1980s titles now cult classics like The Hitcher and Red Dawn\, to historical titles like Gettysburg and 2024’s Reagan\, Howell has five decades of experience as an actor\, as well as a childhood on film sets as the son of a stuntman. You’ll hear namedropping\, storytelling\, and an option to meet C. Thomas Howell himself for a treasured memory with the man who brought Ponyboy Curtis\, Robert Morris\, Jim Halsey\, and so many other characters to life onscreen. \n6:00pm pre-show Meet & Greet (includes meeting Tommy and photo with him)\n7:00pm Doors Open\n7:30pm Show
URL:https://visitpikeville.com/event/speaking-engagement-with-actor-c-thomas-howell-from-the-outsiders/
LOCATION:Appalachian Center for the Arts\, 218 2nd St\,\, Pikeville\, Ky\, 41501
CATEGORIES:The Appalachian Center for the Arts
ATTACH;FMTTYPE=image/jpeg:https://visitpikeville.com/wp-content/uploads/2024/12/speaking.jpg
END:VEVENT
END:VCALENDAR