BEGIN:VCALENDAR
VERSION:2.0
PRODID:-//Visit Pikeville - ECPv6.15.20//NONSGML v1.0//EN
CALSCALE:GREGORIAN
METHOD:PUBLISH
X-ORIGINAL-URL:https://visitpikeville.com
X-WR-CALDESC:Events for Visit Pikeville
REFRESH-INTERVAL;VALUE=DURATION:PT1H
X-Robots-Tag:noindex
X-PUBLISHED-TTL:PT1H
BEGIN:VTIMEZONE
TZID:America/Kentucky/Louisville
BEGIN:DAYLIGHT
TZOFFSETFROM:-0500
TZOFFSETTO:-0400
TZNAME:EDT
DTSTART:20240310T070000
END:DAYLIGHT
BEGIN:STANDARD
TZOFFSETFROM:-0400
TZOFFSETTO:-0500
TZNAME:EST
DTSTART:20241103T060000
END:STANDARD
BEGIN:DAYLIGHT
TZOFFSETFROM:-0500
TZOFFSETTO:-0400
TZNAME:EDT
DTSTART:20250309T070000
END:DAYLIGHT
BEGIN:STANDARD
TZOFFSETFROM:-0400
TZOFFSETTO:-0500
TZNAME:EST
DTSTART:20251102T060000
END:STANDARD
BEGIN:DAYLIGHT
TZOFFSETFROM:-0500
TZOFFSETTO:-0400
TZNAME:EDT
DTSTART:20260308T070000
END:DAYLIGHT
BEGIN:STANDARD
TZOFFSETFROM:-0400
TZOFFSETTO:-0500
TZNAME:EST
DTSTART:20261101T060000
END:STANDARD
END:VTIMEZONE
BEGIN:VEVENT
DTSTART;TZID=America/Kentucky/Louisville:20250609T140000
DTEND;TZID=America/Kentucky/Louisville:20250609T150000
DTSTAMP:20260424T072002
CREATED:20250324T140229Z
LAST-MODIFIED:20250324T140229Z
UID:63608-1749477600-1749481200@visitpikeville.com
SUMMARY:Music Theory for Guitarists (Homeschool Group)
DESCRIPTION:Understanding how music works will give you the tools you need to write riffs\, songs\, and solos\, and learn to improvise in a friendly hands-on environment.\nRegistration required. Please call 606-437-6001.\nClass begins Monday\, April 14 at 2 pm and will be held alternating Mondays at the Pike County Public Library (Lee Ave).\nNo previous knowledge of music theory or reading music is necessary\, but this class is for students who already know how to play a little bit.
URL:https://visitpikeville.com/event/music-theory-for-guitarists-homeschool-group-2-2-2-2/
LOCATION:Pike County Public Library\, 126 Lee Avenue\, Pikeville\, KY\, 41501\, United States
CATEGORIES:Pike County Public Library
ATTACH;FMTTYPE=image/jpeg:https://visitpikeville.com/wp-content/uploads/2025/03/music-theory.jpg
END:VEVENT
BEGIN:VEVENT
DTSTART;TZID=America/Kentucky/Louisville:20250609T160000
DTEND;TZID=America/Kentucky/Louisville:20250609T170000
DTSTAMP:20260424T072002
CREATED:20250512T184624Z
LAST-MODIFIED:20250512T184624Z
UID:64500-1749484800-1749488400@visitpikeville.com
SUMMARY:Teen Summer Reading Programs (DIY Scratch Art)
DESCRIPTION:Teen Summer Reading Programs are held alternating Mondays at 4:00 at the Pike County Public Library (Lee Avenue) from June 9-July 21.\nJune 9: DIY Scratch Art – Create your own colorful scratch art! Design unique patterns\, hidden images\, or bold graphics—then scratch away to reveal vibrant colors underneath.\nJune 23: Personalized Puzzles – Teens will design a personalized puzzle with their perfect day\, then color in the design.\nJuly 7: Pendulum Painting – Teens will create abstract\, gravity-powered designs using a swinging pendulum. No two pieces are the same!\nJuly 21: Book Covers – If you could design the cover of your favorite book\, what would it look like?\nFor ages 13-17. No registration required.
URL:https://visitpikeville.com/event/teen-summer-reading-programs-diy-scratch-art/
LOCATION:Pike County Public Library\, 126 Lee Avenue\, Pikeville\, KY\, 41501\, United States
CATEGORIES:Pike County Public Library
ATTACH;FMTTYPE=image/jpeg:https://visitpikeville.com/wp-content/uploads/2025/05/teen-summer-program.jpg
END:VEVENT
BEGIN:VEVENT
DTSTART;TZID=America/Kentucky/Louisville:20250609T170000
DTEND;TZID=America/Kentucky/Louisville:20250609T180000
DTSTAMP:20260424T072002
CREATED:20250512T185057Z
LAST-MODIFIED:20250512T185057Z
UID:64512-1749488400-1749492000@visitpikeville.com
SUMMARY:Summer Yoga Class
DESCRIPTION:Join us for a basic yoga class in June and July\, every Monday at 5:00! Bring a mat if you have one\, but they are not required. For adult patrons age 18 or older.\nParticipants must sign a liability waiver.
URL:https://visitpikeville.com/event/summer-yoga-class-3-2/
LOCATION:Pike County Public Library\, 126 Lee Avenue\, Pikeville\, KY\, 41501\, United States
CATEGORIES:Pike County Public Library
ATTACH;FMTTYPE=image/jpeg:https://visitpikeville.com/wp-content/uploads/2025/05/summer-yoga.jpg
END:VEVENT
BEGIN:VEVENT
DTSTART;TZID=America/Kentucky/Louisville:20250609T173000
DTEND;TZID=America/Kentucky/Louisville:20250609T200000
DTSTAMP:20260424T072002
CREATED:20250609T132904Z
LAST-MODIFIED:20250609T132904Z
UID:65055-1749490200-1749499200@visitpikeville.com
SUMMARY:Mellow Monday's
DESCRIPTION:Card Games @ the Mine 606
URL:https://visitpikeville.com/event/mellow-mondays/
LOCATION:The Mine 606\, 121 Main St\, Pikeville\, KY\, 41501\, United States
CATEGORIES:Other
ATTACH;FMTTYPE=image/jpeg:https://visitpikeville.com/wp-content/uploads/2025/06/mine.jpg
END:VEVENT
BEGIN:VEVENT
DTSTART;TZID=America/Kentucky/Louisville:20250609T180000
DTEND;TZID=America/Kentucky/Louisville:20250609T190000
DTSTAMP:20260424T072002
CREATED:20250609T132113Z
LAST-MODIFIED:20250609T132113Z
UID:65053-1749492000-1749495600@visitpikeville.com
SUMMARY:City Commission Meeting
DESCRIPTION:6pm @ City Hall
URL:https://visitpikeville.com/event/city-commission-meeting-2-2-2-2-2-2-2-2-2-2-2-2-2-2-2-2-2-2-2-2-2-2-2-2-2-2-2-2-2-2-2-2-2/
LOCATION:Pikeville City Hall\, 243 Main St #1786\,\, Pikeville\, KY\, 41501\, United States
CATEGORIES:City of Pikeville
ATTACH;FMTTYPE=image/png:https://visitpikeville.com/wp-content/uploads/2023/09/image001.png
END:VEVENT
END:VCALENDAR