BEGIN:VCALENDAR
VERSION:2.0
PRODID:-//Visit Pikeville - ECPv6.15.20//NONSGML v1.0//EN
CALSCALE:GREGORIAN
METHOD:PUBLISH
X-ORIGINAL-URL:https://visitpikeville.com
X-WR-CALDESC:Events for Visit Pikeville
REFRESH-INTERVAL;VALUE=DURATION:PT1H
X-Robots-Tag:noindex
X-PUBLISHED-TTL:PT1H
BEGIN:VTIMEZONE
TZID:America/Kentucky/Louisville
BEGIN:DAYLIGHT
TZOFFSETFROM:-0500
TZOFFSETTO:-0400
TZNAME:EDT
DTSTART:20240310T070000
END:DAYLIGHT
BEGIN:STANDARD
TZOFFSETFROM:-0400
TZOFFSETTO:-0500
TZNAME:EST
DTSTART:20241103T060000
END:STANDARD
BEGIN:DAYLIGHT
TZOFFSETFROM:-0500
TZOFFSETTO:-0400
TZNAME:EDT
DTSTART:20250309T070000
END:DAYLIGHT
BEGIN:STANDARD
TZOFFSETFROM:-0400
TZOFFSETTO:-0500
TZNAME:EST
DTSTART:20251102T060000
END:STANDARD
BEGIN:DAYLIGHT
TZOFFSETFROM:-0500
TZOFFSETTO:-0400
TZNAME:EDT
DTSTART:20260308T070000
END:DAYLIGHT
BEGIN:STANDARD
TZOFFSETFROM:-0400
TZOFFSETTO:-0500
TZNAME:EST
DTSTART:20261101T060000
END:STANDARD
END:VTIMEZONE
BEGIN:VEVENT
DTSTART;VALUE=DATE:20250516
DTEND;VALUE=DATE:20250608
DTSTAMP:20260424T071928
CREATED:20250210T152736Z
LAST-MODIFIED:20250210T152736Z
UID:62757-1747353600-1749340799@visitpikeville.com
SUMMARY:MATILDA THE MUSICAL
DESCRIPTION:May 16 – June 7\, 2025
URL:https://visitpikeville.com/event/a-dolls-house-part-2-2/
LOCATION:Pikeville High School\, 120 Championship Dr\,\, Pikeville\, KY\, 41501\, United States
CATEGORIES:Pikeville Tourism
ATTACH;FMTTYPE=image/jpeg:https://visitpikeville.com/wp-content/uploads/2025/02/act.jpg
END:VEVENT
BEGIN:VEVENT
DTSTART;TZID=America/Kentucky/Louisville:20250605T110000
DTEND;TZID=America/Kentucky/Louisville:20250605T120000
DTSTAMP:20260424T071928
CREATED:20250602T141320Z
LAST-MODIFIED:20250602T141320Z
UID:64877-1749121200-1749124800@visitpikeville.com
SUMMARY:Summer Story Time
DESCRIPTION:Summer Story Time is for children ages 1-5 and features books\, action/movement\, songs\, and a craft. \n\n\n\n\n\n\n  \nSummer Story Time is held at the Pike County Public Library (Lee Ave) every Thursday at 11:00 from June 5th-July 17th.
URL:https://visitpikeville.com/event/summer-story-time-3/
LOCATION:Pike County Public Library\, 126 Lee Avenue\, Pikeville\, KY\, 41501\, United States
CATEGORIES:Pike County Public Library
ATTACH;FMTTYPE=image/png:https://visitpikeville.com/wp-content/uploads/2025/06/Summer_Story_Time.png
END:VEVENT
BEGIN:VEVENT
DTSTART;TZID=America/Kentucky/Louisville:20250605T150000
DTEND;TZID=America/Kentucky/Louisville:20250605T160000
DTSTAMP:20260424T071928
CREATED:20250602T142353Z
LAST-MODIFIED:20250602T142353Z
UID:64892-1749135600-1749139200@visitpikeville.com
SUMMARY:Beginner Kids Guitar Class
DESCRIPTION:Beginner guitar lessons for children ages 8-12. This class meets weekly on Thursdays at 3:00. Please bring your own instrument. \n\n\n\n\n\n\n  \nRegistration required. Please call the library at 606-437-6001 to check availability.
URL:https://visitpikeville.com/event/beginner-kids-guitar-class/
LOCATION:Pike County Public Library\, 126 Lee Avenue\, Pikeville\, KY\, 41501\, United States
CATEGORIES:Pike County Public Library
ATTACH;FMTTYPE=image/png:https://visitpikeville.com/wp-content/uploads/2025/06/Homeschool_Guitar_Lessons.png
END:VEVENT
BEGIN:VEVENT
DTSTART;TZID=America/Kentucky/Louisville:20250605T170000
DTEND;TZID=America/Kentucky/Louisville:20250605T180000
DTSTAMP:20260424T071928
CREATED:20250602T143048Z
LAST-MODIFIED:20250602T143048Z
UID:64901-1749142800-1749146400@visitpikeville.com
SUMMARY:Dungeons and Dragons
DESCRIPTION:Dungeons and Dragons Group meets every other Thursday at 5:00 at the Pike County Public Library (Lee Avenue). Beginners and experienced players alike are welcome. \n\n\n\n\n\n\n  \nDungeons and Dragons is a role playing game (RPG) where a single player plays as the Dungeon Master\, creating a world that the players interact with. Players act as a group of adventurers working together to complete quests\, slay monsters\, and achieve their own personal goals. The game uses a series of dice to help simulate how successful characters and monsters are at achieving their various goals.
URL:https://visitpikeville.com/event/dungeons-and-dragons-7/
LOCATION:Pike County Public Library\, 126 Lee Avenue\, Pikeville\, KY\, 41501\, United States
CATEGORIES:Pike County Public Library
ATTACH;FMTTYPE=image/png:https://visitpikeville.com/wp-content/uploads/2025/06/D_D_Group.png
END:VEVENT
BEGIN:VEVENT
DTSTART;TZID=America/Kentucky/Louisville:20250605T170000
DTEND;TZID=America/Kentucky/Louisville:20250605T180000
DTSTAMP:20260424T071928
CREATED:20250602T143419Z
LAST-MODIFIED:20250602T143419Z
UID:64906-1749142800-1749146400@visitpikeville.com
SUMMARY:Music Theory for Guitarists
DESCRIPTION:Understanding how music works will give you the tools you need to write riffs\, songs\, and solos\, and learn to improvise in a friendly hands-on environment. \n\n\n\n\n\n\nClass is held weekly at the Pike County Public Library (Lee Ave) every Thursday at 5:00. \nNo previous knowledge of music theory or reading music is necessary\, but this class is for adults and teens who already know how to play a little bit. \nRegistration required. Please call the library to check availability. 606-437-6001.
URL:https://visitpikeville.com/event/music-theory-for-guitarists-6/
LOCATION:Pike County Public Library\, 126 Lee Avenue\, Pikeville\, KY\, 41501\, United States
CATEGORIES:Pike County Public Library
ATTACH;FMTTYPE=image/png:https://visitpikeville.com/wp-content/uploads/2025/05/theory.png
END:VEVENT
BEGIN:VEVENT
DTSTART;TZID=America/Kentucky/Louisville:20250605T173000
DTEND;TZID=America/Kentucky/Louisville:20250605T203000
DTSTAMP:20260424T071928
CREATED:20250602T135844Z
LAST-MODIFIED:20250602T135844Z
UID:64857-1749144600-1749155400@visitpikeville.com
SUMMARY:Rocky the Rooster
DESCRIPTION:Join us in Pikeville\, KY on Thursday\, June 5th\, 2025 for a painting class featuring ‘Rocky the Rooster.’ The 16×20 canvas artwork will be created through step-by-step instruction and is available for $30. To reserve\, please send a private message. 2 Broke Art Teachers
URL:https://visitpikeville.com/event/rocky-the-rooster/
LOCATION:2 Broke Art Teachers\, 4505 Weddington Square\,\, Pikeville\, KY\, 41501\, United States
CATEGORIES:Other
ATTACH;FMTTYPE=image/jpeg:https://visitpikeville.com/wp-content/uploads/2025/06/rocky-rooster.jpg
END:VEVENT
BEGIN:VEVENT
DTSTART;TZID=America/Kentucky/Louisville:20250605T193000
DTEND;TZID=America/Kentucky/Louisville:20250605T213000
DTSTAMP:20260424T071928
CREATED:20250310T122646Z
LAST-MODIFIED:20250310T122646Z
UID:63378-1749151800-1749159000@visitpikeville.com
SUMMARY:Let's dance the night away
DESCRIPTION:First class: Thursday April 3\, ChaCha!\n\n\nRegistration online coming soon and will be available at the door.\n\n\nInstructor: Mickey McGuire\n\n\nMicky has been a dance competitor for over thirty years\, participating in contests in almost every major city in America. Being well versed in ballroom\, country\, and swing\, He’s won one World Championship in Stockholm\, Sweden and a National Championship in Las Vegas\, Nevada\, with partner Jessica Bryant\, and two National Championships in ballroom dancing with partner Mary McGuire.\nLocally\, Mickey has been the director and producer of Dancing for Shelter at the Mountain Arts Center for seven years; a dance competition that raises funds for the local homeless shelter. You can also catch him on stage at the Mac every year in the role of Drosselmeyer in the Dance Etc. Nutcracker .
URL:https://visitpikeville.com/event/lets-dance-the-night-away-2-2/
LOCATION:Appalachian Center for the Arts\, 218 2nd St\,\, Pikeville\, Ky\, 41501
CATEGORIES:The Appalachian Center for the Arts
ATTACH;FMTTYPE=image/jpeg:https://visitpikeville.com/wp-content/uploads/2025/03/dance.jpg
END:VEVENT
END:VCALENDAR