BEGIN:VCALENDAR
VERSION:2.0
PRODID:-//Visit Pikeville - ECPv6.15.20//NONSGML v1.0//EN
CALSCALE:GREGORIAN
METHOD:PUBLISH
X-ORIGINAL-URL:https://visitpikeville.com
X-WR-CALDESC:Events for Visit Pikeville
REFRESH-INTERVAL;VALUE=DURATION:PT1H
X-Robots-Tag:noindex
X-PUBLISHED-TTL:PT1H
BEGIN:VTIMEZONE
TZID:America/Kentucky/Louisville
BEGIN:DAYLIGHT
TZOFFSETFROM:-0500
TZOFFSETTO:-0400
TZNAME:EDT
DTSTART:20240310T070000
END:DAYLIGHT
BEGIN:STANDARD
TZOFFSETFROM:-0400
TZOFFSETTO:-0500
TZNAME:EST
DTSTART:20241103T060000
END:STANDARD
BEGIN:DAYLIGHT
TZOFFSETFROM:-0500
TZOFFSETTO:-0400
TZNAME:EDT
DTSTART:20250309T070000
END:DAYLIGHT
BEGIN:STANDARD
TZOFFSETFROM:-0400
TZOFFSETTO:-0500
TZNAME:EST
DTSTART:20251102T060000
END:STANDARD
BEGIN:DAYLIGHT
TZOFFSETFROM:-0500
TZOFFSETTO:-0400
TZNAME:EDT
DTSTART:20260308T070000
END:DAYLIGHT
BEGIN:STANDARD
TZOFFSETFROM:-0400
TZOFFSETTO:-0500
TZNAME:EST
DTSTART:20261101T060000
END:STANDARD
END:VTIMEZONE
BEGIN:VEVENT
DTSTART;VALUE=DATE:20250516
DTEND;VALUE=DATE:20250608
DTSTAMP:20260424T071923
CREATED:20250210T152736Z
LAST-MODIFIED:20250210T152736Z
UID:62757-1747353600-1749340799@visitpikeville.com
SUMMARY:MATILDA THE MUSICAL
DESCRIPTION:May 16 – June 7\, 2025
URL:https://visitpikeville.com/event/a-dolls-house-part-2-2/
LOCATION:Pikeville High School\, 120 Championship Dr\,\, Pikeville\, KY\, 41501\, United States
CATEGORIES:Pikeville Tourism
ATTACH;FMTTYPE=image/jpeg:https://visitpikeville.com/wp-content/uploads/2025/02/act.jpg
END:VEVENT
BEGIN:VEVENT
DTSTART;TZID=America/Kentucky/Louisville:20250603T170000
DTEND;TZID=America/Kentucky/Louisville:20250603T180000
DTSTAMP:20260424T071923
CREATED:20250602T140309Z
LAST-MODIFIED:20250602T140309Z
UID:64861-1748970000-1748973600@visitpikeville.com
SUMMARY:Adult Guitar Class
DESCRIPTION:Beginner guitar lessons for patrons ages 18+. This class meets weekly on Tuesdays at 5:00. Please bring your own instrument. Registration required. \n\n\n\n\n\n\n  \nCall the library at 606-437-6001 to check availability.
URL:https://visitpikeville.com/event/adult-guitar-class-4-2-2-2-2/
LOCATION:Pike County Public Library\, 126 Lee Avenue\, Pikeville\, KY\, 41501\, United States
CATEGORIES:Pike County Public Library
ATTACH;FMTTYPE=image/png:https://visitpikeville.com/wp-content/uploads/2025/05/theory.png
END:VEVENT
BEGIN:VEVENT
DTSTART;TZID=America/Kentucky/Louisville:20250603T173000
DTEND;TZID=America/Kentucky/Louisville:20250603T183000
DTSTAMP:20260424T071923
CREATED:20250512T184306Z
LAST-MODIFIED:20250512T184306Z
UID:64497-1748971800-1748975400@visitpikeville.com
SUMMARY:Hummingbirds and Flowers
DESCRIPTION:Did you know that Ruby-throated Hummingbirds are plant pollinators? Bees and other insects get all the PR\, but hummingbirds play a unique role as the pollinators for certain native plants.\nThe relationship between hummingbirds and flowers is an intricate story — and it’s a love affair that benefits both. How do birds recognize good nectar sources? Why do some plants want to attract birds instead of insects? And what does it all have to do with seed production?\nWith color photos and engaging stories\, author\, photographer\, and field naturalist Nancy Grant offers fascinating insights into the private lives of Ruby-throated Hummingbirds. In this presentation you’ll understand what it’s like to be a hummingbird and discover intimate details about their lifestyle.\nAt the end of the presentation\, Nancy will conduct a Q&A session. She will also have copies of her books for sale.\nThis program will be held at the Pike County Public Library (Lee Avenue) on Tuesday\, June 3rd at 5:30. No registration required.
URL:https://visitpikeville.com/event/hummingbirds-and-flowers/
LOCATION:Pike County Public Library\, 126 Lee Avenue\, Pikeville\, KY\, 41501\, United States
CATEGORIES:Pike County Public Library
ATTACH;FMTTYPE=image/jpeg:https://visitpikeville.com/wp-content/uploads/2025/05/hummingbirds.jpg
END:VEVENT
END:VCALENDAR