BEGIN:VCALENDAR
VERSION:2.0
PRODID:-//Visit Pikeville - ECPv6.15.20//NONSGML v1.0//EN
CALSCALE:GREGORIAN
METHOD:PUBLISH
X-ORIGINAL-URL:https://visitpikeville.com
X-WR-CALDESC:Events for Visit Pikeville
REFRESH-INTERVAL;VALUE=DURATION:PT1H
X-Robots-Tag:noindex
X-PUBLISHED-TTL:PT1H
BEGIN:VTIMEZONE
TZID:America/Kentucky/Louisville
BEGIN:DAYLIGHT
TZOFFSETFROM:-0500
TZOFFSETTO:-0400
TZNAME:EDT
DTSTART:20240310T070000
END:DAYLIGHT
BEGIN:STANDARD
TZOFFSETFROM:-0400
TZOFFSETTO:-0500
TZNAME:EST
DTSTART:20241103T060000
END:STANDARD
BEGIN:DAYLIGHT
TZOFFSETFROM:-0500
TZOFFSETTO:-0400
TZNAME:EDT
DTSTART:20250309T070000
END:DAYLIGHT
BEGIN:STANDARD
TZOFFSETFROM:-0400
TZOFFSETTO:-0500
TZNAME:EST
DTSTART:20251102T060000
END:STANDARD
BEGIN:DAYLIGHT
TZOFFSETFROM:-0500
TZOFFSETTO:-0400
TZNAME:EDT
DTSTART:20260308T070000
END:DAYLIGHT
BEGIN:STANDARD
TZOFFSETFROM:-0400
TZOFFSETTO:-0500
TZNAME:EST
DTSTART:20261101T060000
END:STANDARD
END:VTIMEZONE
BEGIN:VEVENT
DTSTART;TZID=America/Kentucky/Louisville:20250401T120000
DTEND;TZID=America/Kentucky/Louisville:20250531T120000
DTSTAMP:20260424T103329
CREATED:20250127T192614Z
LAST-MODIFIED:20250127T192614Z
UID:62547-1743508800-1748692800@visitpikeville.com
SUMMARY:Pikeville's County Wide Fishing Tournament 2025
DESCRIPTION:ATTENTION Fisherman!!!! \n\n\nGet ready for Pikeville’s County Wide Fishing Tournament 2025!!!\nThe Eligible Water for this Tournament are all public accessible waters inside of or directly bordering Pike County\, Kentucky. These include the Upper Levisa River\, The Russell Fork\, The Big Sandy\, the Tug Fork\, Fish trap Lake\, Pikeville Pond\, Grants Branch\, Johns Creek to the Damn at Dewey Lake and many other creeks and streams located in and bordering Pike County.\n\n\nPRIVATE PONDS\, GOLF COURSE PONDS\, ETC ARE NOT ELIGIBLE!\n\n\nSign up on the tourney X app! Registration opens February 1st!
URL:https://visitpikeville.com/event/pikevilles-county-wide-fishing-tournament-2025/
LOCATION:KY
CATEGORIES:Pikeville Tourism
ATTACH;FMTTYPE=image/jpeg:https://visitpikeville.com/wp-content/uploads/2025/01/bass.jpg
END:VEVENT
BEGIN:VEVENT
DTSTART;VALUE=DATE:20250516
DTEND;VALUE=DATE:20250608
DTSTAMP:20260424T103329
CREATED:20250210T152736Z
LAST-MODIFIED:20250210T152736Z
UID:62757-1747353600-1749340799@visitpikeville.com
SUMMARY:MATILDA THE MUSICAL
DESCRIPTION:May 16 – June 7\, 2025
URL:https://visitpikeville.com/event/a-dolls-house-part-2-2/
LOCATION:Pikeville High School\, 120 Championship Dr\,\, Pikeville\, KY\, 41501\, United States
CATEGORIES:Pikeville Tourism
ATTACH;FMTTYPE=image/jpeg:https://visitpikeville.com/wp-content/uploads/2025/02/act.jpg
END:VEVENT
BEGIN:VEVENT
DTSTART;TZID=America/Kentucky/Louisville:20250520T090000
DTEND;TZID=America/Kentucky/Louisville:20250520T103000
DTSTAMP:20260424T103329
CREATED:20250519T135109Z
LAST-MODIFIED:20250519T135109Z
UID:64655-1747731600-1747737000@visitpikeville.com
SUMMARY:Canva Made Simple: Design Basics for Small Businesses
DESCRIPTION:Pikeville Main Street\, Kentucky Main Street\, and Main Street America are partnering to provide a valuable webinar to area small businesses at no charge! Register now to take part in Canva Made Simple: Design Basics for Small Businesses on Tuesday\, May 20th 9:00 am to 10:30 am\n\n\nEven if you cannot make the event time\, register to receive a copy of the recorded webinar to work through on your own time! Canva can be an incredible resource for your business if you know how to utilize it.
URL:https://visitpikeville.com/event/canva-made-simple-design-basics-for-small-businesses/
LOCATION:Virtual\, Pikeville\, Ky\, 41501
CATEGORIES:Southeast Kentucky Chamber
ATTACH;FMTTYPE=image/jpeg:https://visitpikeville.com/wp-content/uploads/2025/05/small-business.jpg
END:VEVENT
BEGIN:VEVENT
DTSTART;TZID=America/Kentucky/Louisville:20250520T100000
DTEND;TZID=America/Kentucky/Louisville:20250520T110000
DTSTAMP:20260424T103329
CREATED:20250505T124536Z
LAST-MODIFIED:20250505T124536Z
UID:64115-1747735200-1747738800@visitpikeville.com
SUMMARY:Pike County Fiscal Court Meeting
DESCRIPTION:10:00am @ Old Courthouse
URL:https://visitpikeville.com/event/pike-county-fiscal-court-meeting-2-2-2-2-2-2-2-2-3-2-2-2-2-2-2-2-2-2-2-2-2-2/
LOCATION:Pike County Clerk\, 146 Main St\,\, Pikeville\, 41501\, United States
CATEGORIES:City of Pikeville
ATTACH;FMTTYPE=image/png:https://visitpikeville.com/wp-content/uploads/2023/09/image001.png
END:VEVENT
BEGIN:VEVENT
DTSTART;TZID=America/Kentucky/Louisville:20250520T163000
DTEND;TZID=America/Kentucky/Louisville:20250520T183000
DTSTAMP:20260424T103329
CREATED:20250422T193359Z
LAST-MODIFIED:20250422T193359Z
UID:63976-1747758600-1747765800@visitpikeville.com
SUMMARY:Astronaut for a Day
DESCRIPTION:Want to know what it’s like to be an astronaut? What they eat and how they eat it? What they do for fun? How they train for life in space? Find out at our Astronaut for a Day program!\nPresented by the Challenger Learning Center\, participants will also get to build their own rocket and launch it outdoors. This program is for children ages 5-10 and lasts approximately two hours.\nAstronaut for a Day will take place at the Pike County Public Library (Lee Avenue) on May 20th from 4:30-6:30. No registration required.
URL:https://visitpikeville.com/event/astronaut-for-a-day/
LOCATION:Pike County Public Library\, 126 Lee Avenue\, Pikeville\, KY\, 41501\, United States
CATEGORIES:Pike County Public Library
ATTACH;FMTTYPE=image/jpeg:https://visitpikeville.com/wp-content/uploads/2025/04/astronaut.jpg
END:VEVENT
BEGIN:VEVENT
DTSTART;TZID=America/Kentucky/Louisville:20250520T170000
DTEND;TZID=America/Kentucky/Louisville:20250520T180000
DTSTAMP:20260424T103329
CREATED:20250505T151843Z
LAST-MODIFIED:20250505T151843Z
UID:64218-1747760400-1747764000@visitpikeville.com
SUMMARY:Adult Guitar Class
DESCRIPTION:Beginner guitar lessons for patrons ages 18+. This class meets weekly on Tuesdays at 5:00. Please bring your own instrument. Registration required. \n\n\n\n\n\n\n  \nCall the library at 606-437-6001 to check availability.
URL:https://visitpikeville.com/event/adult-guitar-class-4-2-2/
LOCATION:Pike County Public Library\, 126 Lee Avenue\, Pikeville\, KY\, 41501\, United States
CATEGORIES:Pike County Public Library
ATTACH;FMTTYPE=image/png:https://visitpikeville.com/wp-content/uploads/2025/05/theory.png
END:VEVENT
BEGIN:VEVENT
DTSTART;TZID=America/Kentucky/Louisville:20250520T180000
DTEND;TZID=America/Kentucky/Louisville:20250520T200000
DTSTAMP:20260424T103329
CREATED:20250505T142817Z
LAST-MODIFIED:20250505T142817Z
UID:64181-1747764000-1747771200@visitpikeville.com
SUMMARY:Support group for Grieving Parents
DESCRIPTION:Join us for our monthly session of Willow’s Friends at 6pm. Virtual options are available.
URL:https://visitpikeville.com/event/support-group-for-grieving-parents-2/
LOCATION:Pike County Health Department\, 119 River Drive\,\, Pikeville\, KY\, 41501\, United States
CATEGORIES:Pike County Health Department
ATTACH;FMTTYPE=image/jpeg:https://visitpikeville.com/wp-content/uploads/2025/05/grieving-parents.jpg
END:VEVENT
BEGIN:VEVENT
DTSTART;TZID=America/Kentucky/Louisville:20250520T180000
DTEND;TZID=America/Kentucky/Louisville:20250520T200000
DTSTAMP:20260424T103329
CREATED:20250519T141004Z
LAST-MODIFIED:20250519T141004Z
UID:64663-1747764000-1747771200@visitpikeville.com
SUMMARY:Diabetes Prevention Program
DESCRIPTION:Our Diabetes Prevention Program starts May 20\, 2025\, at 6:00 PM at the Pike County Health Department. This free program provides coaching\, support\, and tools to help you build a healthier lifestyle. Call 606-509-5500 today for more information.
URL:https://visitpikeville.com/event/diabetes-prevention-program/
LOCATION:Pike County Health Department\, 119 River Drive\,\, Pikeville\, KY\, 41501\, United States
CATEGORIES:Pike County Health Department
ATTACH;FMTTYPE=image/jpeg:https://visitpikeville.com/wp-content/uploads/2025/05/diabetes-program.jpg
END:VEVENT
END:VCALENDAR