BEGIN:VCALENDAR
VERSION:2.0
PRODID:-//Visit Pikeville - ECPv6.15.20//NONSGML v1.0//EN
CALSCALE:GREGORIAN
METHOD:PUBLISH
X-ORIGINAL-URL:https://visitpikeville.com
X-WR-CALDESC:Events for Visit Pikeville
REFRESH-INTERVAL;VALUE=DURATION:PT1H
X-Robots-Tag:noindex
X-PUBLISHED-TTL:PT1H
BEGIN:VTIMEZONE
TZID:America/Kentucky/Louisville
BEGIN:DAYLIGHT
TZOFFSETFROM:-0500
TZOFFSETTO:-0400
TZNAME:EDT
DTSTART:20240310T070000
END:DAYLIGHT
BEGIN:STANDARD
TZOFFSETFROM:-0400
TZOFFSETTO:-0500
TZNAME:EST
DTSTART:20241103T060000
END:STANDARD
BEGIN:DAYLIGHT
TZOFFSETFROM:-0500
TZOFFSETTO:-0400
TZNAME:EDT
DTSTART:20250309T070000
END:DAYLIGHT
BEGIN:STANDARD
TZOFFSETFROM:-0400
TZOFFSETTO:-0500
TZNAME:EST
DTSTART:20251102T060000
END:STANDARD
BEGIN:DAYLIGHT
TZOFFSETFROM:-0500
TZOFFSETTO:-0400
TZNAME:EDT
DTSTART:20260308T070000
END:DAYLIGHT
BEGIN:STANDARD
TZOFFSETFROM:-0400
TZOFFSETTO:-0500
TZNAME:EST
DTSTART:20261101T060000
END:STANDARD
END:VTIMEZONE
BEGIN:VEVENT
DTSTART;TZID=America/Kentucky/Louisville:20250401T120000
DTEND;TZID=America/Kentucky/Louisville:20250531T120000
DTSTAMP:20260424T102046
CREATED:20250127T192614Z
LAST-MODIFIED:20250127T192614Z
UID:62547-1743508800-1748692800@visitpikeville.com
SUMMARY:Pikeville's County Wide Fishing Tournament 2025
DESCRIPTION:ATTENTION Fisherman!!!! \n\n\nGet ready for Pikeville’s County Wide Fishing Tournament 2025!!!\nThe Eligible Water for this Tournament are all public accessible waters inside of or directly bordering Pike County\, Kentucky. These include the Upper Levisa River\, The Russell Fork\, The Big Sandy\, the Tug Fork\, Fish trap Lake\, Pikeville Pond\, Grants Branch\, Johns Creek to the Damn at Dewey Lake and many other creeks and streams located in and bordering Pike County.\n\n\nPRIVATE PONDS\, GOLF COURSE PONDS\, ETC ARE NOT ELIGIBLE!\n\n\nSign up on the tourney X app! Registration opens February 1st!
URL:https://visitpikeville.com/event/pikevilles-county-wide-fishing-tournament-2025/
LOCATION:KY
CATEGORIES:Pikeville Tourism
ATTACH;FMTTYPE=image/jpeg:https://visitpikeville.com/wp-content/uploads/2025/01/bass.jpg
END:VEVENT
BEGIN:VEVENT
DTSTART;VALUE=DATE:20250513
DTEND;VALUE=DATE:20250514
DTSTAMP:20260424T102046
CREATED:20250512T172917Z
LAST-MODIFIED:20250512T172917Z
UID:64463-1747094400-1747180799@visitpikeville.com
SUMMARY:Give Back Night
DESCRIPTION:We love seeing our members working together\, especially for a good cause.  Tomorrow is Give Back Night at Drake’s Pikeville\, KY\, mention Judi’s Place for Kids and proceeds from your meal will go directly toward helping children in our area. Includes both dine-in and carry-out options.
URL:https://visitpikeville.com/event/give-back-night/
LOCATION:Drake’s\, 175 Lee Ave.\,\, Pikeville\, KY\, 41501\, United States
CATEGORIES:Southeast Kentucky Chamber
ATTACH;FMTTYPE=image/jpeg:https://visitpikeville.com/wp-content/uploads/2025/05/drakes.jpg
END:VEVENT
BEGIN:VEVENT
DTSTART;TZID=America/Kentucky/Louisville:20250513T120000
DTEND;TZID=America/Kentucky/Louisville:20250513T130000
DTSTAMP:20260424T102046
CREATED:20250422T120234Z
LAST-MODIFIED:20250422T120234Z
UID:63968-1747137600-1747141200@visitpikeville.com
SUMMARY:Lunch & Learn with Rural Up\, Inc.
DESCRIPTION:Learn about Rural Up’s student internship program & how they’re helping high school students prepare for success! \nSpeakers Brandy Crase\, Communications & Programs;\nand Rosanna Hutcherson\, Operations & External Partnerships
URL:https://visitpikeville.com/event/lunch-learn-with-rural-up-inc/
LOCATION:Garfield House\, 178 College Street\, Pikeville\, KY\, 41501\, United States
CATEGORIES:Southeast Kentucky Chamber
ATTACH;FMTTYPE=image/png:https://visitpikeville.com/wp-content/uploads/2025/04/rural-up.png
END:VEVENT
BEGIN:VEVENT
DTSTART;TZID=America/Kentucky/Louisville:20250513T170000
DTEND;TZID=America/Kentucky/Louisville:20250513T180000
DTSTAMP:20260424T102046
CREATED:20250505T151816Z
LAST-MODIFIED:20250505T151816Z
UID:64216-1747155600-1747159200@visitpikeville.com
SUMMARY:Adult Guitar Class
DESCRIPTION:Beginner guitar lessons for patrons ages 18+. This class meets weekly on Tuesdays at 5:00. Please bring your own instrument. Registration required. \n\n\n\n\n\n\n  \nCall the library at 606-437-6001 to check availability.
URL:https://visitpikeville.com/event/adult-guitar-class-4-2/
LOCATION:Pike County Public Library\, 126 Lee Avenue\, Pikeville\, KY\, 41501\, United States
CATEGORIES:Pike County Public Library
ATTACH;FMTTYPE=image/png:https://visitpikeville.com/wp-content/uploads/2025/05/theory.png
END:VEVENT
BEGIN:VEVENT
DTSTART;TZID=America/Kentucky/Louisville:20250513T170000
DTEND;TZID=America/Kentucky/Louisville:20250513T180000
DTSTAMP:20260424T102046
CREATED:20250505T153522Z
LAST-MODIFIED:20250505T153522Z
UID:64250-1747155600-1747159200@visitpikeville.com
SUMMARY:Book Talks Book Club
DESCRIPTION:Book Talks is a book club that meets for discussion at the Pike County Public Library (Lee Avenue). No registration required.
URL:https://visitpikeville.com/event/book-talks-book-club-10/
LOCATION:Pike County Public Library\, 126 Lee Avenue\, Pikeville\, KY\, 41501\, United States
CATEGORIES:Pike County Public Library
ATTACH;FMTTYPE=image/png:https://visitpikeville.com/wp-content/uploads/2025/05/Book_Talks_Book_Club_UPDATED.png
END:VEVENT
END:VCALENDAR