BEGIN:VCALENDAR
VERSION:2.0
PRODID:-//Visit Pikeville - ECPv6.15.20//NONSGML v1.0//EN
CALSCALE:GREGORIAN
METHOD:PUBLISH
X-ORIGINAL-URL:https://visitpikeville.com
X-WR-CALDESC:Events for Visit Pikeville
REFRESH-INTERVAL;VALUE=DURATION:PT1H
X-Robots-Tag:noindex
X-PUBLISHED-TTL:PT1H
BEGIN:VTIMEZONE
TZID:America/Kentucky/Louisville
BEGIN:DAYLIGHT
TZOFFSETFROM:-0500
TZOFFSETTO:-0400
TZNAME:EDT
DTSTART:20240310T070000
END:DAYLIGHT
BEGIN:STANDARD
TZOFFSETFROM:-0400
TZOFFSETTO:-0500
TZNAME:EST
DTSTART:20241103T060000
END:STANDARD
BEGIN:DAYLIGHT
TZOFFSETFROM:-0500
TZOFFSETTO:-0400
TZNAME:EDT
DTSTART:20250309T070000
END:DAYLIGHT
BEGIN:STANDARD
TZOFFSETFROM:-0400
TZOFFSETTO:-0500
TZNAME:EST
DTSTART:20251102T060000
END:STANDARD
BEGIN:DAYLIGHT
TZOFFSETFROM:-0500
TZOFFSETTO:-0400
TZNAME:EDT
DTSTART:20260308T070000
END:DAYLIGHT
BEGIN:STANDARD
TZOFFSETFROM:-0400
TZOFFSETTO:-0500
TZNAME:EST
DTSTART:20261101T060000
END:STANDARD
END:VTIMEZONE
BEGIN:VEVENT
DTSTART;TZID=America/Kentucky/Louisville:20250401T120000
DTEND;TZID=America/Kentucky/Louisville:20250531T120000
DTSTAMP:20260424T102047
CREATED:20250127T192614Z
LAST-MODIFIED:20250127T192614Z
UID:62547-1743508800-1748692800@visitpikeville.com
SUMMARY:Pikeville's County Wide Fishing Tournament 2025
DESCRIPTION:ATTENTION Fisherman!!!! \n\n\nGet ready for Pikeville’s County Wide Fishing Tournament 2025!!!\nThe Eligible Water for this Tournament are all public accessible waters inside of or directly bordering Pike County\, Kentucky. These include the Upper Levisa River\, The Russell Fork\, The Big Sandy\, the Tug Fork\, Fish trap Lake\, Pikeville Pond\, Grants Branch\, Johns Creek to the Damn at Dewey Lake and many other creeks and streams located in and bordering Pike County.\n\n\nPRIVATE PONDS\, GOLF COURSE PONDS\, ETC ARE NOT ELIGIBLE!\n\n\nSign up on the tourney X app! Registration opens February 1st!
URL:https://visitpikeville.com/event/pikevilles-county-wide-fishing-tournament-2025/
LOCATION:KY
CATEGORIES:Pikeville Tourism
ATTACH;FMTTYPE=image/jpeg:https://visitpikeville.com/wp-content/uploads/2025/01/bass.jpg
END:VEVENT
BEGIN:VEVENT
DTSTART;TZID=America/Kentucky/Louisville:20250512T140000
DTEND;TZID=America/Kentucky/Louisville:20250512T150000
DTSTAMP:20260424T102047
CREATED:20250324T140130Z
LAST-MODIFIED:20250324T140130Z
UID:63604-1747058400-1747062000@visitpikeville.com
SUMMARY:Music Theory for Guitarists (Homeschool Group)
DESCRIPTION:Understanding how music works will give you the tools you need to write riffs\, songs\, and solos\, and learn to improvise in a friendly hands-on environment.\nRegistration required. Please call 606-437-6001.\nClass begins Monday\, April 14 at 2 pm and will be held alternating Mondays at the Pike County Public Library (Lee Ave).\nNo previous knowledge of music theory or reading music is necessary\, but this class is for students who already know how to play a little bit.
URL:https://visitpikeville.com/event/music-theory-for-guitarists-homeschool-group-2-2/
LOCATION:Pike County Public Library\, 126 Lee Avenue\, Pikeville\, KY\, 41501\, United States
CATEGORIES:Pike County Public Library
ATTACH;FMTTYPE=image/jpeg:https://visitpikeville.com/wp-content/uploads/2025/03/music-theory.jpg
END:VEVENT
BEGIN:VEVENT
DTSTART;TZID=America/Kentucky/Louisville:20250512T140000
DTEND;TZID=America/Kentucky/Louisville:20250512T150000
DTSTAMP:20260424T102047
CREATED:20250505T153158Z
LAST-MODIFIED:20250505T153158Z
UID:64245-1747058400-1747062000@visitpikeville.com
SUMMARY:Music Theory for Guitarists
DESCRIPTION:Understanding how music works will give you the tools you need to write riffs\, songs\, and solos\, and learn to improvise in a friendly hands-on environment. \n\n\n\n\n\n\n  \nClass is held weekly at the Pike County Public Library (Lee Ave) every Thursday at 5:00. \n  \nNo previous knowledge of music theory or reading music is necessary\, but this class is for adults and teens who already know how to play a little bit. \n  \nRegistration required. Please call the library to check availability. 606-437-6001.
URL:https://visitpikeville.com/event/music-theory-for-guitarists-5/
LOCATION:Pike County Public Library\, 126 Lee Avenue\, Pikeville\, KY\, 41501\, United States
CATEGORIES:Pike County Public Library
ATTACH;FMTTYPE=image/png:https://visitpikeville.com/wp-content/uploads/2025/05/theory.png
END:VEVENT
BEGIN:VEVENT
DTSTART;TZID=America/Kentucky/Louisville:20250512T160000
DTEND;TZID=America/Kentucky/Louisville:20250512T170000
DTSTAMP:20260424T102047
CREATED:20250505T153359Z
LAST-MODIFIED:20250505T153359Z
UID:64247-1747065600-1747069200@visitpikeville.com
SUMMARY:Teen Activity Club
DESCRIPTION:Teen Activity Club is a craft group for kids ages 13-18. Teen Activity Club meets at the Pike County Public Library (Lee Avenue) on alternating Mondays at 4:00.
URL:https://visitpikeville.com/event/teen-activity-club-9/
LOCATION:Pike County Public Library\, 126 Lee Avenue\, Pikeville\, KY\, 41501\, United States
CATEGORIES:Pike County Public Library
ATTACH;FMTTYPE=image/png:https://visitpikeville.com/wp-content/uploads/2025/05/Teen_Activity_Club.png
END:VEVENT
BEGIN:VEVENT
DTSTART;TZID=America/Kentucky/Louisville:20250512T180000
DTEND;TZID=America/Kentucky/Louisville:20250512T190000
DTSTAMP:20260424T102047
CREATED:20250505T135425Z
LAST-MODIFIED:20250505T135425Z
UID:64146-1747072800-1747076400@visitpikeville.com
SUMMARY:City Commission Meeting
DESCRIPTION:6pm @ City Hall
URL:https://visitpikeville.com/event/city-commission-meeting-2-2-2-2-2-2-2-2-2-2-2-2-2-2-2-2-2-2-2-2-2-2-2-2-2-2-2-2-2-2-2/
LOCATION:Pikeville City Hall\, 243 Main St #1786\,\, Pikeville\, KY\, 41501\, United States
CATEGORIES:City of Pikeville
ATTACH;FMTTYPE=image/png:https://visitpikeville.com/wp-content/uploads/2023/09/image001.png
END:VEVENT
END:VCALENDAR