BEGIN:VCALENDAR
VERSION:2.0
PRODID:-//Visit Pikeville - ECPv6.15.20//NONSGML v1.0//EN
CALSCALE:GREGORIAN
METHOD:PUBLISH
X-WR-CALNAME:Visit Pikeville
X-ORIGINAL-URL:https://visitpikeville.com
X-WR-CALDESC:Events for Visit Pikeville
REFRESH-INTERVAL;VALUE=DURATION:PT1H
X-Robots-Tag:noindex
X-PUBLISHED-TTL:PT1H
BEGIN:VTIMEZONE
TZID:America/Kentucky/Louisville
BEGIN:DAYLIGHT
TZOFFSETFROM:-0500
TZOFFSETTO:-0400
TZNAME:EDT
DTSTART:20240310T070000
END:DAYLIGHT
BEGIN:STANDARD
TZOFFSETFROM:-0400
TZOFFSETTO:-0500
TZNAME:EST
DTSTART:20241103T060000
END:STANDARD
BEGIN:DAYLIGHT
TZOFFSETFROM:-0500
TZOFFSETTO:-0400
TZNAME:EDT
DTSTART:20250309T070000
END:DAYLIGHT
BEGIN:STANDARD
TZOFFSETFROM:-0400
TZOFFSETTO:-0500
TZNAME:EST
DTSTART:20251102T060000
END:STANDARD
BEGIN:DAYLIGHT
TZOFFSETFROM:-0500
TZOFFSETTO:-0400
TZNAME:EDT
DTSTART:20260308T070000
END:DAYLIGHT
BEGIN:STANDARD
TZOFFSETFROM:-0400
TZOFFSETTO:-0500
TZNAME:EST
DTSTART:20261101T060000
END:STANDARD
END:VTIMEZONE
BEGIN:VEVENT
DTSTART;TZID=America/Kentucky/Louisville:20250401T120000
DTEND;TZID=America/Kentucky/Louisville:20250531T120000
DTSTAMP:20260424T102041
CREATED:20250127T192614Z
LAST-MODIFIED:20250127T192614Z
UID:62547-1743508800-1748692800@visitpikeville.com
SUMMARY:Pikeville's County Wide Fishing Tournament 2025
DESCRIPTION:ATTENTION Fisherman!!!! \n\n\nGet ready for Pikeville’s County Wide Fishing Tournament 2025!!!\nThe Eligible Water for this Tournament are all public accessible waters inside of or directly bordering Pike County\, Kentucky. These include the Upper Levisa River\, The Russell Fork\, The Big Sandy\, the Tug Fork\, Fish trap Lake\, Pikeville Pond\, Grants Branch\, Johns Creek to the Damn at Dewey Lake and many other creeks and streams located in and bordering Pike County.\n\n\nPRIVATE PONDS\, GOLF COURSE PONDS\, ETC ARE NOT ELIGIBLE!\n\n\nSign up on the tourney X app! Registration opens February 1st!
URL:https://visitpikeville.com/event/pikevilles-county-wide-fishing-tournament-2025/
LOCATION:KY
CATEGORIES:Pikeville Tourism
ATTACH;FMTTYPE=image/jpeg:https://visitpikeville.com/wp-content/uploads/2025/01/bass.jpg
END:VEVENT
BEGIN:VEVENT
DTSTART;TZID=America/Kentucky/Louisville:20250509T130000
DTEND;TZID=America/Kentucky/Louisville:20250509T160000
DTSTAMP:20260424T102041
CREATED:20250505T142025Z
LAST-MODIFIED:20250505T142025Z
UID:64172-1746795600-1746806400@visitpikeville.com
SUMMARY:Mother’s Day
DESCRIPTION:Special Saturday event
URL:https://visitpikeville.com/event/mothers-day-2/
LOCATION:2 Broke Art Teachers\, 4505 Weddington Square\,\, Pikeville\, KY\, 41501\, United States
CATEGORIES:Other
ATTACH;FMTTYPE=image/jpeg:https://visitpikeville.com/wp-content/uploads/2025/05/mothers.jpg
END:VEVENT
BEGIN:VEVENT
DTSTART;TZID=America/Kentucky/Louisville:20250509T173000
DTEND;TZID=America/Kentucky/Louisville:20250509T193000
DTSTAMP:20260424T102041
CREATED:20250505T141827Z
LAST-MODIFIED:20250505T141827Z
UID:64169-1746811800-1746819000@visitpikeville.com
SUMMARY:Mother’s Day
DESCRIPTION:$30 16×20
URL:https://visitpikeville.com/event/mothers-day/
LOCATION:2 Broke Art Teachers\, 4505 Weddington Square\,\, Pikeville\, KY\, 41501\, United States
CATEGORIES:Other
ATTACH;FMTTYPE=image/jpeg:https://visitpikeville.com/wp-content/uploads/2025/05/mothers-day.jpg
END:VEVENT
BEGIN:VEVENT
DTSTART;TZID=America/Kentucky/Louisville:20250509T180000
DTEND;TZID=America/Kentucky/Louisville:20250509T210000
DTSTAMP:20260424T102041
CREATED:20250509T144733Z
LAST-MODIFIED:20250509T144733Z
UID:64401-1746813600-1746824400@visitpikeville.com
SUMMARY:Mom’s/Girl’s Night Out!
DESCRIPTION:Tonight is Mom’s/Girl’s Night Out!!!! All the fun starts at 6 PM!!!! One of our very favorite events sponsored by the Pikeville Main Street program!
URL:https://visitpikeville.com/event/moms-girls-night-out/
LOCATION:Main Street\, Main Street\, Pikeville\, KY\, 41501\, United States
CATEGORIES:City of Pikeville,Pikeville Main Street
ATTACH;FMTTYPE=image/jpeg:https://visitpikeville.com/wp-content/uploads/2025/05/night-out.jpg
END:VEVENT
BEGIN:VEVENT
DTSTART;TZID=America/Kentucky/Louisville:20250509T183000
DTEND;TZID=America/Kentucky/Louisville:20250509T203000
DTSTAMP:20260424T102041
CREATED:20250505T125044Z
LAST-MODIFIED:20250505T125044Z
UID:64120-1746815400-1746822600@visitpikeville.com
SUMMARY:UPIKE Social Work Pinning Ceremony
DESCRIPTION: Commencement Week at the University of Pikeville is just 9 days away!From May 8–10\, we’ll celebrate the incredible achievements of our graduating students across all programs.Can’t attend in person? Join us live on UPIKE’s YouTube channel.
URL:https://visitpikeville.com/event/upike-nursing-pinning-ceremony-2/
LOCATION:UPIKE’s Booth Auditorium\, 147 Sycamore St\, Pikeville\, KY\, 41501\, United States
CATEGORIES:UPike
ATTACH;FMTTYPE=image/jpeg:https://visitpikeville.com/wp-content/uploads/2025/05/commencement.jpg
END:VEVENT
BEGIN:VEVENT
DTSTART;TZID=America/Kentucky/Louisville:20250509T193000
DTEND;TZID=America/Kentucky/Louisville:20250509T223000
DTSTAMP:20260424T102041
CREATED:20250505T134128Z
LAST-MODIFIED:20250505T134128Z
UID:64131-1746819000-1746829800@visitpikeville.com
SUMMARY:Live Music at Bank 253
DESCRIPTION:7:30 – 10:30 pm
URL:https://visitpikeville.com/event/live-music-at-bank-253-3-2-2-2-2-2-2-2-2-2-2/
LOCATION:Bank 253\, 253 2nd St\,\, Pikeville\, KY\, 41501\, United States
CATEGORIES:Other
ATTACH;FMTTYPE=image/jpeg:https://visitpikeville.com/wp-content/uploads/2025/02/bank253.jpg
END:VEVENT
END:VCALENDAR