BEGIN:VCALENDAR
VERSION:2.0
PRODID:-//Visit Pikeville - ECPv6.15.20//NONSGML v1.0//EN
CALSCALE:GREGORIAN
METHOD:PUBLISH
X-WR-CALNAME:Visit Pikeville
X-ORIGINAL-URL:https://visitpikeville.com
X-WR-CALDESC:Events for Visit Pikeville
REFRESH-INTERVAL;VALUE=DURATION:PT1H
X-Robots-Tag:noindex
X-PUBLISHED-TTL:PT1H
BEGIN:VTIMEZONE
TZID:America/Kentucky/Louisville
BEGIN:DAYLIGHT
TZOFFSETFROM:-0500
TZOFFSETTO:-0400
TZNAME:EDT
DTSTART:20240310T070000
END:DAYLIGHT
BEGIN:STANDARD
TZOFFSETFROM:-0400
TZOFFSETTO:-0500
TZNAME:EST
DTSTART:20241103T060000
END:STANDARD
BEGIN:DAYLIGHT
TZOFFSETFROM:-0500
TZOFFSETTO:-0400
TZNAME:EDT
DTSTART:20250309T070000
END:DAYLIGHT
BEGIN:STANDARD
TZOFFSETFROM:-0400
TZOFFSETTO:-0500
TZNAME:EST
DTSTART:20251102T060000
END:STANDARD
BEGIN:DAYLIGHT
TZOFFSETFROM:-0500
TZOFFSETTO:-0400
TZNAME:EDT
DTSTART:20260308T070000
END:DAYLIGHT
BEGIN:STANDARD
TZOFFSETFROM:-0400
TZOFFSETTO:-0500
TZNAME:EST
DTSTART:20261101T060000
END:STANDARD
END:VTIMEZONE
BEGIN:VEVENT
DTSTART;TZID=America/Kentucky/Louisville:20250401T120000
DTEND;TZID=America/Kentucky/Louisville:20250531T120000
DTSTAMP:20260424T115611
CREATED:20250127T192614Z
LAST-MODIFIED:20250127T192614Z
UID:62547-1743508800-1748692800@visitpikeville.com
SUMMARY:Pikeville's County Wide Fishing Tournament 2025
DESCRIPTION:ATTENTION Fisherman!!!! \n\n\nGet ready for Pikeville’s County Wide Fishing Tournament 2025!!!\nThe Eligible Water for this Tournament are all public accessible waters inside of or directly bordering Pike County\, Kentucky. These include the Upper Levisa River\, The Russell Fork\, The Big Sandy\, the Tug Fork\, Fish trap Lake\, Pikeville Pond\, Grants Branch\, Johns Creek to the Damn at Dewey Lake and many other creeks and streams located in and bordering Pike County.\n\n\nPRIVATE PONDS\, GOLF COURSE PONDS\, ETC ARE NOT ELIGIBLE!\n\n\nSign up on the tourney X app! Registration opens February 1st!
URL:https://visitpikeville.com/event/pikevilles-county-wide-fishing-tournament-2025/
LOCATION:KY
CATEGORIES:Pikeville Tourism
ATTACH;FMTTYPE=image/jpeg:https://visitpikeville.com/wp-content/uploads/2025/01/bass.jpg
END:VEVENT
BEGIN:VEVENT
DTSTART;TZID=America/Kentucky/Louisville:20250409T163000
DTEND;TZID=America/Kentucky/Louisville:20250507T180000
DTSTAMP:20260424T115611
CREATED:20250310T121917Z
LAST-MODIFIED:20250324T125512Z
UID:63362-1744216200-1746640800@visitpikeville.com
SUMMARY:Junior Design Lab
DESCRIPTION:Ages 7-12\n\n\nWelcome to the totally sweet world of theatre design! Each week we’ll learn about a different element of design from costuming to props\, lighting to set design\, and scenic painting\, all while following the Candy Land theme of Gumdrop Mountains\, Peppermint Stick Forest\, Lollipop Lane\, and more! How do you make a fake cupcake? What type of sound and lighting best portrays the spookiness of the Licorice Forest? What painting techniques can you use to create a gumdrop? Let’s find out in the Junior Design Lab!\n\n\nMeetings: Wednesdays from 4:30-6:00 pm\n\n\nApril 9th-May 7th\n\n\nPrice: $150\n\n\nClass Instructor: Shannon Daniels\n\n\nBio:\n\n\nShannon Daniels is the Executive Director for The App. Throughout her career\, she has held many positions in the theatre world including stage management\, props design\, costume design\, performing\, teaching\, directing\, and much more. She absolutely loves making food props\, and creating anything she can out of pool noodles and pantyhose!
URL:https://visitpikeville.com/event/junior-design-lab/
LOCATION:Appalachian Center for the Arts\, 218 2nd St\,\, Pikeville\, Ky\, 41501
CATEGORIES:The Appalachian Center for the Arts
ATTACH;FMTTYPE=image/jpeg:https://visitpikeville.com/wp-content/uploads/2025/03/junior-design-lab.jpg
END:VEVENT
BEGIN:VEVENT
DTSTART;VALUE=DATE:20250415
DTEND;VALUE=DATE:20250416
DTSTAMP:20260424T115611
CREATED:20250407T211231Z
LAST-MODIFIED:20250407T211231Z
UID:63812-1744675200-1744761599@visitpikeville.com
SUMMARY:Clinic Orientation (Class of 2027)
DESCRIPTION:@UPIKE
URL:https://visitpikeville.com/event/clinic-orientation-class-of-2027/
LOCATION:UPIKE\, 147 Sycamore St\,\, Pikeville\, KY\, 41501\, United States
CATEGORIES:UPike
ATTACH;FMTTYPE=image/webp:https://visitpikeville.com/wp-content/uploads/2025/04/upike_logo-1.webp
END:VEVENT
BEGIN:VEVENT
DTSTART;TZID=America/Kentucky/Louisville:20250415T110000
DTEND;TZID=America/Kentucky/Louisville:20250415T130000
DTSTAMP:20260424T115611
CREATED:20250324T131833Z
LAST-MODIFIED:20250324T131833Z
UID:63571-1744714800-1744722000@visitpikeville.com
SUMMARY:Community Baby Shower
DESCRIPTION:Location change:\nPike Co Extension Office\nApril 15 11:00-1:00\n\n\n REGISTRATION REQUIRED\nMust be Pike Co resident
URL:https://visitpikeville.com/event/community-baby-shower/
LOCATION:Pike County Extension Office\, 148 Trivette Dr\, Pikeville\, KY\, 41501\, United States
CATEGORIES:Pike County Cooperative Extension Office
ATTACH;FMTTYPE=image/jpeg:https://visitpikeville.com/wp-content/uploads/2025/03/community-baby-shower.jpg
END:VEVENT
BEGIN:VEVENT
DTSTART;TZID=America/Kentucky/Louisville:20250415T140000
DTEND;TZID=America/Kentucky/Louisville:20250415T160000
DTSTAMP:20260424T115611
CREATED:20250106T143253Z
LAST-MODIFIED:20250106T143253Z
UID:61746-1744725600-1744732800@visitpikeville.com
SUMMARY:Softball vs Kentucky Christian University
DESCRIPTION:Game Day!
URL:https://visitpikeville.com/event/softball-vs-kentucky-christian-university-3/
LOCATION:Paul Butcher Field\, 134 Bank St\,\, Pikeville\, KY\, 41501\, United States
CATEGORIES:UPike
ATTACH;FMTTYPE=image/png:https://visitpikeville.com/wp-content/uploads/2025/01/Screenshot-2025-01-06-at-9.32.14 AM.png
END:VEVENT
BEGIN:VEVENT
DTSTART;TZID=America/Kentucky/Louisville:20250415T150000
DTEND;TZID=America/Kentucky/Louisville:20250415T170000
DTSTAMP:20260424T115611
CREATED:20241111T194637Z
LAST-MODIFIED:20241111T194637Z
UID:59592-1744729200-1744736400@visitpikeville.com
SUMMARY:Baseball vs Georgetown College
DESCRIPTION:Game Day!
URL:https://visitpikeville.com/event/baseball-vs-georgetown-college/
LOCATION:Johnnie LeMaster Field\, 118 W River Dr\,\, Pikeville\, KY\, 41501\, United States
CATEGORIES:UPike
ATTACH;FMTTYPE=image/png:https://visitpikeville.com/wp-content/uploads/2024/11/Screenshot-2024-11-11-at-2.45.24 PM.png
END:VEVENT
BEGIN:VEVENT
DTSTART;TZID=America/Kentucky/Louisville:20250415T160000
DTEND;TZID=America/Kentucky/Louisville:20250415T180000
DTSTAMP:20260424T115611
CREATED:20250106T143508Z
LAST-MODIFIED:20250106T143508Z
UID:61750-1744732800-1744740000@visitpikeville.com
SUMMARY:Softball vs Kentucky Christian University
DESCRIPTION:Game Day!
URL:https://visitpikeville.com/event/softball-vs-kentucky-christian-university-3-2/
LOCATION:Paul Butcher Field\, 134 Bank St\,\, Pikeville\, KY\, 41501\, United States
CATEGORIES:UPike
ATTACH;FMTTYPE=image/png:https://visitpikeville.com/wp-content/uploads/2025/01/Screenshot-2025-01-06-at-9.32.14 AM.png
END:VEVENT
BEGIN:VEVENT
DTSTART;TZID=America/Kentucky/Louisville:20250415T180000
DTEND;TZID=America/Kentucky/Louisville:20250415T200000
DTSTAMP:20260424T115611
CREATED:20250414T125606Z
LAST-MODIFIED:20250414T125606Z
UID:63907-1744740000-1744747200@visitpikeville.com
SUMMARY:Questions and Answers Session
DESCRIPTION:Voluntary home buyout program
URL:https://visitpikeville.com/event/questions-and-answers-session/
LOCATION:Pike County Public Library\, 126 Lee Avenue\, Pikeville\, KY\, 41501\, United States
CATEGORIES:Pike County Public Library
ATTACH;FMTTYPE=image/jpeg:https://visitpikeville.com/wp-content/uploads/2025/04/buyout.jpg
END:VEVENT
END:VCALENDAR