BEGIN:VCALENDAR
VERSION:2.0
PRODID:-//Visit Pikeville - ECPv6.15.20//NONSGML v1.0//EN
CALSCALE:GREGORIAN
METHOD:PUBLISH
X-WR-CALNAME:Visit Pikeville
X-ORIGINAL-URL:https://visitpikeville.com
X-WR-CALDESC:Events for Visit Pikeville
REFRESH-INTERVAL;VALUE=DURATION:PT1H
X-Robots-Tag:noindex
X-PUBLISHED-TTL:PT1H
BEGIN:VTIMEZONE
TZID:America/Kentucky/Louisville
BEGIN:DAYLIGHT
TZOFFSETFROM:-0500
TZOFFSETTO:-0400
TZNAME:EDT
DTSTART:20240310T070000
END:DAYLIGHT
BEGIN:STANDARD
TZOFFSETFROM:-0400
TZOFFSETTO:-0500
TZNAME:EST
DTSTART:20241103T060000
END:STANDARD
BEGIN:DAYLIGHT
TZOFFSETFROM:-0500
TZOFFSETTO:-0400
TZNAME:EDT
DTSTART:20250309T070000
END:DAYLIGHT
BEGIN:STANDARD
TZOFFSETFROM:-0400
TZOFFSETTO:-0500
TZNAME:EST
DTSTART:20251102T060000
END:STANDARD
BEGIN:DAYLIGHT
TZOFFSETFROM:-0500
TZOFFSETTO:-0400
TZNAME:EDT
DTSTART:20260308T070000
END:DAYLIGHT
BEGIN:STANDARD
TZOFFSETFROM:-0400
TZOFFSETTO:-0500
TZNAME:EST
DTSTART:20261101T060000
END:STANDARD
END:VTIMEZONE
BEGIN:VEVENT
DTSTART;TZID=America/Kentucky/Louisville:20250401T120000
DTEND;TZID=America/Kentucky/Louisville:20250531T120000
DTSTAMP:20260424T103731
CREATED:20250127T192614Z
LAST-MODIFIED:20250127T192614Z
UID:62547-1743508800-1748692800@visitpikeville.com
SUMMARY:Pikeville's County Wide Fishing Tournament 2025
DESCRIPTION:ATTENTION Fisherman!!!! \n\n\nGet ready for Pikeville’s County Wide Fishing Tournament 2025!!!\nThe Eligible Water for this Tournament are all public accessible waters inside of or directly bordering Pike County\, Kentucky. These include the Upper Levisa River\, The Russell Fork\, The Big Sandy\, the Tug Fork\, Fish trap Lake\, Pikeville Pond\, Grants Branch\, Johns Creek to the Damn at Dewey Lake and many other creeks and streams located in and bordering Pike County.\n\n\nPRIVATE PONDS\, GOLF COURSE PONDS\, ETC ARE NOT ELIGIBLE!\n\n\nSign up on the tourney X app! Registration opens February 1st!
URL:https://visitpikeville.com/event/pikevilles-county-wide-fishing-tournament-2025/
LOCATION:KY
CATEGORIES:Pikeville Tourism
ATTACH;FMTTYPE=image/jpeg:https://visitpikeville.com/wp-content/uploads/2025/01/bass.jpg
END:VEVENT
BEGIN:VEVENT
DTSTART;TZID=America/Kentucky/Louisville:20250409T163000
DTEND;TZID=America/Kentucky/Louisville:20250507T180000
DTSTAMP:20260424T103731
CREATED:20250310T121917Z
LAST-MODIFIED:20250324T125512Z
UID:63362-1744216200-1746640800@visitpikeville.com
SUMMARY:Junior Design Lab
DESCRIPTION:Ages 7-12\n\n\nWelcome to the totally sweet world of theatre design! Each week we’ll learn about a different element of design from costuming to props\, lighting to set design\, and scenic painting\, all while following the Candy Land theme of Gumdrop Mountains\, Peppermint Stick Forest\, Lollipop Lane\, and more! How do you make a fake cupcake? What type of sound and lighting best portrays the spookiness of the Licorice Forest? What painting techniques can you use to create a gumdrop? Let’s find out in the Junior Design Lab!\n\n\nMeetings: Wednesdays from 4:30-6:00 pm\n\n\nApril 9th-May 7th\n\n\nPrice: $150\n\n\nClass Instructor: Shannon Daniels\n\n\nBio:\n\n\nShannon Daniels is the Executive Director for The App. Throughout her career\, she has held many positions in the theatre world including stage management\, props design\, costume design\, performing\, teaching\, directing\, and much more. She absolutely loves making food props\, and creating anything she can out of pool noodles and pantyhose!
URL:https://visitpikeville.com/event/junior-design-lab/
LOCATION:Appalachian Center for the Arts\, 218 2nd St\,\, Pikeville\, Ky\, 41501
CATEGORIES:The Appalachian Center for the Arts
ATTACH;FMTTYPE=image/jpeg:https://visitpikeville.com/wp-content/uploads/2025/03/junior-design-lab.jpg
END:VEVENT
BEGIN:VEVENT
DTSTART;TZID=America/Kentucky/Louisville:20250412T110000
DTEND;TZID=America/Kentucky/Louisville:20250412T130000
DTSTAMP:20260424T103731
CREATED:20250210T151702Z
LAST-MODIFIED:20250210T151702Z
UID:62751-1744455600-1744462800@visitpikeville.com
SUMMARY:2025 Hillbilly Days Pageant
DESCRIPTION:Join us on April 12th at Pike County Central High School for a day of fun and tradition! Doors open at 10:00 a.m.\, and the pageant starts at 11:00 a.m. The winner will be crowned Miss Hillbilly Days and ride in the parade during Hillbilly Days on April 26 in downtown Pikeville.\n\n\nWeblink: https://tourpikecounty.com/event/2025-hillbilly-pageant/\n\n\nFor more info\, contact:\n• Hanna Sparks: (606) 794-6894\n• Elsie Burke: (606) 794-6163\n\n\nCome be part of this time-honored celebration—y’all don’t want to miss it!\n\n\n#HillbillyDays2025 #PikevilleKY #PikeCounty #Kentucky #PageantTime #FestivalFun #FamilyFriendly
URL:https://visitpikeville.com/event/2025-hillbilly-days-pageant/
LOCATION:Pike Central High School\, 100 Winners Circle Drive\,\, Pikeville\, KY\, 41501\, United States
CATEGORIES:Pikeville Tourism
ATTACH;FMTTYPE=image/webp:https://visitpikeville.com/wp-content/uploads/2025/02/Hillbilly-Pageant-2025-Splash.webp
END:VEVENT
BEGIN:VEVENT
DTSTART;TZID=America/Kentucky/Louisville:20250412T160000
DTEND;TZID=America/Kentucky/Louisville:20250412T170000
DTSTAMP:20260424T103731
CREATED:20250324T135233Z
LAST-MODIFIED:20250324T135233Z
UID:63582-1744473600-1744477200@visitpikeville.com
SUMMARY:Guitar Scales and Technique Class
DESCRIPTION:Enhance your playing with a focus on scales\, finger exercises\, and technique-building drills.\nThis class will help you improve speed\, accuracy\, and fretboard knowledge while incorporating practical applications for soloing and improvisation. Perfect for players looking to refine their skills and expand their musical vocabulary. Must bring your own instrument.\nGuitar Scales and Technique Class will be held on alternating Saturdays at 4:00 at the Pike County Public Library (Lee Ave) beginning April 12.\nRegistration is required; please call the library at 606-437-6001.
URL:https://visitpikeville.com/event/guitar-scales-and-technique-class/
LOCATION:Pike County Public Library\, 126 Lee Avenue\, Pikeville\, KY\, 41501\, United States
CATEGORIES:Pike County Public Library
ATTACH;FMTTYPE=image/jpeg:https://visitpikeville.com/wp-content/uploads/2025/03/guitar-scales.jpg
END:VEVENT
BEGIN:VEVENT
DTSTART;TZID=America/Kentucky/Louisville:20250412T190000
DTEND;TZID=America/Kentucky/Louisville:20250412T210000
DTSTAMP:20260424T103731
CREATED:20250407T210343Z
LAST-MODIFIED:20250407T210343Z
UID:63806-1744484400-1744491600@visitpikeville.com
SUMMARY:25th Annual Putnam County Spelling Bee
DESCRIPTION:7:00 pm @ The App
URL:https://visitpikeville.com/event/25th-annual-putnam-county-spelling-bee-2/
LOCATION:Appalachian Center for the Arts\, 218 2nd St\,\, Pikeville\, Ky\, 41501
CATEGORIES:The Appalachian Center for the Arts
END:VEVENT
BEGIN:VEVENT
DTSTART;TZID=America/Kentucky/Louisville:20250412T190000
DTEND;TZID=America/Kentucky/Louisville:20250412T210000
DTSTAMP:20260424T103731
CREATED:20250407T213648Z
LAST-MODIFIED:20250407T213648Z
UID:63831-1744484400-1744491600@visitpikeville.com
SUMMARY:Highland cow/ Peeps/ Spring Chicken
DESCRIPTION:Don’t miss your last chance to catch some of these favorites 
URL:https://visitpikeville.com/event/highland-cow-peeps-spring-chicken/
LOCATION:2 Broke Art Teachers\, 4505 Weddington Square\,\, Pikeville\, KY\, 41501\, United States
CATEGORIES:Other
ATTACH;FMTTYPE=image/jpeg:https://visitpikeville.com/wp-content/uploads/2025/04/highland.jpg
END:VEVENT
BEGIN:VEVENT
DTSTART;TZID=America/Kentucky/Louisville:20250412T193000
DTEND;TZID=America/Kentucky/Louisville:20250412T223000
DTSTAMP:20260424T103731
CREATED:20250407T210458Z
LAST-MODIFIED:20250407T210458Z
UID:63808-1744486200-1744497000@visitpikeville.com
SUMMARY:Live Music at Bank 253
DESCRIPTION:Chris Strathman 7:30pm – 10:30pm
URL:https://visitpikeville.com/event/live-music-at-bank-253-3-2-2-2-2-2-2-2/
LOCATION:Bank 253\, 253 2nd St\,\, Pikeville\, KY\, 41501\, United States
CATEGORIES:Other
ATTACH;FMTTYPE=image/jpeg:https://visitpikeville.com/wp-content/uploads/2025/02/bank253.jpg
END:VEVENT
END:VCALENDAR