BEGIN:VCALENDAR
VERSION:2.0
PRODID:-//Visit Pikeville - ECPv6.15.20//NONSGML v1.0//EN
CALSCALE:GREGORIAN
METHOD:PUBLISH
X-ORIGINAL-URL:https://visitpikeville.com
X-WR-CALDESC:Events for Visit Pikeville
REFRESH-INTERVAL;VALUE=DURATION:PT1H
X-Robots-Tag:noindex
X-PUBLISHED-TTL:PT1H
BEGIN:VTIMEZONE
TZID:America/Kentucky/Louisville
BEGIN:DAYLIGHT
TZOFFSETFROM:-0500
TZOFFSETTO:-0400
TZNAME:EDT
DTSTART:20240310T070000
END:DAYLIGHT
BEGIN:STANDARD
TZOFFSETFROM:-0400
TZOFFSETTO:-0500
TZNAME:EST
DTSTART:20241103T060000
END:STANDARD
BEGIN:DAYLIGHT
TZOFFSETFROM:-0500
TZOFFSETTO:-0400
TZNAME:EDT
DTSTART:20250309T070000
END:DAYLIGHT
BEGIN:STANDARD
TZOFFSETFROM:-0400
TZOFFSETTO:-0500
TZNAME:EST
DTSTART:20251102T060000
END:STANDARD
BEGIN:DAYLIGHT
TZOFFSETFROM:-0500
TZOFFSETTO:-0400
TZNAME:EDT
DTSTART:20260308T070000
END:DAYLIGHT
BEGIN:STANDARD
TZOFFSETFROM:-0400
TZOFFSETTO:-0500
TZNAME:EST
DTSTART:20261101T060000
END:STANDARD
END:VTIMEZONE
BEGIN:VEVENT
DTSTART;TZID=America/Kentucky/Louisville:20250227T070000
DTEND;TZID=America/Kentucky/Louisville:20250331T190000
DTSTAMP:20260424T133045
CREATED:20250226T224237Z
LAST-MODIFIED:20250226T224237Z
UID:63058-1740639600-1743447600@visitpikeville.com
SUMMARY:FEMA Disaster Assistance
DESCRIPTION:Apply in person for FEMA benefits
URL:https://visitpikeville.com/event/fema-disaster-assistance/
LOCATION:KY
CATEGORIES:City of Pikeville,Pike County Public Library
ATTACH;FMTTYPE=image/jpeg:https://visitpikeville.com/wp-content/uploads/2025/02/fema.jpg
END:VEVENT
BEGIN:VEVENT
DTSTART;TZID=America/Kentucky/Louisville:20250321T080000
DTEND;TZID=America/Kentucky/Louisville:20250330T170000
DTSTAMP:20260424T133045
CREATED:20250203T150248Z
LAST-MODIFIED:20250203T150248Z
UID:62675-1742544000-1743354000@visitpikeville.com
SUMMARY:Mean Girls Jr.
DESCRIPTION:Get ready. It’s almost Mean Girls Jr. audition time! This Sunday\, February 2nd\, from 1:00 pm – 4:00 pm\, be there! This is open to ages 12-18. Head to www.theapparts.org to register today. We will take virtual auditions for anyone who is not available this Sunday. Just reach out to Crockett Ward at education@theapparts.org for more info.#meangirls #theapparts #musical #theatre #pink
URL:https://visitpikeville.com/event/mean-girls-jr/
LOCATION:Appalachian Center for the Arts\, 218 2nd St\,\, Pikeville\, Ky\, 41501
CATEGORIES:The Appalachian Center for the Arts
ATTACH;FMTTYPE=image/jpeg:https://visitpikeville.com/wp-content/uploads/2025/02/mean-girls.jpg
END:VEVENT
BEGIN:VEVENT
DTSTART;TZID=America/Kentucky/Louisville:20250329T110000
DTEND;TZID=America/Kentucky/Louisville:20250329T120000
DTSTAMP:20260424T133045
CREATED:20250303T145116Z
LAST-MODIFIED:20250303T145116Z
UID:63174-1743246000-1743249600@visitpikeville.com
SUMMARY:Story Time
DESCRIPTION:tory Time is for children ages 5 and under and features books\, action/movement\, songs\, and a craft. Story Time is held Thursdays at 11:00 and 2:00 and Saturdays at 11:00. \n\n\n\n\n\n\n  \nBesides being fun\, Story Time also helps develop early literacy and school readiness skills through reading\, singing\, listening\, playing\, and social interaction. This program lasts approximately 30 minutes\, and caregivers and children are encouraged to linger in the library afterwards to further socialize and choose books to take home.
URL:https://visitpikeville.com/event/story-time-2-2-2-2-2-2-2-2-2-2-2-2-2-2-2-2-2-2-2-2-2-2-2-2-2-2-2-2-2-2-2-2-2-2-2-2-2-2-2-2-2-2-2-2-2-2-2-2-2-2-2-2-2-2-2-3-2-2-2-2-2-2-2-2-2-2-2-2-2-2-2-2-2-2-2-2-2-2-2-2-2-2-2-2-2-2-2-2-2-2-2-2-2-24/
LOCATION:Pike County Public Library\, 126 Lee Avenue\, Pikeville\, KY\, 41501\, United States
CATEGORIES:Pike County Public Library
ATTACH;FMTTYPE=image/png:https://visitpikeville.com/wp-content/uploads/2023/12/Story_TimeLEE.png
END:VEVENT
BEGIN:VEVENT
DTSTART;TZID=America/Kentucky/Louisville:20250329T110000
DTEND;TZID=America/Kentucky/Louisville:20250329T130000
DTSTAMP:20260424T133045
CREATED:20250303T145359Z
LAST-MODIFIED:20250303T145359Z
UID:63180-1743246000-1743253200@visitpikeville.com
SUMMARY:Quilters Group
DESCRIPTION:Pike County Public Library Quilters Group is a quilting social that also teaches quilting and needlework. Participants exchange patterns\, quilting ideas\, and sewing projects. Both beginners and experienced quilters are welcome! Quilters Group meets alternating Saturdays at noon at the Lee Avenue Library.\nFor more information\, contact Charlene at 606-437-6001 or charlene@pikelibrary.org
URL:https://visitpikeville.com/event/quilters-group-4-2-2-2-2-2-2-2-2-2-2-2-2-2-2-2-2-2-2-2-2-2-2-2-2-2-2-2-2-2-2-2-2-2-2/
LOCATION:Pike County Public Library\, 126 Lee Avenue\, Pikeville\, KY\, 41501\, United States
CATEGORIES:Pike County Public Library
ATTACH;FMTTYPE=image/jpeg:https://visitpikeville.com/wp-content/uploads/2024/06/quilters.jpeg
END:VEVENT
BEGIN:VEVENT
DTSTART;TZID=America/Kentucky/Louisville:20250329T120000
DTEND;TZID=America/Kentucky/Louisville:20250329T150000
DTSTAMP:20260424T133045
CREATED:20250324T141439Z
LAST-MODIFIED:20250324T141439Z
UID:63612-1743249600-1743260400@visitpikeville.com
SUMMARY:Great paintings for kids and adults
DESCRIPTION:11X14 Canvas $25 each. Double Mermaids $50
URL:https://visitpikeville.com/event/great-paintings-for-kids-and-adults/
LOCATION:2 Broke Art Teachers\, 4505 Weddington Square\,\, Pikeville\, KY\, 41501\, United States
CATEGORIES:Other
ATTACH;FMTTYPE=image/jpeg:https://visitpikeville.com/wp-content/uploads/2025/03/kids-paintings.jpg
END:VEVENT
BEGIN:VEVENT
DTSTART;TZID=America/Kentucky/Louisville:20250329T130000
DTEND;TZID=America/Kentucky/Louisville:20250329T150000
DTSTAMP:20260424T133045
CREATED:20250227T163043Z
LAST-MODIFIED:20250227T163043Z
UID:63065-1743253200-1743260400@visitpikeville.com
SUMMARY:Grand National Monster Trucks
DESCRIPTION:Grand National Monster Trucks\nMarch 29\, 2025\n1pm show\n7pm show\nAppalachian Wireless Arena\nPikeville\, Ky\n1pm show\nPit party 11:30-12:30\n\n\n7pm show\nPit party 5:30-6:30\n\n\nVIP $38 (everyone)\n\n\nprices\nKids\nlower part of upper arena\n$23\nUpper arena\n$18\n\n\nadults\nLower part of upper arena\n$28\nUpper arena\n$23\n\n\nOn sale this Friday… visit the Community Trust Bank Box Office or Ticketmaster.com\nhttps://www.ticketmaster.com/appalachian…/venue/180784
URL:https://visitpikeville.com/event/grand-national-monster-trucks/
LOCATION:Appalachian Wireless Arena\, 126 Main Street\, Pikeville\, Ky\, 41501
CATEGORIES:Appalachian Wireless Arena
ATTACH;FMTTYPE=image/jpeg:https://visitpikeville.com/wp-content/uploads/2025/02/MONSTER.jpg
END:VEVENT
BEGIN:VEVENT
DTSTART;TZID=America/Kentucky/Louisville:20250329T170000
DTEND;TZID=America/Kentucky/Louisville:20250329T200000
DTSTAMP:20260424T133045
CREATED:20250324T141636Z
LAST-MODIFIED:20250324T141636Z
UID:63615-1743267600-1743278400@visitpikeville.com
SUMMARY:Kentucky Horse
DESCRIPTION:16 x 20 $30
URL:https://visitpikeville.com/event/kentucky-horse/
LOCATION:2 Broke Art Teachers\, 4505 Weddington Square\,\, Pikeville\, KY\, 41501\, United States
CATEGORIES:Other
ATTACH;FMTTYPE=image/jpeg:https://visitpikeville.com/wp-content/uploads/2025/03/ky-horse.jpg
END:VEVENT
BEGIN:VEVENT
DTSTART;TZID=America/Kentucky/Louisville:20250329T190000
DTEND;TZID=America/Kentucky/Louisville:20250329T210000
DTSTAMP:20260424T133045
CREATED:20250227T163115Z
LAST-MODIFIED:20250227T163115Z
UID:63068-1743274800-1743282000@visitpikeville.com
SUMMARY:Grand National Monster Trucks
DESCRIPTION:Grand National Monster Trucks\nMarch 29\, 2025\n1pm show\n7pm show\nAppalachian Wireless Arena\nPikeville\, Ky\n1pm show\nPit party 11:30-12:30\n\n\n7pm show\nPit party 5:30-6:30\n\n\nVIP $38 (everyone)\n\n\nprices\nKids\nlower part of upper arena\n$23\nUpper arena\n$18\n\n\nadults\nLower part of upper arena\n$28\nUpper arena\n$23\n\n\nOn sale this Friday… visit the Community Trust Bank Box Office or Ticketmaster.com\nhttps://www.ticketmaster.com/appalachian…/venue/180784
URL:https://visitpikeville.com/event/grand-national-monster-trucks-2/
LOCATION:Appalachian Wireless Arena\, 126 Main Street\, Pikeville\, Ky\, 41501
CATEGORIES:Appalachian Wireless Arena
ATTACH;FMTTYPE=image/jpeg:https://visitpikeville.com/wp-content/uploads/2025/02/MONSTER.jpg
END:VEVENT
BEGIN:VEVENT
DTSTART;TZID=America/Kentucky/Louisville:20250329T200000
DTEND;TZID=America/Kentucky/Louisville:20250329T220000
DTSTAMP:20260424T133045
CREATED:20250310T125152Z
LAST-MODIFIED:20250310T125152Z
UID:63406-1743278400-1743285600@visitpikeville.com
SUMMARY:Matty Simpson
DESCRIPTION:@ Pearse’s Place
URL:https://visitpikeville.com/event/matty-simpson/
LOCATION:Pearse’s Place\, 224 2nd St\,\, Pikeville\, KY\, 41501\, United States
CATEGORIES:Other
ATTACH;FMTTYPE=image/jpeg:https://visitpikeville.com/wp-content/uploads/2025/03/perses.jpg
END:VEVENT
BEGIN:VEVENT
DTSTART;TZID=America/Kentucky/Louisville:20250329T200000
DTEND;TZID=America/Kentucky/Louisville:20250329T233000
DTSTAMP:20260424T133045
CREATED:20250217T155944Z
LAST-MODIFIED:20250217T155944Z
UID:62950-1743278400-1743291000@visitpikeville.com
SUMMARY:Matthew Douglas Simpson
DESCRIPTION:MDS and the MRS. returns to Pearse’s Place in Pikeville KY!! Matthew Douglas Simpson is a singer/songwriter from Cynthiana\, Kentucky. Self-described as “Rural Route Rock & Roll\,” MDS pulls from Alt. Country\, Blues\, and Soul to create an easily distinguished sound that is influenced by artists as sundry as Chris Stapleton\, Ryan Adams\, John Fogerty\, and Weezer. Having lost both of his parents at a young age\, Simpson turned to songwriting as a way to cope with grief. His gripping storytelling\, sharp songwriting\, and soulful vocal has taken him all across the United States and most recently to the Nashville Nights songwriter festival in Odense\, Denmark. Matthew has shared the stage with many amazing artists such as Charles Wesley Godwin\, Mark Wills\, Craig Wayne Boyd\, 7eventh Time Down and several others. With the trials of life as his inspiration\, Simpson’s songs are a canvas filled with love\, affliction\, and the hope that dwells between the two.
URL:https://visitpikeville.com/event/matthew-douglas-simpson/
LOCATION:Pearse’s Place\, 224 2nd St\,\, Pikeville\, KY\, 41501\, United States
CATEGORIES:Other
ATTACH;FMTTYPE=image/jpeg:https://visitpikeville.com/wp-content/uploads/2025/02/matthew.jpeg
END:VEVENT
END:VCALENDAR