BEGIN:VCALENDAR
VERSION:2.0
PRODID:-//Visit Pikeville - ECPv6.15.20//NONSGML v1.0//EN
CALSCALE:GREGORIAN
METHOD:PUBLISH
X-WR-CALNAME:Visit Pikeville
X-ORIGINAL-URL:https://visitpikeville.com
X-WR-CALDESC:Events for Visit Pikeville
REFRESH-INTERVAL;VALUE=DURATION:PT1H
X-Robots-Tag:noindex
X-PUBLISHED-TTL:PT1H
BEGIN:VTIMEZONE
TZID:America/Kentucky/Louisville
BEGIN:DAYLIGHT
TZOFFSETFROM:-0500
TZOFFSETTO:-0400
TZNAME:EDT
DTSTART:20240310T070000
END:DAYLIGHT
BEGIN:STANDARD
TZOFFSETFROM:-0400
TZOFFSETTO:-0500
TZNAME:EST
DTSTART:20241103T060000
END:STANDARD
BEGIN:DAYLIGHT
TZOFFSETFROM:-0500
TZOFFSETTO:-0400
TZNAME:EDT
DTSTART:20250309T070000
END:DAYLIGHT
BEGIN:STANDARD
TZOFFSETFROM:-0400
TZOFFSETTO:-0500
TZNAME:EST
DTSTART:20251102T060000
END:STANDARD
BEGIN:DAYLIGHT
TZOFFSETFROM:-0500
TZOFFSETTO:-0400
TZNAME:EDT
DTSTART:20260308T070000
END:DAYLIGHT
BEGIN:STANDARD
TZOFFSETFROM:-0400
TZOFFSETTO:-0500
TZNAME:EST
DTSTART:20261101T060000
END:STANDARD
END:VTIMEZONE
BEGIN:VEVENT
DTSTART;TZID=America/Kentucky/Louisville:20250227T070000
DTEND;TZID=America/Kentucky/Louisville:20250331T190000
DTSTAMP:20260424T133022
CREATED:20250226T224237Z
LAST-MODIFIED:20250226T224237Z
UID:63058-1740639600-1743447600@visitpikeville.com
SUMMARY:FEMA Disaster Assistance
DESCRIPTION:Apply in person for FEMA benefits
URL:https://visitpikeville.com/event/fema-disaster-assistance/
LOCATION:KY
CATEGORIES:City of Pikeville,Pike County Public Library
ATTACH;FMTTYPE=image/jpeg:https://visitpikeville.com/wp-content/uploads/2025/02/fema.jpg
END:VEVENT
BEGIN:VEVENT
DTSTART;TZID=America/Kentucky/Louisville:20250321T080000
DTEND;TZID=America/Kentucky/Louisville:20250330T170000
DTSTAMP:20260424T133022
CREATED:20250203T150248Z
LAST-MODIFIED:20250203T150248Z
UID:62675-1742544000-1743354000@visitpikeville.com
SUMMARY:Mean Girls Jr.
DESCRIPTION:Get ready. It’s almost Mean Girls Jr. audition time! This Sunday\, February 2nd\, from 1:00 pm – 4:00 pm\, be there! This is open to ages 12-18. Head to www.theapparts.org to register today. We will take virtual auditions for anyone who is not available this Sunday. Just reach out to Crockett Ward at education@theapparts.org for more info.#meangirls #theapparts #musical #theatre #pink
URL:https://visitpikeville.com/event/mean-girls-jr/
LOCATION:Appalachian Center for the Arts\, 218 2nd St\,\, Pikeville\, Ky\, 41501
CATEGORIES:The Appalachian Center for the Arts
ATTACH;FMTTYPE=image/jpeg:https://visitpikeville.com/wp-content/uploads/2025/02/mean-girls.jpg
END:VEVENT
BEGIN:VEVENT
DTSTART;TZID=America/Kentucky/Louisville:20250321T130000
DTEND;TZID=America/Kentucky/Louisville:20250321T150000
DTSTAMP:20260424T133022
CREATED:20241209T134326Z
LAST-MODIFIED:20241209T134326Z
UID:60637-1742562000-1742569200@visitpikeville.com
SUMMARY:Softball vs Montreat College
DESCRIPTION:Game Day!!
URL:https://visitpikeville.com/event/softball-vs-montreat-college/
LOCATION:Paul Butcher Field\, 134 Bank St\,\, Pikeville\, KY\, 41501\, United States
CATEGORIES:UPike
ATTACH;FMTTYPE=image/png:https://visitpikeville.com/wp-content/uploads/2024/12/Screenshot-2024-12-09-at-8.41.29 AM.png
END:VEVENT
BEGIN:VEVENT
DTSTART;TZID=America/Kentucky/Louisville:20250321T150000
DTEND;TZID=America/Kentucky/Louisville:20250321T170000
DTSTAMP:20260424T133022
CREATED:20241111T192401Z
LAST-MODIFIED:20241111T192401Z
UID:59571-1742569200-1742576400@visitpikeville.com
SUMMARY:Baseball vs Bluefield University
DESCRIPTION:Game Day!!
URL:https://visitpikeville.com/event/baseball-vs-bluefield-university-2/
LOCATION:Johnnie LeMaster Field\, 118 W River Dr\,\, Pikeville\, KY\, 41501\, United States
CATEGORIES:UPike
ATTACH;FMTTYPE=image/png:https://visitpikeville.com/wp-content/uploads/2024/11/Screenshot-2024-11-11-at-2.22.23 PM.png
END:VEVENT
BEGIN:VEVENT
DTSTART;TZID=America/Kentucky/Louisville:20250321T150000
DTEND;TZID=America/Kentucky/Louisville:20250321T170000
DTSTAMP:20260424T133022
CREATED:20241209T134358Z
LAST-MODIFIED:20241209T134358Z
UID:60640-1742569200-1742576400@visitpikeville.com
SUMMARY:Softball vs Montreat College
DESCRIPTION:Game Day!!
URL:https://visitpikeville.com/event/softball-vs-montreat-college-2/
LOCATION:Paul Butcher Field\, 134 Bank St\,\, Pikeville\, KY\, 41501\, United States
CATEGORIES:UPike
ATTACH;FMTTYPE=image/png:https://visitpikeville.com/wp-content/uploads/2024/12/Screenshot-2024-12-09-at-8.41.29 AM.png
END:VEVENT
BEGIN:VEVENT
DTSTART;TZID=America/Kentucky/Louisville:20250321T163000
DTEND;TZID=America/Kentucky/Louisville:20250321T173000
DTSTAMP:20260424T133022
CREATED:20250303T153328Z
LAST-MODIFIED:20250303T153328Z
UID:63257-1742574600-1742578200@visitpikeville.com
SUMMARY:Kids Guitar Class A
DESCRIPTION:Beginner guitar lessons for children ages 8-12. This class will be for 8 weeks\, meeting weekly in February and March. Please bring your own instrument. Registration required. \n\n\n\n\n\n\n  \nMeets every Friday at 4:30 Feb 7 – March 28.
URL:https://visitpikeville.com/event/kids-guitar-class-a-2-2/
LOCATION:Pike County Public Library\, 126 Lee Avenue\, Pikeville\, KY\, 41501\, United States
CATEGORIES:Pike County Public Library
ATTACH;FMTTYPE=image/png:https://visitpikeville.com/wp-content/uploads/2025/03/kids-quitar-a.png
END:VEVENT
BEGIN:VEVENT
DTSTART;TZID=America/Kentucky/Louisville:20250321T180000
DTEND;TZID=America/Kentucky/Louisville:20250321T200000
DTSTAMP:20260424T133022
CREATED:20250217T150127Z
LAST-MODIFIED:20250217T150127Z
UID:62897-1742580000-1742587200@visitpikeville.com
SUMMARY:Esports vs Elon University
DESCRIPTION:Game Day!
URL:https://visitpikeville.com/event/esports-vs-elon-university/
LOCATION:UPIKE\, 147 Sycamore St\,\, Pikeville\, KY\, 41501\, United States
CATEGORIES:UPike
ATTACH;FMTTYPE=image/png:https://visitpikeville.com/wp-content/uploads/2025/02/Screenshot-2025-02-17-at-10.00.12 AM.png
END:VEVENT
BEGIN:VEVENT
DTSTART;TZID=America/Kentucky/Louisville:20250321T193000
DTEND;TZID=America/Kentucky/Louisville:20250321T213000
DTSTAMP:20260424T133022
CREATED:20241111T200042Z
LAST-MODIFIED:20241111T200042Z
UID:59605-1742585400-1742592600@visitpikeville.com
SUMMARY:East Kentucky Stampede Championship Rodeo
DESCRIPTION:The East Kentucky Stampede Championship Rodeo presented by Muddy Boots LLC and East Kentucky Exterminating! Located at the Appalachian Wireless Arena in Pikeville\, Ky. Tickets on sale Friday\, November 15th at 10am. Join us for Mutton Bustin\, saddle bronc riding\, breakaway roping\, calf roping\, steer wrestling\, and much more! Friday\, March 21 the WMDJ FM 100.1 media night all tickets are $23… Saturday\, March 22 tickets are $24\, $27\, and $32. Visit the Community Trust Bank Box Office or ticketmaster.com.
URL:https://visitpikeville.com/event/east-kentucky-stampede-championship-rodeo/
LOCATION:Appalachian Wireless Arena\, 126 Main Street\, Pikeville\, Ky\, 41501
CATEGORIES:Appalachian Wireless Arena
ATTACH;FMTTYPE=image/jpeg:https://visitpikeville.com/wp-content/uploads/2024/11/rodeo.jpg
END:VEVENT
BEGIN:VEVENT
DTSTART;TZID=America/Kentucky/Louisville:20250321T193000
DTEND;TZID=America/Kentucky/Louisville:20250321T220000
DTSTAMP:20260424T133022
CREATED:20250113T142810Z
LAST-MODIFIED:20250113T142810Z
UID:62005-1742585400-1742594400@visitpikeville.com
SUMMARY:A DOLL'S HOUSE
DESCRIPTION:Artists Collaborative Theatre Presents: A DOLL’S HOUSE by Henrik Ibsen\, Translated by Amy Herzog\nTickets: $12.00\nSynopsis: Ibsen’s celebrated play thrust drama firmly into the modern age when it premiered in 1879. Now\, nearly 150 years later\, acclaimed playwright Amy Herzog makes freshly relevant a story that shocked audiences and brought forth a new era of theatre. The play follows the story of Nora\, a young wife and mother\, who appears to have a perfect life with her husband Torvald. However\, Nora has been keeping a secret from her husband that threatens to unravel her entire world.\nAll performances will be held at Pikeville High School
URL:https://visitpikeville.com/event/a-dolls-house-2-2-2-2-2-2/
LOCATION:Pikeville High School\, 120 Championship Dr\,\, Pikeville\, KY\, 41501\, United States
CATEGORIES:Other
ATTACH;FMTTYPE=image/jpeg:https://visitpikeville.com/wp-content/uploads/2025/01/a-dolls-house.jpg
END:VEVENT
BEGIN:VEVENT
DTSTART;TZID=America/Kentucky/Louisville:20250321T193000
DTEND;TZID=America/Kentucky/Louisville:20250321T223000
DTSTAMP:20260424T133022
CREATED:20250318T184252Z
LAST-MODIFIED:20250318T184252Z
UID:63531-1742585400-1742596200@visitpikeville.com
SUMMARY:Jaden Wright
DESCRIPTION:7:30pm – 10:30pm
URL:https://visitpikeville.com/event/jaden-wright/
LOCATION:Bank 253\, 253 2nd St\,\, Pikeville\, KY\, 41501\, United States
CATEGORIES:Other
ATTACH;FMTTYPE=image/jpeg:https://visitpikeville.com/wp-content/uploads/2025/03/jaden.jpg
END:VEVENT
BEGIN:VEVENT
DTSTART;TZID=America/Kentucky/Louisville:20250321T200000
DTEND;TZID=America/Kentucky/Louisville:20250321T220000
DTSTAMP:20260424T133022
CREATED:20250310T124845Z
LAST-MODIFIED:20250310T124845Z
UID:63402-1742587200-1742594400@visitpikeville.com
SUMMARY:Jason England / The Groundhogs
DESCRIPTION:@ Pearse’s Place
URL:https://visitpikeville.com/event/jason-england-the-groundhogs/
LOCATION:Pearse’s Place\, 224 2nd St\,\, Pikeville\, KY\, 41501\, United States
CATEGORIES:Other
ATTACH;FMTTYPE=image/jpeg:https://visitpikeville.com/wp-content/uploads/2025/03/perses.jpg
END:VEVENT
END:VCALENDAR