BEGIN:VCALENDAR
VERSION:2.0
PRODID:-//Visit Pikeville - ECPv6.15.20//NONSGML v1.0//EN
CALSCALE:GREGORIAN
METHOD:PUBLISH
X-ORIGINAL-URL:https://visitpikeville.com
X-WR-CALDESC:Events for Visit Pikeville
REFRESH-INTERVAL;VALUE=DURATION:PT1H
X-Robots-Tag:noindex
X-PUBLISHED-TTL:PT1H
BEGIN:VTIMEZONE
TZID:America/Kentucky/Louisville
BEGIN:DAYLIGHT
TZOFFSETFROM:-0500
TZOFFSETTO:-0400
TZNAME:EDT
DTSTART:20240310T070000
END:DAYLIGHT
BEGIN:STANDARD
TZOFFSETFROM:-0400
TZOFFSETTO:-0500
TZNAME:EST
DTSTART:20241103T060000
END:STANDARD
BEGIN:DAYLIGHT
TZOFFSETFROM:-0500
TZOFFSETTO:-0400
TZNAME:EDT
DTSTART:20250309T070000
END:DAYLIGHT
BEGIN:STANDARD
TZOFFSETFROM:-0400
TZOFFSETTO:-0500
TZNAME:EST
DTSTART:20251102T060000
END:STANDARD
BEGIN:DAYLIGHT
TZOFFSETFROM:-0500
TZOFFSETTO:-0400
TZNAME:EDT
DTSTART:20260308T070000
END:DAYLIGHT
BEGIN:STANDARD
TZOFFSETFROM:-0400
TZOFFSETTO:-0500
TZNAME:EST
DTSTART:20261101T060000
END:STANDARD
END:VTIMEZONE
BEGIN:VEVENT
DTSTART;TZID=America/Kentucky/Louisville:20250227T070000
DTEND;TZID=America/Kentucky/Louisville:20250331T190000
DTSTAMP:20260424T133046
CREATED:20250226T224237Z
LAST-MODIFIED:20250226T224237Z
UID:63058-1740639600-1743447600@visitpikeville.com
SUMMARY:FEMA Disaster Assistance
DESCRIPTION:Apply in person for FEMA benefits
URL:https://visitpikeville.com/event/fema-disaster-assistance/
LOCATION:KY
CATEGORIES:City of Pikeville,Pike County Public Library
ATTACH;FMTTYPE=image/jpeg:https://visitpikeville.com/wp-content/uploads/2025/02/fema.jpg
END:VEVENT
BEGIN:VEVENT
DTSTART;TZID=America/Kentucky/Louisville:20250302T090000
DTEND;TZID=America/Kentucky/Louisville:20250302T100000
DTSTAMP:20260424T133046
CREATED:20241008T134848Z
LAST-MODIFIED:20241008T134848Z
UID:58153-1740906000-1740909600@visitpikeville.com
SUMMARY:Men's Tennis vs Brenau University (Ga.)
DESCRIPTION:Game Day!!
URL:https://visitpikeville.com/event/mens-tennis-vs-brenau-university-ga/
LOCATION:Bob Amos Park\, 424 Bob Amos Dr\, Pikeville\, Ky\, 41501
CATEGORIES:UPike
ATTACH;FMTTYPE=image/png:https://visitpikeville.com/wp-content/uploads/2024/10/Screenshot-2024-10-08-at-9.45.57 AM.png
END:VEVENT
BEGIN:VEVENT
DTSTART;TZID=America/Kentucky/Louisville:20250302T090000
DTEND;TZID=America/Kentucky/Louisville:20250302T100000
DTSTAMP:20260424T133046
CREATED:20241008T135354Z
LAST-MODIFIED:20241008T135354Z
UID:58158-1740906000-1740909600@visitpikeville.com
SUMMARY:Women's Tennis vs Brenau University (Ga.)
DESCRIPTION:Game Day!!
URL:https://visitpikeville.com/event/womens-tennis-vs-brenau-university-ga/
LOCATION:Bob Amos Park\, 424 Bob Amos Dr\, Pikeville\, Ky\, 41501
CATEGORIES:UPike
ATTACH;FMTTYPE=image/png:https://visitpikeville.com/wp-content/uploads/2024/10/Screenshot-2024-10-08-at-9.53.39 AM.png
END:VEVENT
END:VCALENDAR