BEGIN:VCALENDAR
VERSION:2.0
PRODID:-//Visit Pikeville - ECPv6.15.20//NONSGML v1.0//EN
CALSCALE:GREGORIAN
METHOD:PUBLISH
X-WR-CALNAME:Visit Pikeville
X-ORIGINAL-URL:https://visitpikeville.com
X-WR-CALDESC:Events for Visit Pikeville
REFRESH-INTERVAL;VALUE=DURATION:PT1H
X-Robots-Tag:noindex
X-PUBLISHED-TTL:PT1H
BEGIN:VTIMEZONE
TZID:America/Kentucky/Louisville
BEGIN:DAYLIGHT
TZOFFSETFROM:-0500
TZOFFSETTO:-0400
TZNAME:EDT
DTSTART:20240310T070000
END:DAYLIGHT
BEGIN:STANDARD
TZOFFSETFROM:-0400
TZOFFSETTO:-0500
TZNAME:EST
DTSTART:20241103T060000
END:STANDARD
BEGIN:DAYLIGHT
TZOFFSETFROM:-0500
TZOFFSETTO:-0400
TZNAME:EDT
DTSTART:20250309T070000
END:DAYLIGHT
BEGIN:STANDARD
TZOFFSETFROM:-0400
TZOFFSETTO:-0500
TZNAME:EST
DTSTART:20251102T060000
END:STANDARD
BEGIN:DAYLIGHT
TZOFFSETFROM:-0500
TZOFFSETTO:-0400
TZNAME:EDT
DTSTART:20260308T070000
END:DAYLIGHT
BEGIN:STANDARD
TZOFFSETFROM:-0400
TZOFFSETTO:-0500
TZNAME:EST
DTSTART:20261101T060000
END:STANDARD
END:VTIMEZONE
BEGIN:VEVENT
DTSTART;TZID=America/Kentucky/Louisville:20250227T070000
DTEND;TZID=America/Kentucky/Louisville:20250331T190000
DTSTAMP:20260424T133021
CREATED:20250226T224237Z
LAST-MODIFIED:20250226T224237Z
UID:63058-1740639600-1743447600@visitpikeville.com
SUMMARY:FEMA Disaster Assistance
DESCRIPTION:Apply in person for FEMA benefits
URL:https://visitpikeville.com/event/fema-disaster-assistance/
LOCATION:KY
CATEGORIES:City of Pikeville,Pike County Public Library
ATTACH;FMTTYPE=image/jpeg:https://visitpikeville.com/wp-content/uploads/2025/02/fema.jpg
END:VEVENT
BEGIN:VEVENT
DTSTART;TZID=America/Kentucky/Louisville:20250301T110000
DTEND;TZID=America/Kentucky/Louisville:20250301T130000
DTSTAMP:20260424T133021
CREATED:20250303T145238Z
LAST-MODIFIED:20250303T145238Z
UID:63176-1740826800-1740834000@visitpikeville.com
SUMMARY:Quilters Group
DESCRIPTION:Pike County Public Library Quilters Group is a quilting social that also teaches quilting and needlework. Participants exchange patterns\, quilting ideas\, and sewing projects. Both beginners and experienced quilters are welcome! Quilters Group meets alternating Saturdays at noon at the Lee Avenue Library.\nFor more information\, contact Charlene at 606-437-6001 or charlene@pikelibrary.org
URL:https://visitpikeville.com/event/quilters-group-4-2-2-2-2-2-2-2-2-2-2-2-2-2-2-2-2-2-2-2-2-2-2-2-2-2-2-2-2-2-2-2-2/
LOCATION:Pike County Public Library\, 126 Lee Avenue\, Pikeville\, KY\, 41501\, United States
CATEGORIES:Pike County Public Library
ATTACH;FMTTYPE=image/jpeg:https://visitpikeville.com/wp-content/uploads/2024/06/quilters.jpeg
END:VEVENT
BEGIN:VEVENT
DTSTART;TZID=America/Kentucky/Louisville:20250301T120000
DTEND;TZID=America/Kentucky/Louisville:20250301T140000
DTSTAMP:20260424T133021
CREATED:20241111T191021Z
LAST-MODIFIED:20241111T191021Z
UID:59557-1740830400-1740837600@visitpikeville.com
SUMMARY:Baseball vs Johnson University
DESCRIPTION:Game Day!!
URL:https://visitpikeville.com/event/baseball-vs-johnson-university-4-2/
LOCATION:Johnnie LeMaster Field\, 118 W River Dr\,\, Pikeville\, KY\, 41501\, United States
CATEGORIES:UPike
ATTACH;FMTTYPE=image/png:https://visitpikeville.com/wp-content/uploads/2024/11/Screenshot-2024-11-11-at-2.06.40 PM.png
END:VEVENT
BEGIN:VEVENT
DTSTART;TZID=America/Kentucky/Louisville:20250301T130000
DTEND;TZID=America/Kentucky/Louisville:20250301T140000
DTSTAMP:20260424T133021
CREATED:20250203T164729Z
LAST-MODIFIED:20250203T164729Z
UID:62710-1740834000-1740837600@visitpikeville.com
SUMMARY:The Dr. Seuss Show
DESCRIPTION:Step into the wacky\, whimsical world of Dr. Seuss with this Seuss-tacular program\, an interactive\, high-energy performance by Tember’s Tales!\nPerfect for kids and families\, this engaging show brings beloved Seussian stories to life with audience participation and plenty of fun surprises.\nFrom The Cat in the Hat to Green Eggs and Ham\, experience the magic of rhymes\, rhythm\, and imagination like never before. Whether you’re a lifelong Seuss fan or discovering his world for the first time\, this show will have you laughing\, learning\, and loving the joy of reading!\nThe Dr. Seuss Show will take place on Saturday\, March 1st at:10:00 – Belfry Public Library1:00 – Pike County Public Library (Lee Ave)4:00 – Elkhorn City Public Library\nNo registration is required.
URL:https://visitpikeville.com/event/the-dr-seuss-show-2/
LOCATION:Pike County Public Library\, 126 Lee Avenue\, Pikeville\, KY\, 41501\, United States
CATEGORIES:Pike County Public Library
ATTACH;FMTTYPE=image/jpeg:https://visitpikeville.com/wp-content/uploads/2025/02/dr-seuss.jpg
END:VEVENT
BEGIN:VEVENT
DTSTART;TZID=America/Kentucky/Louisville:20250301T130000
DTEND;TZID=America/Kentucky/Louisville:20250301T150000
DTSTAMP:20260424T133021
CREATED:20241209T131006Z
LAST-MODIFIED:20241209T131006Z
UID:60610-1740834000-1740841200@visitpikeville.com
SUMMARY:Softball vs Georgetown College
DESCRIPTION:Game Day!!
URL:https://visitpikeville.com/event/softball-vs-georgetown-college-2/
LOCATION:Paul Butcher Field\, 134 Bank St\,\, Pikeville\, KY\, 41501\, United States
CATEGORIES:UPike
ATTACH;FMTTYPE=image/png:https://visitpikeville.com/wp-content/uploads/2024/12/Screenshot-2024-12-09-at-8.08.50 AM.png
END:VEVENT
BEGIN:VEVENT
DTSTART;TZID=America/Kentucky/Louisville:20250301T150000
DTEND;TZID=America/Kentucky/Louisville:20250301T170000
DTSTAMP:20260424T133021
CREATED:20241111T191059Z
LAST-MODIFIED:20241111T191059Z
UID:59559-1740841200-1740848400@visitpikeville.com
SUMMARY:Baseball vs Johnson University
DESCRIPTION:Game Day!!
URL:https://visitpikeville.com/event/baseball-vs-johnson-university-4-2-2/
LOCATION:Johnnie LeMaster Field\, 118 W River Dr\,\, Pikeville\, KY\, 41501\, United States
CATEGORIES:UPike
ATTACH;FMTTYPE=image/png:https://visitpikeville.com/wp-content/uploads/2024/11/Screenshot-2024-11-11-at-2.06.40 PM.png
END:VEVENT
BEGIN:VEVENT
DTSTART;TZID=America/Kentucky/Louisville:20250301T193000
DTEND;TZID=America/Kentucky/Louisville:20250301T213000
DTSTAMP:20260424T133021
CREATED:20250227T223345Z
LAST-MODIFIED:20250227T223345Z
UID:63079-1740857400-1740864600@visitpikeville.com
SUMMARY:Dempsey and Hall
DESCRIPTION:@Bank 253
URL:https://visitpikeville.com/event/dempsey-and-hall/
LOCATION:Bank 253\, 253 2nd St\,\, Pikeville\, KY\, 41501\, United States
CATEGORIES:Other
ATTACH;FMTTYPE=image/jpeg:https://visitpikeville.com/wp-content/uploads/2025/02/dempsey.jpg
END:VEVENT
END:VCALENDAR