BEGIN:VCALENDAR
VERSION:2.0
PRODID:-//Visit Pikeville - ECPv6.15.20//NONSGML v1.0//EN
CALSCALE:GREGORIAN
METHOD:PUBLISH
X-ORIGINAL-URL:https://visitpikeville.com
X-WR-CALDESC:Events for Visit Pikeville
REFRESH-INTERVAL;VALUE=DURATION:PT1H
X-Robots-Tag:noindex
X-PUBLISHED-TTL:PT1H
BEGIN:VTIMEZONE
TZID:America/Kentucky/Louisville
BEGIN:DAYLIGHT
TZOFFSETFROM:-0500
TZOFFSETTO:-0400
TZNAME:EDT
DTSTART:20240310T070000
END:DAYLIGHT
BEGIN:STANDARD
TZOFFSETFROM:-0400
TZOFFSETTO:-0500
TZNAME:EST
DTSTART:20241103T060000
END:STANDARD
BEGIN:DAYLIGHT
TZOFFSETFROM:-0500
TZOFFSETTO:-0400
TZNAME:EDT
DTSTART:20250309T070000
END:DAYLIGHT
BEGIN:STANDARD
TZOFFSETFROM:-0400
TZOFFSETTO:-0500
TZNAME:EST
DTSTART:20251102T060000
END:STANDARD
BEGIN:DAYLIGHT
TZOFFSETFROM:-0500
TZOFFSETTO:-0400
TZNAME:EDT
DTSTART:20260308T070000
END:DAYLIGHT
BEGIN:STANDARD
TZOFFSETFROM:-0400
TZOFFSETTO:-0500
TZNAME:EST
DTSTART:20261101T060000
END:STANDARD
END:VTIMEZONE
BEGIN:VEVENT
DTSTART;TZID=America/Kentucky/Louisville:20250227T070000
DTEND;TZID=America/Kentucky/Louisville:20250331T190000
DTSTAMP:20260424T133047
CREATED:20250226T224237Z
LAST-MODIFIED:20250226T224237Z
UID:63058-1740639600-1743447600@visitpikeville.com
SUMMARY:FEMA Disaster Assistance
DESCRIPTION:Apply in person for FEMA benefits
URL:https://visitpikeville.com/event/fema-disaster-assistance/
LOCATION:KY
CATEGORIES:City of Pikeville,Pike County Public Library
ATTACH;FMTTYPE=image/jpeg:https://visitpikeville.com/wp-content/uploads/2025/02/fema.jpg
END:VEVENT
BEGIN:VEVENT
DTSTART;TZID=America/Kentucky/Louisville:20250228T150000
DTEND;TZID=America/Kentucky/Louisville:20250228T160000
DTSTAMP:20260424T133047
CREATED:20241209T130619Z
LAST-MODIFIED:20241209T130619Z
UID:60604-1740754800-1740758400@visitpikeville.com
SUMMARY:Women's Tennis vs Reinhardt University
DESCRIPTION:Game Day!!
URL:https://visitpikeville.com/event/womens-tennis-vs-reinhardt-university/
LOCATION:Bob Amos Park\, 424 Bob Amos Dr\, Pikeville\, Ky\, 41501
CATEGORIES:UPike
ATTACH;FMTTYPE=image/png:https://visitpikeville.com/wp-content/uploads/2024/12/Screenshot-2024-12-09-at-8.05.54 AM.png
END:VEVENT
BEGIN:VEVENT
DTSTART;TZID=America/Kentucky/Louisville:20250228T150000
DTEND;TZID=America/Kentucky/Louisville:20250228T160000
DTSTAMP:20260424T133047
CREATED:20241209T130758Z
LAST-MODIFIED:20241209T130758Z
UID:60607-1740754800-1740758400@visitpikeville.com
SUMMARY:Men's Tennis vs Reinhardt University
DESCRIPTION:Game Day!
URL:https://visitpikeville.com/event/mens-tennis-vs-reinhardt-university/
LOCATION:Bob Amos Park\, 424 Bob Amos Dr\, Pikeville\, Ky\, 41501
CATEGORIES:UPike
ATTACH;FMTTYPE=image/png:https://visitpikeville.com/wp-content/uploads/2024/12/Screenshot-2024-12-09-at-8.06.29 AM.png
END:VEVENT
BEGIN:VEVENT
DTSTART;TZID=America/Kentucky/Louisville:20250228T150000
DTEND;TZID=America/Kentucky/Louisville:20250228T170000
DTSTAMP:20260424T133047
CREATED:20241111T190814Z
LAST-MODIFIED:20241111T190844Z
UID:59554-1740754800-1740762000@visitpikeville.com
SUMMARY:Baseball vs Johnson University
DESCRIPTION:Game Day!!
URL:https://visitpikeville.com/event/baseball-vs-johnson-university-4/
LOCATION:Johnnie LeMaster Field\, 118 W River Dr\,\, Pikeville\, KY\, 41501\, United States
CATEGORIES:UPike
ATTACH;FMTTYPE=image/png:https://visitpikeville.com/wp-content/uploads/2024/11/Screenshot-2024-11-11-at-2.06.40 PM.png
END:VEVENT
BEGIN:VEVENT
DTSTART;TZID=America/Kentucky/Louisville:20250228T163000
DTEND;TZID=America/Kentucky/Louisville:20250228T173000
DTSTAMP:20260424T133047
CREATED:20250127T174004Z
LAST-MODIFIED:20250127T174004Z
UID:62539-1740760200-1740763800@visitpikeville.com
SUMMARY:Kids Guitar Class
DESCRIPTION:Beginner guitar lessons for children ages 8-12. This class will be for 8 weeks\, meeting weekly in February and March. Please bring your own instrument. Registration required. \n\n\n\n\n\n\n  \nMeets every Friday at 4:30 Feb 7 – March 28.
URL:https://visitpikeville.com/event/kids-guitar-class-2-2-2/
LOCATION:Pike County Public Library\, 126 Lee Avenue\, Pikeville\, KY\, 41501\, United States
CATEGORIES:Pike County Public Library
ATTACH;FMTTYPE=image/png:https://visitpikeville.com/wp-content/uploads/2025/01/Beginner_Guitar_Classes.png
END:VEVENT
BEGIN:VEVENT
DTSTART;TZID=America/Kentucky/Louisville:20250228T190000
DTEND;TZID=America/Kentucky/Louisville:20250228T210000
DTSTAMP:20260424T133047
CREATED:20250217T140750Z
LAST-MODIFIED:20250217T140750Z
UID:62870-1740769200-1740776400@visitpikeville.com
SUMMARY:Esports vs Florida Tech
DESCRIPTION:Game Day!
URL:https://visitpikeville.com/event/esports-vs-florida-tech/
LOCATION:UPIKE\, 147 Sycamore St\,\, Pikeville\, KY\, 41501\, United States
CATEGORIES:UPike
ATTACH;FMTTYPE=image/png:https://visitpikeville.com/wp-content/uploads/2025/02/Screenshot-2025-02-17-at-9.05.09 AM.png
END:VEVENT
BEGIN:VEVENT
DTSTART;TZID=America/Kentucky/Louisville:20250228T193000
DTEND;TZID=America/Kentucky/Louisville:20250228T223000
DTSTAMP:20260424T133047
CREATED:20250210T155639Z
LAST-MODIFIED:20250210T155639Z
UID:62776-1740771000-1740781800@visitpikeville.com
SUMMARY:Live Music at Bank 253
DESCRIPTION:7:30pm – 10:30pm
URL:https://visitpikeville.com/event/live-music-at-bank-253-3-2-2-2/
LOCATION:Bank 253\, 253 2nd St\,\, Pikeville\, KY\, 41501\, United States
CATEGORIES:Other
ATTACH;FMTTYPE=image/jpeg:https://visitpikeville.com/wp-content/uploads/2025/02/bank253.jpg
END:VEVENT
BEGIN:VEVENT
DTSTART;TZID=America/Kentucky/Louisville:20250228T193000
DTEND;TZID=America/Kentucky/Louisville:20250228T223000
DTSTAMP:20260424T133047
CREATED:20250227T223531Z
LAST-MODIFIED:20250227T223531Z
UID:63082-1740771000-1740781800@visitpikeville.com
SUMMARY:Brittany Avery Mullins
DESCRIPTION:@Bank 253
URL:https://visitpikeville.com/event/brittany-avery-mullins/
LOCATION:Bank 253\, 253 2nd St\,\, Pikeville\, KY\, 41501\, United States
CATEGORIES:Other
ATTACH;FMTTYPE=image/jpeg:https://visitpikeville.com/wp-content/uploads/2025/02/brittany.jpg
END:VEVENT
END:VCALENDAR