BEGIN:VCALENDAR
VERSION:2.0
PRODID:-//Visit Pikeville - ECPv6.15.20//NONSGML v1.0//EN
CALSCALE:GREGORIAN
METHOD:PUBLISH
X-ORIGINAL-URL:https://visitpikeville.com
X-WR-CALDESC:Events for Visit Pikeville
REFRESH-INTERVAL;VALUE=DURATION:PT1H
X-Robots-Tag:noindex
X-PUBLISHED-TTL:PT1H
BEGIN:VTIMEZONE
TZID:America/Kentucky/Louisville
BEGIN:DAYLIGHT
TZOFFSETFROM:-0500
TZOFFSETTO:-0400
TZNAME:EDT
DTSTART:20240310T070000
END:DAYLIGHT
BEGIN:STANDARD
TZOFFSETFROM:-0400
TZOFFSETTO:-0500
TZNAME:EST
DTSTART:20241103T060000
END:STANDARD
BEGIN:DAYLIGHT
TZOFFSETFROM:-0500
TZOFFSETTO:-0400
TZNAME:EDT
DTSTART:20250309T070000
END:DAYLIGHT
BEGIN:STANDARD
TZOFFSETFROM:-0400
TZOFFSETTO:-0500
TZNAME:EST
DTSTART:20251102T060000
END:STANDARD
BEGIN:DAYLIGHT
TZOFFSETFROM:-0500
TZOFFSETTO:-0400
TZNAME:EDT
DTSTART:20260308T070000
END:DAYLIGHT
BEGIN:STANDARD
TZOFFSETFROM:-0400
TZOFFSETTO:-0500
TZNAME:EST
DTSTART:20261101T060000
END:STANDARD
END:VTIMEZONE
BEGIN:VEVENT
DTSTART;TZID=America/Kentucky/Louisville:20250222T110000
DTEND;TZID=America/Kentucky/Louisville:20250222T120000
DTSTAMP:20260424T145621
CREATED:20250127T170453Z
LAST-MODIFIED:20250127T170453Z
UID:62496-1740222000-1740225600@visitpikeville.com
SUMMARY:Story Time
DESCRIPTION:tory Time is for children ages 5 and under and features books\, action/movement\, songs\, and a craft. Story Time is held Thursdays at 11:00 and 2:00 and Saturdays at 11:00. \n\n\n\n\n\n\n  \nBesides being fun\, Story Time also helps develop early literacy and school readiness skills through reading\, singing\, listening\, playing\, and social interaction. This program lasts approximately 30 minutes\, and caregivers and children are encouraged to linger in the library afterwards to further socialize and choose books to take home.
URL:https://visitpikeville.com/event/story-time-2-2-2-2-2-2-2-2-2-2-2-2-2-2-2-2-2-2-2-2-2-2-2-2-2-2-2-2-2-2-2-2-2-2-2-2-2-2-2-2-2-2-2-2-2-2-2-2-2-2-2-2-2-2-2-3-2-2-2-2-2-2-2-2-2-2-2-2-2-2-2-2-2-2-2-2-2-2-2-2-2-2-2-2-2-2-2-2-2-2-2-2-2-1-9/
LOCATION:Pike County Public Library\, 126 Lee Avenue\, Pikeville\, KY\, 41501\, United States
CATEGORIES:Pike County Public Library
ATTACH;FMTTYPE=image/png:https://visitpikeville.com/wp-content/uploads/2023/12/Story_TimeLEE.png
END:VEVENT
BEGIN:VEVENT
DTSTART;TZID=America/Kentucky/Louisville:20250222T120000
DTEND;TZID=America/Kentucky/Louisville:20250222T140000
DTSTAMP:20260424T145621
CREATED:20241209T125558Z
LAST-MODIFIED:20241209T125558Z
UID:60597-1740225600-1740232800@visitpikeville.com
SUMMARY:Softball vs Alice Lloyd College
DESCRIPTION:Game Day!!
URL:https://visitpikeville.com/event/softball-vs-alice-lloyd-college-3/
LOCATION:Johnnie LeMaster Field\, 118 W River Dr\,\, Pikeville\, KY\, 41501\, United States
CATEGORIES:UPike
ATTACH;FMTTYPE=image/png:https://visitpikeville.com/wp-content/uploads/2024/12/Screenshot-2024-12-09-at-7.52.58 AM.png
END:VEVENT
BEGIN:VEVENT
DTSTART;TZID=America/Kentucky/Louisville:20250222T130000
DTEND;TZID=America/Kentucky/Louisville:20250222T140000
DTSTAMP:20260424T145621
CREATED:20250210T130229Z
LAST-MODIFIED:20250210T130229Z
UID:62736-1740229200-1740232800@visitpikeville.com
SUMMARY:Bluegrass Precision Wellness Ribbon Cutting Ceremony
DESCRIPTION:Continue Bluegrass Precision Wellness’ new location celebration with the official ribbon cutting ceremony.
URL:https://visitpikeville.com/event/bluegrass-precision-wellness-ribbon-cutting-ceremony/
LOCATION:Bluegrass Precision Wellness\, 73 Weddington Branch Road\,\, Pikeville\, KY\, 41501\, United States
CATEGORIES:Southeast Kentucky Chamber
ATTACH;FMTTYPE=image/png:https://visitpikeville.com/wp-content/uploads/2025/02/RibbonCutting-BluegrassPrecisionWellness.png
END:VEVENT
BEGIN:VEVENT
DTSTART;TZID=America/Kentucky/Louisville:20250222T130000
DTEND;TZID=America/Kentucky/Louisville:20250222T160000
DTSTAMP:20260424T145621
CREATED:20250127T165024Z
LAST-MODIFIED:20250127T165024Z
UID:62475-1740229200-1740240000@visitpikeville.com
SUMMARY:Murder Mystery: Best Laid Plans- An Old Hollywood Whodunnit
DESCRIPTION:Come to the quintessential whodunnit thriller at the estate of Sir Warren Peace and get thrown into a night of mystery\, intrigue\, and murder you will never forget. With a killer crowd of people just waiting for murder to arrive on the scene\, this night will keep everyone looking over their shoulders and guessing who the next victim will be! Bribe suspects for clues and gather information to uncover the unhinged guest who is whacking all the invitees. Just be careful\, because you could be next!\nThis immersive\, interactive performance will be held Saturday\, February 22 at the Pike County Public Library (Lee Avenue) from 1:00-4:00. It is brought to life with two improv-trained actors guiding the story\, full of witty banter and dynamic interaction.\nThis murder mystery is light hearted and rated PG-13. There will be mentions of drugs or alcohol\, adult humor and situations\, as well as mentions of affairs.\nNo food will be served.\nRegistration is required. Click here to register: https://informationplace.libnet.info/event/12767623
URL:https://visitpikeville.com/event/murder-mystery-best-laid-plans-an-old-hollywood-whodunnit/
LOCATION:Pike County Public Library\, 126 Lee Avenue\, Pikeville\, KY\, 41501\, United States
CATEGORIES:Pike County Public Library
ATTACH;FMTTYPE=image/jpeg:https://visitpikeville.com/wp-content/uploads/2025/01/murder.jpg
END:VEVENT
BEGIN:VEVENT
DTSTART;TZID=America/Kentucky/Louisville:20250222T140000
DTEND;TZID=America/Kentucky/Louisville:20250222T150000
DTSTAMP:20260424T145621
CREATED:20241111T185350Z
LAST-MODIFIED:20241111T185350Z
UID:59551-1740232800-1740236400@visitpikeville.com
SUMMARY:Women's Basketball vs Columbia International University
DESCRIPTION:Game Day!!
URL:https://visitpikeville.com/event/womens-basketball-vs-columbia-international-university/
LOCATION:UPIKE GYM\, Hibbard St\,\, Pikeville\, KY\, 41501\, United States
CATEGORIES:UPike
ATTACH;FMTTYPE=image/png:https://visitpikeville.com/wp-content/uploads/2024/11/Screenshot-2024-11-11-at-1.52.37 PM.png
END:VEVENT
BEGIN:VEVENT
DTSTART;TZID=America/Kentucky/Louisville:20250222T160000
DTEND;TZID=America/Kentucky/Louisville:20250222T170000
DTSTAMP:20260424T145621
CREATED:20240930T135322Z
LAST-MODIFIED:20240930T135322Z
UID:57795-1740240000-1740243600@visitpikeville.com
SUMMARY:Men's Basketball vs Columbia International University
DESCRIPTION:Game Day!!
URL:https://visitpikeville.com/event/mens-basketball-vs-columbia-international-university-2/
LOCATION:Appalachian Wireless Arena\, 126 Main Street\, Pikeville\, Ky\, 41501
CATEGORIES:UPike
ATTACH;FMTTYPE=image/png:https://visitpikeville.com/wp-content/uploads/2024/09/Screenshot-2024-09-30-at-9.52.14 AM.png
END:VEVENT
BEGIN:VEVENT
DTSTART;TZID=America/Kentucky/Louisville:20250222T160000
DTEND;TZID=America/Kentucky/Louisville:20250222T170000
DTSTAMP:20260424T145621
CREATED:20250127T163114Z
LAST-MODIFIED:20250127T163114Z
UID:62456-1740240000-1740243600@visitpikeville.com
SUMMARY:Chess Group
DESCRIPTION:Chess Group meets alternating Saturdays at 4:00 at the Pike County Public Library (Lee Avenue).\nAll ages are welcome and no experience is required. Learn how to play chess or play against other enthusiasts.
URL:https://visitpikeville.com/event/chess-group-2-2-2-2-2-2-2-2-2-2-2-2-2-2-2-2-2-2-2-2-2-2-3-2-2-2/
LOCATION:Pike County Public Library\, 126 Lee Avenue\, Pikeville\, KY\, 41501\, United States
CATEGORIES:Pike County Public Library
ATTACH;FMTTYPE=image/jpeg:https://visitpikeville.com/wp-content/uploads/2025/01/chess-club.jpg
END:VEVENT
BEGIN:VEVENT
DTSTART;TZID=America/Kentucky/Louisville:20250222T160000
DTEND;TZID=America/Kentucky/Louisville:20250222T180000
DTSTAMP:20260424T145621
CREATED:20241209T125753Z
LAST-MODIFIED:20241209T130235Z
UID:60600-1740240000-1740247200@visitpikeville.com
SUMMARY:Softball vs Siena Heights University (Mich.)
DESCRIPTION:Game Day!!
URL:https://visitpikeville.com/event/softball-vs-siena-heights-university-mich-3/
LOCATION:Paul Butcher Field\, 134 Bank St\,\, Pikeville\, KY\, 41501\, United States
CATEGORIES:UPike
ATTACH;FMTTYPE=image/png:https://visitpikeville.com/wp-content/uploads/2024/12/Screenshot-2024-12-09-at-7.56.22 AM.png
END:VEVENT
BEGIN:VEVENT
DTSTART;TZID=America/Kentucky/Louisville:20250222T183000
DTEND;TZID=America/Kentucky/Louisville:20250222T213000
DTSTAMP:20260424T145621
CREATED:20250120T142938Z
LAST-MODIFIED:20250120T142938Z
UID:62222-1740249000-1740259800@visitpikeville.com
SUMMARY:Love You to the Moon Dance
DESCRIPTION:The Pikeville Main Street Program is proud to present this heartwarming event designed to celebrate the special bond between dads and daughters.\n\n\nFathers and daughters\, ages 4 through 6th grade\, get ready for a magical evening you’ll never forget! Join us at Pikeville’s premier event destination\, The Overlook Events Center\, for an enchanting night of dinner\, dancing\, and unforgettable memories.\n\n\nThis special event will feature:\n Dancing to the tunes of a live DJ\n Professional Photography to capture your cherished moments\n A delightful dinner experience\n An evening filled with love and laughter\n When: Saturday\, February 22nd\, 6:30 PM – 9:30 PM\n Where: The Overlook Events Center\n Tickets:\n• $50 per couple\n• $10 for each additional child\n\n\nSeats are limited! To purchase tickets\, call 606-213-2358 or 606-794-4514\, or stop by the City of Pikeville Visitors Center located at 773 Hambley Blvd. 10am-5pm\, Monday through Friday\n\n\nMake this Valentine’s season one to treasure with your little one.\n\n\n A night of love\, joy\, and moonlit memories awaits!
URL:https://visitpikeville.com/event/love-you-to-the-moon-dance/
LOCATION:Overlook Events Center\, 891 Bob Amos Drive\, Pikeville\, KY\, 41501\, United States
CATEGORIES:Pikeville Main Street
ATTACH;FMTTYPE=image/jpeg:https://visitpikeville.com/wp-content/uploads/2025/01/father-daughter.jpg
END:VEVENT
BEGIN:VEVENT
DTSTART;TZID=America/Kentucky/Louisville:20250222T193000
DTEND;TZID=America/Kentucky/Louisville:20250222T223000
DTSTAMP:20260424T145621
CREATED:20250210T161556Z
LAST-MODIFIED:20250210T161556Z
UID:62783-1740252600-1740263400@visitpikeville.com
SUMMARY:Live Music at Bank 253
DESCRIPTION:7:30pm – 10:30pm
URL:https://visitpikeville.com/event/live-music-at-bank-253-3-2-2-2-2-2/
LOCATION:Bank 253\, 253 2nd St\,\, Pikeville\, KY\, 41501\, United States
CATEGORIES:Other
ATTACH;FMTTYPE=image/jpeg:https://visitpikeville.com/wp-content/uploads/2025/02/bank253.jpg
END:VEVENT
BEGIN:VEVENT
DTSTART;TZID=America/Kentucky/Louisville:20250222T210000
DTEND;TZID=America/Kentucky/Louisville:20250223T000000
DTSTAMP:20260424T145621
CREATED:20250120T144453Z
LAST-MODIFIED:20250120T144453Z
UID:62236-1740258000-1740268800@visitpikeville.com
SUMMARY:Winter Weekend Party
DESCRIPTION:The Swagtones and Exit 23
URL:https://visitpikeville.com/event/winter-weekend-party-2-2-2/
LOCATION:Pearse’s Place\, 224 2nd St\,\, Pikeville\, KY\, 41501\, United States
CATEGORIES:Other
ATTACH;FMTTYPE=image/jpeg:https://visitpikeville.com/wp-content/uploads/2025/01/winter-weekend.jpg
END:VEVENT
END:VCALENDAR