BEGIN:VCALENDAR
VERSION:2.0
PRODID:-//Visit Pikeville - ECPv6.15.20//NONSGML v1.0//EN
CALSCALE:GREGORIAN
METHOD:PUBLISH
X-ORIGINAL-URL:https://visitpikeville.com
X-WR-CALDESC:Events for Visit Pikeville
REFRESH-INTERVAL;VALUE=DURATION:PT1H
X-Robots-Tag:noindex
X-PUBLISHED-TTL:PT1H
BEGIN:VTIMEZONE
TZID:America/Kentucky/Louisville
BEGIN:DAYLIGHT
TZOFFSETFROM:-0500
TZOFFSETTO:-0400
TZNAME:EDT
DTSTART:20240310T070000
END:DAYLIGHT
BEGIN:STANDARD
TZOFFSETFROM:-0400
TZOFFSETTO:-0500
TZNAME:EST
DTSTART:20241103T060000
END:STANDARD
BEGIN:DAYLIGHT
TZOFFSETFROM:-0500
TZOFFSETTO:-0400
TZNAME:EDT
DTSTART:20250309T070000
END:DAYLIGHT
BEGIN:STANDARD
TZOFFSETFROM:-0400
TZOFFSETTO:-0500
TZNAME:EST
DTSTART:20251102T060000
END:STANDARD
BEGIN:DAYLIGHT
TZOFFSETFROM:-0500
TZOFFSETTO:-0400
TZNAME:EDT
DTSTART:20260308T070000
END:DAYLIGHT
BEGIN:STANDARD
TZOFFSETFROM:-0400
TZOFFSETTO:-0500
TZNAME:EST
DTSTART:20261101T060000
END:STANDARD
END:VTIMEZONE
BEGIN:VEVENT
DTSTART;TZID=America/Kentucky/Louisville:20250219T103000
DTEND;TZID=America/Kentucky/Louisville:20250219T113000
DTSTAMP:20260424T145622
CREATED:20250127T172622Z
LAST-MODIFIED:20250127T172622Z
UID:62521-1739961000-1739964600@visitpikeville.com
SUMMARY:BASIC COMPUTER SKILLS
DESCRIPTION:Learn technology basics like e-mail\, smart phones\, social media\, and more. Meets alternating Wednesdays at 10:30 at the Pike County Public Library (Lee Avenue). No registration required.
URL:https://visitpikeville.com/event/basic-computer-skills-3-2-2-2-2-2-2-2-2-2-2-2-2-2-2-2-2-2-2-2-2-2-2-2/
LOCATION:Pike County Public Library\, 126 Lee Avenue\, Pikeville\, KY\, 41501\, United States
CATEGORIES:Pike County Public Library
ATTACH;FMTTYPE=image/jpeg:https://visitpikeville.com/wp-content/uploads/2024/12/computer-skills.jpg
END:VEVENT
BEGIN:VEVENT
DTSTART;TZID=America/Kentucky/Louisville:20250219T110000
DTEND;TZID=America/Kentucky/Louisville:20250219T130000
DTSTAMP:20260424T145622
CREATED:20250203T152634Z
LAST-MODIFIED:20250203T152634Z
UID:62687-1739962800-1739970000@visitpikeville.com
SUMMARY:Brush & Brunch
DESCRIPTION:Call to register!
URL:https://visitpikeville.com/event/brush-brunch-2/
LOCATION:Pike Co. Extension Community Arts\, 148 Trivette Dr\, Pikeville\, KY\, United States
CATEGORIES:Pike County Extension Community Arts
ATTACH;FMTTYPE=image/jpeg:https://visitpikeville.com/wp-content/uploads/2025/02/brush.jpg
END:VEVENT
BEGIN:VEVENT
DTSTART;TZID=America/Kentucky/Louisville:20250219T163000
DTEND;TZID=America/Kentucky/Louisville:20250219T173000
DTSTAMP:20260424T145622
CREATED:20250127T171611Z
LAST-MODIFIED:20250127T172023Z
UID:62515-1739982600-1739986200@visitpikeville.com
SUMMARY:Teen Guitar Class
DESCRIPTION:Beginner guitar lessons for patrons ages 13-17. This class will be for 8 weeks\, meeting weekly in February and March. Please bring your own instrument. Registration required. \n\n\n\n\n\n\n  \nMeets every Wednesday at 4:30 Feb 5 – March 26.
URL:https://visitpikeville.com/event/teen-guitar-class-2-2/
LOCATION:Pike County Public Library\, 126 Lee Avenue\, Pikeville\, KY\, 41501\, United States
CATEGORIES:Pike County Public Library
ATTACH;FMTTYPE=image/png:https://visitpikeville.com/wp-content/uploads/2025/01/Beginner_Guitar_Classes.png
END:VEVENT
BEGIN:VEVENT
DTSTART;TZID=America/Kentucky/Louisville:20250219T190000
DTEND;TZID=America/Kentucky/Louisville:20250219T210000
DTSTAMP:20260424T145622
CREATED:20250210T162309Z
LAST-MODIFIED:20250210T162309Z
UID:62788-1739991600-1739998800@visitpikeville.com
SUMMARY:Open Mic
DESCRIPTION:Hosted by Johnny Pop Day
URL:https://visitpikeville.com/event/open-mic-3-2/
LOCATION:Pearse’s Place\, 224 2nd St\,\, Pikeville\, KY\, 41501\, United States
CATEGORIES:Other
ATTACH;FMTTYPE=image/jpeg:https://visitpikeville.com/wp-content/uploads/2025/02/open-mc.jpg
END:VEVENT
END:VCALENDAR