BEGIN:VCALENDAR
VERSION:2.0
PRODID:-//Visit Pikeville - ECPv6.15.20//NONSGML v1.0//EN
CALSCALE:GREGORIAN
METHOD:PUBLISH
X-ORIGINAL-URL:https://visitpikeville.com
X-WR-CALDESC:Events for Visit Pikeville
REFRESH-INTERVAL;VALUE=DURATION:PT1H
X-Robots-Tag:noindex
X-PUBLISHED-TTL:PT1H
BEGIN:VTIMEZONE
TZID:America/Kentucky/Louisville
BEGIN:DAYLIGHT
TZOFFSETFROM:-0500
TZOFFSETTO:-0400
TZNAME:EDT
DTSTART:20240310T070000
END:DAYLIGHT
BEGIN:STANDARD
TZOFFSETFROM:-0400
TZOFFSETTO:-0500
TZNAME:EST
DTSTART:20241103T060000
END:STANDARD
BEGIN:DAYLIGHT
TZOFFSETFROM:-0500
TZOFFSETTO:-0400
TZNAME:EDT
DTSTART:20250309T070000
END:DAYLIGHT
BEGIN:STANDARD
TZOFFSETFROM:-0400
TZOFFSETTO:-0500
TZNAME:EST
DTSTART:20251102T060000
END:STANDARD
BEGIN:DAYLIGHT
TZOFFSETFROM:-0500
TZOFFSETTO:-0400
TZNAME:EDT
DTSTART:20260308T070000
END:DAYLIGHT
BEGIN:STANDARD
TZOFFSETFROM:-0400
TZOFFSETTO:-0500
TZNAME:EST
DTSTART:20261101T060000
END:STANDARD
END:VTIMEZONE
BEGIN:VEVENT
DTSTART;VALUE=DATE:20250215
DTEND;VALUE=DATE:20250216
DTSTAMP:20260424T145733
CREATED:20250210T161328Z
LAST-MODIFIED:20250210T161328Z
UID:62778-1739577600-1739663999@visitpikeville.com
SUMMARY:Heart Ball
DESCRIPTION:For more information about sponsorship contact gerri.collins@pikevillehospital.org
URL:https://visitpikeville.com/event/heart-ball/
LOCATION:Appalachian Wireless Arena\, 126 Main Street\, Pikeville\, Ky\, 41501
CATEGORIES:Appalachian Wireless Arena
ATTACH;FMTTYPE=image/jpeg:https://visitpikeville.com/wp-content/uploads/2025/02/Speak-From-the-Heart-Gala-Flyer-qydasw91bjevlcejoz6n7wryy3ihvax7imk3fxpcos.jpg
END:VEVENT
BEGIN:VEVENT
DTSTART;TZID=America/Kentucky/Louisville:20250215T110000
DTEND;TZID=America/Kentucky/Louisville:20250215T120000
DTSTAMP:20260424T145733
CREATED:20250127T170245Z
LAST-MODIFIED:20250127T170245Z
UID:62490-1739617200-1739620800@visitpikeville.com
SUMMARY:Story Time
DESCRIPTION:tory Time is for children ages 5 and under and features books\, action/movement\, songs\, and a craft. Story Time is held Thursdays at 11:00 and 2:00 and Saturdays at 11:00. \n\n\n\n\n\n\n  \nBesides being fun\, Story Time also helps develop early literacy and school readiness skills through reading\, singing\, listening\, playing\, and social interaction. This program lasts approximately 30 minutes\, and caregivers and children are encouraged to linger in the library afterwards to further socialize and choose books to take home.
URL:https://visitpikeville.com/event/story-time-2-2-2-2-2-2-2-2-2-2-2-2-2-2-2-2-2-2-2-2-2-2-2-2-2-2-2-2-2-2-2-2-2-2-2-2-2-2-2-2-2-2-2-2-2-2-2-2-2-2-2-2-2-2-2-3-2-2-2-2-2-2-2-2-2-2-2-2-2-2-2-2-2-2-2-2-2-2-2-2-2-2-2-2-2-2-2-2-2-2-2-2-2-1-6/
LOCATION:Pike County Public Library\, 126 Lee Avenue\, Pikeville\, KY\, 41501\, United States
CATEGORIES:Pike County Public Library
ATTACH;FMTTYPE=image/png:https://visitpikeville.com/wp-content/uploads/2023/12/Story_TimeLEE.png
END:VEVENT
BEGIN:VEVENT
DTSTART;TZID=America/Kentucky/Louisville:20250215T153000
DTEND;TZID=America/Kentucky/Louisville:20250215T173000
DTSTAMP:20260424T145733
CREATED:20250127T164641Z
LAST-MODIFIED:20250127T164641Z
UID:62472-1739633400-1739640600@visitpikeville.com
SUMMARY:Ham Radio Informational Session and Testing
DESCRIPTION:Testing for ham radio licensing and informational presentation will be held at the Pike County Public Library (Lee Avenue) on Saturday\, February 15th at 3:30.
URL:https://visitpikeville.com/event/ham-radio-informational-session-and-testing/
LOCATION:Pike County Public Library\, 126 Lee Avenue\, Pikeville\, KY\, 41501\, United States
CATEGORIES:Pike County Public Library
ATTACH;FMTTYPE=image/jpeg:https://visitpikeville.com/wp-content/uploads/2025/01/ham-radio.jpg
END:VEVENT
BEGIN:VEVENT
DTSTART;TZID=America/Kentucky/Louisville:20250215T193000
DTEND;TZID=America/Kentucky/Louisville:20250215T223000
DTSTAMP:20260424T145733
CREATED:20250210T161500Z
LAST-MODIFIED:20250210T161500Z
UID:62781-1739647800-1739658600@visitpikeville.com
SUMMARY:Live Music at Bank 253
DESCRIPTION:7:30pm – 10:30pm
URL:https://visitpikeville.com/event/live-music-at-bank-253-3-2-2-2-2/
LOCATION:Bank 253\, 253 2nd St\,\, Pikeville\, KY\, 41501\, United States
CATEGORIES:Other
ATTACH;FMTTYPE=image/jpeg:https://visitpikeville.com/wp-content/uploads/2025/02/bank253.jpg
END:VEVENT
BEGIN:VEVENT
DTSTART;TZID=America/Kentucky/Louisville:20250215T210000
DTEND;TZID=America/Kentucky/Louisville:20250216T000000
DTSTAMP:20260424T145733
CREATED:20250120T144406Z
LAST-MODIFIED:20250120T144406Z
UID:62234-1739653200-1739664000@visitpikeville.com
SUMMARY:Winter Weekend Party
DESCRIPTION:The Swagtones and Exit 23
URL:https://visitpikeville.com/event/winter-weekend-party-2-2/
LOCATION:Pearse’s Place\, 224 2nd St\,\, Pikeville\, KY\, 41501\, United States
CATEGORIES:Other
ATTACH;FMTTYPE=image/jpeg:https://visitpikeville.com/wp-content/uploads/2025/01/winter-weekend.jpg
END:VEVENT
BEGIN:VEVENT
DTSTART;TZID=America/Kentucky/Louisville:20250215T210000
DTEND;TZID=America/Kentucky/Louisville:20250216T000000
DTSTAMP:20260424T145733
CREATED:20250210T162802Z
LAST-MODIFIED:20250210T162802Z
UID:62792-1739653200-1739664000@visitpikeville.com
SUMMARY:Pearse's Place Live Music
DESCRIPTION:9:00pm – 12:00am
URL:https://visitpikeville.com/event/pearses-place-live-music-3/
LOCATION:Pearse’s Place\, 224 2nd St\,\, Pikeville\, KY\, 41501\, United States
CATEGORIES:Other
ATTACH;FMTTYPE=image/jpeg:https://visitpikeville.com/wp-content/uploads/2024/11/pearses.jpg
END:VEVENT
END:VCALENDAR