BEGIN:VCALENDAR
VERSION:2.0
PRODID:-//Visit Pikeville - ECPv6.15.20//NONSGML v1.0//EN
CALSCALE:GREGORIAN
METHOD:PUBLISH
X-WR-CALNAME:Visit Pikeville
X-ORIGINAL-URL:https://visitpikeville.com
X-WR-CALDESC:Events for Visit Pikeville
REFRESH-INTERVAL;VALUE=DURATION:PT1H
X-Robots-Tag:noindex
X-PUBLISHED-TTL:PT1H
BEGIN:VTIMEZONE
TZID:America/Kentucky/Louisville
BEGIN:DAYLIGHT
TZOFFSETFROM:-0500
TZOFFSETTO:-0400
TZNAME:EDT
DTSTART:20240310T070000
END:DAYLIGHT
BEGIN:STANDARD
TZOFFSETFROM:-0400
TZOFFSETTO:-0500
TZNAME:EST
DTSTART:20241103T060000
END:STANDARD
BEGIN:DAYLIGHT
TZOFFSETFROM:-0500
TZOFFSETTO:-0400
TZNAME:EDT
DTSTART:20250309T070000
END:DAYLIGHT
BEGIN:STANDARD
TZOFFSETFROM:-0400
TZOFFSETTO:-0500
TZNAME:EST
DTSTART:20251102T060000
END:STANDARD
BEGIN:DAYLIGHT
TZOFFSETFROM:-0500
TZOFFSETTO:-0400
TZNAME:EDT
DTSTART:20260308T070000
END:DAYLIGHT
BEGIN:STANDARD
TZOFFSETFROM:-0400
TZOFFSETTO:-0500
TZNAME:EST
DTSTART:20261101T060000
END:STANDARD
END:VTIMEZONE
BEGIN:VEVENT
DTSTART;TZID=America/Kentucky/Louisville:20250211T120000
DTEND;TZID=America/Kentucky/Louisville:20250211T130000
DTSTAMP:20260424T145600
CREATED:20250102T124503Z
LAST-MODIFIED:20250102T124503Z
UID:61398-1739275200-1739278800@visitpikeville.com
SUMMARY:Lunch & Learn with UPIKE's Tyler Syck
DESCRIPTION:Free for members!\nFuture-members: $20
URL:https://visitpikeville.com/event/lunch-learn-with-upikes-tyler-syck/
LOCATION:Garfield House\, 178 College Street\, Pikeville\, KY\, 41501\, United States
CATEGORIES:Southeast Kentucky Chamber
ATTACH;FMTTYPE=image/png:https://visitpikeville.com/wp-content/uploads/2025/01/LL-Feb2025-TylerSyck_rework.png
END:VEVENT
BEGIN:VEVENT
DTSTART;TZID=America/Kentucky/Louisville:20250211T150000
DTEND;TZID=America/Kentucky/Louisville:20250211T170000
DTSTAMP:20260424T145600
CREATED:20250127T174541Z
LAST-MODIFIED:20250127T174541Z
UID:62544-1739286000-1739293200@visitpikeville.com
SUMMARY:Valentine Card Making
DESCRIPTION:Make Valentine’s Day cards for loved ones or for Kindness Unfolded to send to the hospital and other places of need.
URL:https://visitpikeville.com/event/valentine-card-making/
LOCATION:Pike County Public Library\, 126 Lee Avenue\, Pikeville\, KY\, 41501\, United States
CATEGORIES:Pike County Public Library
ATTACH;FMTTYPE=image/jpeg:https://visitpikeville.com/wp-content/uploads/2025/01/ValentineNonprofit.jpeg
END:VEVENT
BEGIN:VEVENT
DTSTART;TZID=America/Kentucky/Louisville:20250211T163000
DTEND;TZID=America/Kentucky/Louisville:20250211T173000
DTSTAMP:20260424T145600
CREATED:20250210T165708Z
LAST-MODIFIED:20250210T165708Z
UID:62806-1739291400-1739295000@visitpikeville.com
SUMMARY:Franklin's Valentines Happy Valentine's Day Mouse
DESCRIPTION:Join us for a fun afternoon of book reading\, crafts\, and snacks!  We’ll be reading two Valentine’s Day childhood favorites: Franklin’s Valentines and Happy Valentine’s Day Mouse! 
URL:https://visitpikeville.com/event/franklins-valentines-happy-valentines-day-mouse/
LOCATION:Faith Life Market\, 130 Division St\,\, Pikeville\, KY\, 41501\, United States
CATEGORIES:Other
ATTACH;FMTTYPE=image/png:https://visitpikeville.com/wp-content/uploads/2025/02/Screenshot-2025-02-10-at-11.56.25 AM.png
END:VEVENT
BEGIN:VEVENT
DTSTART;TZID=America/Kentucky/Louisville:20250211T170000
DTEND;TZID=America/Kentucky/Louisville:20250211T180000
DTSTAMP:20260424T145600
CREATED:20250127T171115Z
LAST-MODIFIED:20250127T171115Z
UID:62505-1739293200-1739296800@visitpikeville.com
SUMMARY:Adult Guitar Class
DESCRIPTION:Beginner guitar lessons for patrons ages 18+. This class will be for 8 weeks\, meeting weekly in February and March. Please bring your own instrument. Registration required. \n\n\n\n\n\n\n  \nMeets every Tuesday at 5:00 Feb 4 – March 25.
URL:https://visitpikeville.com/event/adult-guitar-class-2/
LOCATION:Pike County Public Library\, 126 Lee Avenue\, Pikeville\, KY\, 41501\, United States
CATEGORIES:Pike County Public Library
ATTACH;FMTTYPE=image/png:https://visitpikeville.com/wp-content/uploads/2025/01/Beginner_Guitar_Classes.png
END:VEVENT
BEGIN:VEVENT
DTSTART;TZID=America/Kentucky/Louisville:20250211T170000
DTEND;TZID=America/Kentucky/Louisville:20250211T180000
DTSTAMP:20260424T145600
CREATED:20250127T174303Z
LAST-MODIFIED:20250127T174303Z
UID:62541-1739293200-1739296800@visitpikeville.com
SUMMARY:Book Talks
DESCRIPTION:Book Talks is a book club that meets for discussion the first Tuesday of the month at 5:00 at the Pike County Public Library (Lee Avenue). No registration required.
URL:https://visitpikeville.com/event/book-talks-book-club-9-2-2-2-2-2-2-2-2-2-2-2-2-2-2-2-2-2-2-2-2-2-2-2-2-2-2-2-2-2-2-2/
LOCATION:Pike County Public Library\, 126 Lee Avenue\, Pikeville\, KY\, 41501\, United States
CATEGORIES:Pike County Public Library
ATTACH;FMTTYPE=image/png:https://visitpikeville.com/wp-content/uploads/2025/01/Book_Talks_Book_Club_UPDATED.png
END:VEVENT
BEGIN:VEVENT
DTSTART;TZID=America/Kentucky/Louisville:20250211T171500
DTEND;TZID=America/Kentucky/Louisville:20250211T181500
DTSTAMP:20260424T145600
CREATED:20250102T135142Z
LAST-MODIFIED:20250102T135142Z
UID:61437-1739294100-1739297700@visitpikeville.com
SUMMARY:Teen Improv (ages 13-18)
DESCRIPTION:January 14-February 13\, 2025 | $100 for semester\nMeets Tuesdays & Thursdays\, 5:15pm – 6:15pm\nPerformance: February 13\, 2025\nTaught by John Code with Teaching Assistant Brian Bush \n\n\n\n\nIn this class\, we will explore the foundations of improv acting and comedy for new students as well as sharpen the skills of those with previous experience and combine them into a strong team of improv performers! Students of all levels are encouraged to join\, whether it is simply to try something new and fun or to improve on past improv experience. \nWe will be working on a wide arrange of improv games that will eventually be incorporated into a public class sharing on February 13th\, which family and friends of all participants are highly encouraged to attend!It is very important that students attend each class to get the fullest experience of the course and develop the most effective teamwork with their classmates.
URL:https://visitpikeville.com/event/teen-improv-ages-13-18-5-2-2-2-2-2-2-2-2-2/
LOCATION:Appalachian Center for the Arts\, 218 2nd St\,\, Pikeville\, Ky\, 41501
CATEGORIES:The Appalachian Center for the Arts
ATTACH;FMTTYPE=image/webp:https://visitpikeville.com/wp-content/uploads/2025/01/winter-25-classes.webp
END:VEVENT
BEGIN:VEVENT
DTSTART;TZID=America/Kentucky/Louisville:20250211T173000
DTEND;TZID=America/Kentucky/Louisville:20250211T183000
DTSTAMP:20260424T145600
CREATED:20250120T153853Z
LAST-MODIFIED:20250120T153853Z
UID:62259-1739295000-1739298600@visitpikeville.com
SUMMARY:Behind the Yellow Tape: Crime Scene Investigation
DESCRIPTION:Ever wondered how detectives solve crimes? Join us for an engaging presentation by a local detective as we explore the fascinating world of crime scene investigation.\nLearn about the different roles in law enforcement\, the step-by-step CSI process\, and see tools and techniques used to uncover crucial evidence. This program offers a behind-the-scenes glimpse into the science and skills that help crack the case.\nNo registration required.
URL:https://visitpikeville.com/event/behind-the-yellow-tape-crime-scene-investigation/
LOCATION:Pike County Public Library\, 126 Lee Avenue\, Pikeville\, KY\, 41501\, United States
CATEGORIES:Pike County Public Library
ATTACH;FMTTYPE=image/jpeg:https://visitpikeville.com/wp-content/uploads/2025/01/yellow-tape.jpg
END:VEVENT
BEGIN:VEVENT
DTSTART;TZID=America/Kentucky/Louisville:20250211T183000
DTEND;TZID=America/Kentucky/Louisville:20250211T194500
DTSTAMP:20260424T145600
CREATED:20250102T145147Z
LAST-MODIFIED:20250102T145147Z
UID:61516-1739298600-1739303100@visitpikeville.com
SUMMARY:Adult Improv (ages 18+)
DESCRIPTION:January 14th-February 13th | $100 for semester\nMeets Tuesdays & Thursdays\, 6:30-7:45 pm\nPerformance: February 14th\, 2025\nTaught by Crockett J. Ward with Teaching Assistant Brian Bush \n\n\n\n\nAre you ready to dive into a world of mystery\, romance\, and intrigue? This improv class offers a unique opportunity to combine creativity\, spontaneity\, and performance in a thrilling\, interactive environment. In this course\, you’ll train in Interactive and Immersive Improvisation. The culmination of your training will be an unforgettable Valentine’s Day Murder Mystery Dinner. The audience will be invited to become “detectives\,” uncovering clues\, questioning suspects\, and attempting to solve the crime—all while navigating the romance-filled\, suspenseful atmosphere of the dinner. \nBy the end of the class\, you’ll not only have an array of new improvisation techniques\, but you’ll also have the thrilling experience of performing in a fun\, high-energy murder mystery event at The Appalachian Center for the Arts. This will be a night of suspense\, laughter\, and unforgettable moments. \nWhether you’re a seasoned performer or new to improv\, this class is designed for all skill levels who are ready to embrace the thrill of interactive and immersive storytelling!
URL:https://visitpikeville.com/event/adult-improv-ages-18-5-2-2-2-2-2-2-2-2/
LOCATION:Appalachian Center for the Arts\, 218 2nd St\,\, Pikeville\, Ky\, 41501
CATEGORIES:The Appalachian Center for the Arts
ATTACH;FMTTYPE=image/webp:https://visitpikeville.com/wp-content/uploads/2025/01/winter-25-classes.webp
END:VEVENT
BEGIN:VEVENT
DTSTART;TZID=America/Kentucky/Louisville:20250211T200000
DTEND;TZID=America/Kentucky/Louisville:20250211T220000
DTSTAMP:20260424T145600
CREATED:20250102T145950Z
LAST-MODIFIED:20250102T145950Z
UID:61538-1739304000-1739311200@visitpikeville.com
SUMMARY:Adult Stage Combat (ages 18+)
DESCRIPTION:January 14th-February 13th | $100 for semester\nMeets Tuesdays & Thursdays\, 8:00-10:00 pm\nPerformance: February 13th\, 2025\nTaught by Crockett J. Ward with Teaching Assistant Claudia Dahlman \n\n\n\n\nCongratulations on taking your first steps to becoming a fighter or continuing your fight training. This class is centered around a variety of attacks\, evasions\, parries\, and reactions dealing with the Quarterstaff. We will begin with basics and build up to scripted fights. Get ready to fight your friends for fun!
URL:https://visitpikeville.com/event/adult-stage-combat-ages-18-3-2-2-2-2-2-2-2-2/
LOCATION:Appalachian Center for the Arts\, 218 2nd St\,\, Pikeville\, Ky\, 41501
CATEGORIES:The Appalachian Center for the Arts
ATTACH;FMTTYPE=image/webp:https://visitpikeville.com/wp-content/uploads/2025/01/winter-25-classes.webp
END:VEVENT
END:VCALENDAR