BEGIN:VCALENDAR
VERSION:2.0
PRODID:-//Visit Pikeville - ECPv6.15.20//NONSGML v1.0//EN
CALSCALE:GREGORIAN
METHOD:PUBLISH
X-WR-CALNAME:Visit Pikeville
X-ORIGINAL-URL:https://visitpikeville.com
X-WR-CALDESC:Events for Visit Pikeville
REFRESH-INTERVAL;VALUE=DURATION:PT1H
X-Robots-Tag:noindex
X-PUBLISHED-TTL:PT1H
BEGIN:VTIMEZONE
TZID:America/Kentucky/Louisville
BEGIN:DAYLIGHT
TZOFFSETFROM:-0500
TZOFFSETTO:-0400
TZNAME:EDT
DTSTART:20240310T070000
END:DAYLIGHT
BEGIN:STANDARD
TZOFFSETFROM:-0400
TZOFFSETTO:-0500
TZNAME:EST
DTSTART:20241103T060000
END:STANDARD
BEGIN:DAYLIGHT
TZOFFSETFROM:-0500
TZOFFSETTO:-0400
TZNAME:EDT
DTSTART:20250309T070000
END:DAYLIGHT
BEGIN:STANDARD
TZOFFSETFROM:-0400
TZOFFSETTO:-0500
TZNAME:EST
DTSTART:20251102T060000
END:STANDARD
BEGIN:DAYLIGHT
TZOFFSETFROM:-0500
TZOFFSETTO:-0400
TZNAME:EDT
DTSTART:20260308T070000
END:DAYLIGHT
BEGIN:STANDARD
TZOFFSETFROM:-0400
TZOFFSETTO:-0500
TZNAME:EST
DTSTART:20261101T060000
END:STANDARD
END:VTIMEZONE
BEGIN:VEVENT
DTSTART;TZID=America/Kentucky/Louisville:20250208T090000
DTEND;TZID=America/Kentucky/Louisville:20250208T210000
DTSTAMP:20260424T163619
CREATED:20241118T134455Z
LAST-MODIFIED:20241118T134455Z
UID:59850-1739005200-1739048400@visitpikeville.com
SUMMARY:Big Boy Toy Show
DESCRIPTION:Dates are Feb 7\,8\,9\nHours are:\nFriday 3p-9p\nSaturday 9a-9p\nSunday Noon-6p\n\n\n$5 admission\n12 and under FREE\n\n\nCost is:\n$ 500 for 10×10\,\n$1\,000 for 10×20\,\n$1\,500 for 10×30
URL:https://visitpikeville.com/event/big-boy-toy-show-2/
LOCATION:Appalachian Wireless Arena\, 126 Main Street\, Pikeville\, Ky\, 41501
CATEGORIES:Appalachian Wireless Arena
ATTACH;FMTTYPE=image/jpeg:https://visitpikeville.com/wp-content/uploads/2024/11/big-boy.jpg
END:VEVENT
BEGIN:VEVENT
DTSTART;TZID=America/Kentucky/Louisville:20250208T100000
DTEND;TZID=America/Kentucky/Louisville:20250208T110000
DTSTAMP:20260424T163619
CREATED:20250102T132515Z
LAST-MODIFIED:20250102T132515Z
UID:61408-1739008800-1739012400@visitpikeville.com
SUMMARY:Creative Play (ages 5-8)​
DESCRIPTION:January 18th – February 13th | $100 for semester\nMeets Saturdays\, 10:00-11:00 am\nTaught by Daniela Velasquez and Claudia Dahlman \n\n\n\n\nThis class is for our younger students! This class is designed to get young actors on their feet and explore the vast nature of acting. This class will be dedicated to learning how to explore our imaginations\, create characters\, and move in space with intention. \nCome explore with us.
URL:https://visitpikeville.com/event/creative-play-ages-5-8-5-2-2-2/
LOCATION:Appalachian Center for the Arts\, 218 2nd St\,\, Pikeville\, Ky\, 41501
CATEGORIES:The Appalachian Center for the Arts
ATTACH;FMTTYPE=image/webp:https://visitpikeville.com/wp-content/uploads/2025/01/winter-25-classes.webp
END:VEVENT
BEGIN:VEVENT
DTSTART;TZID=America/Kentucky/Louisville:20250208T110000
DTEND;TZID=America/Kentucky/Louisville:20250208T120000
DTSTAMP:20260424T163619
CREATED:20250127T165556Z
LAST-MODIFIED:20250127T165556Z
UID:62484-1739012400-1739016000@visitpikeville.com
SUMMARY:Story Time
DESCRIPTION:tory Time is for children ages 5 and under and features books\, action/movement\, songs\, and a craft. Story Time is held Thursdays at 11:00 and 2:00 and Saturdays at 11:00. \n\n\n\n\n\n\n  \nBesides being fun\, Story Time also helps develop early literacy and school readiness skills through reading\, singing\, listening\, playing\, and social interaction. This program lasts approximately 30 minutes\, and caregivers and children are encouraged to linger in the library afterwards to further socialize and choose books to take home.
URL:https://visitpikeville.com/event/story-time-2-2-2-2-2-2-2-2-2-2-2-2-2-2-2-2-2-2-2-2-2-2-2-2-2-2-2-2-2-2-2-2-2-2-2-2-2-2-2-2-2-2-2-2-2-2-2-2-2-2-2-2-2-2-2-3-2-2-2-2-2-2-2-2-2-2-2-2-2-2-2-2-2-2-2-2-2-2-2-2-2-2-2-2-2-2-2-2-2-2-2-2-2-1-3/
LOCATION:Pike County Public Library\, 126 Lee Avenue\, Pikeville\, KY\, 41501\, United States
CATEGORIES:Pike County Public Library
ATTACH;FMTTYPE=image/png:https://visitpikeville.com/wp-content/uploads/2023/12/Story_TimeLEE.png
END:VEVENT
BEGIN:VEVENT
DTSTART;TZID=America/Kentucky/Louisville:20250208T110000
DTEND;TZID=America/Kentucky/Louisville:20250208T160000
DTSTAMP:20260424T163619
CREATED:20250120T142451Z
LAST-MODIFIED:20250120T142451Z
UID:62219-1739012400-1739030400@visitpikeville.com
SUMMARY:Love your Downtown
DESCRIPTION:We are all about downtown.
URL:https://visitpikeville.com/event/love-your-downtown-2/
LOCATION:Downtown Pikeville\, Pikeville\, Ky\, 41501
CATEGORIES:Pikeville Main Street,Pikeville Tourism
ATTACH;FMTTYPE=image/jpeg:https://visitpikeville.com/wp-content/uploads/2025/01/downtown.jpg
END:VEVENT
BEGIN:VEVENT
DTSTART;TZID=America/Kentucky/Louisville:20250208T120000
DTEND;TZID=America/Kentucky/Louisville:20250208T160000
DTSTAMP:20260424T163619
CREATED:20250102T151203Z
LAST-MODIFIED:20250102T151203Z
UID:61548-1739016000-1739030400@visitpikeville.com
SUMMARY:If This Were My Story (ages 18+)
DESCRIPTION:January 18th-February 8th | $100 for semester\nMeets Saturdays\, 12:00-4:00 pm\nPerformance: February 13th\, 2025\nTaught by Mark Hatfield \n\n\n\n\nYou have a story to tell! Learn the creative processes involved in devised theatre where the actors become playwrights and tell the stories most relevant to them. Collaborate with other theatre artists as you learn embodied poetics inspired by the pedagogy of the French theatre director Jacques Lecoq. Participants will use movement\, music\, materials\, masks\, and improvisation to develop a show based on the topic of their choosing. \nMark Hatfield is an Eastern Kentucky native who trained at the London International School of Performing Arts and School of Embodied Poetics\, and has completed an MFA in Actor Created Physical Theatre at Naropa University. He’s also completed graduate degrees in musical composition\, counseling\, and a clinical training program with the Jung Institute of Chicago. \nMark Hatfield has been a member of Artists Collaborative Theatre since 2021 and has played roles in The Little Miss Firecracker Contest\, Puffs\, Bright Star\, The Thin Place\, Misery\, 9 to 5\, Southern Fried Funeral\, Bloodsong\, Inherit the Wind\, Mamma Mia\, Southern Fried Nuptials\, Wait Until Dark\, and A Bluegrass Christmas Carol. \nAs part of the Octopus League theatre company in Boulder\, CO\, Mark has devised\, co-directed\, and performed in musicals\, plays\, story adaptations\, and clown shows. He’s also performed as a company member in Square Product Theatre productions of Boulder and as a community player with UPike’s theatre troupe. \nMark lives in Pikeville\, KY\, works as a mental health counselor in private practice\, is a doctoral student in clinical psychology\, and is a drama therapist in training. He has basically never stopped going to school and perhaps never will.
URL:https://visitpikeville.com/event/if-this-were-my-story-ages-18-2-2-2/
LOCATION:Appalachian Center for the Arts\, 218 2nd St\,\, Pikeville\, Ky\, 41501
CATEGORIES:The Appalachian Center for the Arts
ATTACH;FMTTYPE=image/webp:https://visitpikeville.com/wp-content/uploads/2025/01/winter-25-classes.webp
END:VEVENT
BEGIN:VEVENT
DTSTART;TZID=America/Kentucky/Louisville:20250208T140000
DTEND;TZID=America/Kentucky/Louisville:20250208T160000
DTSTAMP:20260424T163619
CREATED:20250120T154238Z
LAST-MODIFIED:20250120T154238Z
UID:62262-1739023200-1739030400@visitpikeville.com
SUMMARY:CSI Forensics: Crime Scene Challenge
DESCRIPTION:Step into the role of a crime scene investigator with the Challenger Learning Center!\nTweens and teens will explore DNA testing\, analyze clues\, and use forensic science to solve a mystery in this hands-on\, interactive program. Don’t miss this chance to crack the case!\nRegistration required. To register\, click here: https://informationplace.libnet.info/event/12768315
URL:https://visitpikeville.com/event/csi-forensics-crime-scene-challenge/
LOCATION:Pike County Public Library\, 126 Lee Avenue\, Pikeville\, KY\, 41501\, United States
CATEGORIES:Pike County Public Library
ATTACH;FMTTYPE=image/jpeg:https://visitpikeville.com/wp-content/uploads/2025/01/csi.jpg
END:VEVENT
BEGIN:VEVENT
DTSTART;TZID=America/Kentucky/Louisville:20250208T150000
DTEND;TZID=America/Kentucky/Louisville:20250208T170000
DTSTAMP:20260424T163619
CREATED:20250203T163058Z
LAST-MODIFIED:20250203T163058Z
UID:62701-1739026800-1739034000@visitpikeville.com
SUMMARY:Valentine Hugs
DESCRIPTION:$30
URL:https://visitpikeville.com/event/valentine-hugs/
LOCATION:2 Broke Art Teachers\, 4505 Weddington Square\,\, Pikeville\, KY\, 41501\, United States
CATEGORIES:Other
ATTACH;FMTTYPE=image/jpeg:https://visitpikeville.com/wp-content/uploads/2025/02/hugs.jpg
END:VEVENT
BEGIN:VEVENT
DTSTART;TZID=America/Kentucky/Louisville:20250208T160000
DTEND;TZID=America/Kentucky/Louisville:20250208T170000
DTSTAMP:20260424T163619
CREATED:20250127T162931Z
LAST-MODIFIED:20250127T162931Z
UID:62453-1739030400-1739034000@visitpikeville.com
SUMMARY:Chess Group
DESCRIPTION:Chess Group meets alternating Saturdays at 4:00 at the Pike County Public Library (Lee Avenue).\nAll ages are welcome and no experience is required. Learn how to play chess or play against other enthusiasts.
URL:https://visitpikeville.com/event/chess-group-2-2-2-2-2-2-2-2-2-2-2-2-2-2-2-2-2-2-2-2-2-2-3-2-2/
LOCATION:Pike County Public Library\, 126 Lee Avenue\, Pikeville\, KY\, 41501\, United States
CATEGORIES:Pike County Public Library
ATTACH;FMTTYPE=image/jpeg:https://visitpikeville.com/wp-content/uploads/2025/01/chess-club.jpg
END:VEVENT
BEGIN:VEVENT
DTSTART;TZID=America/Kentucky/Louisville:20250208T190000
DTEND;TZID=America/Kentucky/Louisville:20250208T210000
DTSTAMP:20260424T163619
CREATED:20250203T155249Z
LAST-MODIFIED:20250203T155249Z
UID:62698-1739041200-1739048400@visitpikeville.com
SUMMARY:Jar of Flowers
DESCRIPTION:$30
URL:https://visitpikeville.com/event/jar-of-flowers/
LOCATION:2 Broke Art Teachers\, 4505 Weddington Square\,\, Pikeville\, KY\, 41501\, United States
CATEGORIES:Other
ATTACH;FMTTYPE=image/jpeg:https://visitpikeville.com/wp-content/uploads/2025/02/jar.jpg
END:VEVENT
BEGIN:VEVENT
DTSTART;TZID=America/Kentucky/Louisville:20250208T193000
DTEND;TZID=America/Kentucky/Louisville:20250208T223000
DTSTAMP:20260424T163619
CREATED:20250120T145858Z
LAST-MODIFIED:20250120T145858Z
UID:62249-1739043000-1739053800@visitpikeville.com
SUMMARY:Live Music at Bank 253
DESCRIPTION:Special Performance \nBrody Birchfield \nFree Entry
URL:https://visitpikeville.com/event/live-music-at-bank-253-3/
LOCATION:Bank 253\, 253 2nd St\,\, Pikeville\, KY\, 41501\, United States
CATEGORIES:Other
ATTACH;FMTTYPE=image/jpeg:https://visitpikeville.com/wp-content/uploads/2025/01/brody.jpg
END:VEVENT
BEGIN:VEVENT
DTSTART;TZID=America/Kentucky/Louisville:20250208T210000
DTEND;TZID=America/Kentucky/Louisville:20250209T000000
DTSTAMP:20260424T163619
CREATED:20250120T144325Z
LAST-MODIFIED:20250120T144325Z
UID:62232-1739048400-1739059200@visitpikeville.com
SUMMARY:Winter Weekend Party
DESCRIPTION:The Swagtones and Exit 23
URL:https://visitpikeville.com/event/winter-weekend-party-2/
LOCATION:Pearse’s Place\, 224 2nd St\,\, Pikeville\, KY\, 41501\, United States
CATEGORIES:Other
ATTACH;FMTTYPE=image/jpeg:https://visitpikeville.com/wp-content/uploads/2025/01/winter-weekend.jpg
END:VEVENT
END:VCALENDAR