BEGIN:VCALENDAR
VERSION:2.0
PRODID:-//Visit Pikeville - ECPv6.15.20//NONSGML v1.0//EN
CALSCALE:GREGORIAN
METHOD:PUBLISH
X-ORIGINAL-URL:https://visitpikeville.com
X-WR-CALDESC:Events for Visit Pikeville
REFRESH-INTERVAL;VALUE=DURATION:PT1H
X-Robots-Tag:noindex
X-PUBLISHED-TTL:PT1H
BEGIN:VTIMEZONE
TZID:America/Kentucky/Louisville
BEGIN:DAYLIGHT
TZOFFSETFROM:-0500
TZOFFSETTO:-0400
TZNAME:EDT
DTSTART:20240310T070000
END:DAYLIGHT
BEGIN:STANDARD
TZOFFSETFROM:-0400
TZOFFSETTO:-0500
TZNAME:EST
DTSTART:20241103T060000
END:STANDARD
BEGIN:DAYLIGHT
TZOFFSETFROM:-0500
TZOFFSETTO:-0400
TZNAME:EDT
DTSTART:20250309T070000
END:DAYLIGHT
BEGIN:STANDARD
TZOFFSETFROM:-0400
TZOFFSETTO:-0500
TZNAME:EST
DTSTART:20251102T060000
END:STANDARD
BEGIN:DAYLIGHT
TZOFFSETFROM:-0500
TZOFFSETTO:-0400
TZNAME:EDT
DTSTART:20260308T070000
END:DAYLIGHT
BEGIN:STANDARD
TZOFFSETFROM:-0400
TZOFFSETTO:-0500
TZNAME:EST
DTSTART:20261101T060000
END:STANDARD
END:VTIMEZONE
BEGIN:VEVENT
DTSTART;TZID=America/Kentucky/Louisville:20250205T103000
DTEND;TZID=America/Kentucky/Louisville:20250205T113000
DTSTAMP:20260424T145622
CREATED:20250127T172548Z
LAST-MODIFIED:20250127T172548Z
UID:62519-1738751400-1738755000@visitpikeville.com
SUMMARY:BASIC COMPUTER SKILLS
DESCRIPTION:Learn technology basics like e-mail\, smart phones\, social media\, and more. Meets alternating Wednesdays at 10:30 at the Pike County Public Library (Lee Avenue). No registration required.
URL:https://visitpikeville.com/event/basic-computer-skills-3-2-2-2-2-2-2-2-2-2-2-2-2-2-2-2-2-2-2-2-2-2-2/
LOCATION:Pike County Public Library\, 126 Lee Avenue\, Pikeville\, KY\, 41501\, United States
CATEGORIES:Pike County Public Library
ATTACH;FMTTYPE=image/jpeg:https://visitpikeville.com/wp-content/uploads/2024/12/computer-skills.jpg
END:VEVENT
BEGIN:VEVENT
DTSTART;TZID=America/Kentucky/Louisville:20250205T163000
DTEND;TZID=America/Kentucky/Louisville:20250205T173000
DTSTAMP:20260424T145622
CREATED:20250127T171426Z
LAST-MODIFIED:20250127T171943Z
UID:62511-1738773000-1738776600@visitpikeville.com
SUMMARY:Teen Guitar Class
DESCRIPTION:Beginner guitar lessons for patrons ages 13-17. This class will be for 8 weeks\, meeting weekly in February and March. Please bring your own instrument. Registration required. \n\n\n\n\n\n\n  \nMeets every Wednesday at 4:30 Feb 5 – March 26.
URL:https://visitpikeville.com/event/teen-guitar-class/
LOCATION:Pike County Public Library\, 126 Lee Avenue\, Pikeville\, KY\, 41501\, United States
CATEGORIES:Pike County Public Library
ATTACH;FMTTYPE=image/png:https://visitpikeville.com/wp-content/uploads/2025/01/Beginner_Guitar_Classes.png
END:VEVENT
BEGIN:VEVENT
DTSTART;TZID=America/Kentucky/Louisville:20250205T171500
DTEND;TZID=America/Kentucky/Louisville:20250205T183000
DTSTAMP:20260424T145622
CREATED:20250102T144211Z
LAST-MODIFIED:20250102T144211Z
UID:61494-1738775700-1738780200@visitpikeville.com
SUMMARY:Adult Acting (ages 18+)
DESCRIPTION:January 13th-February 13th | $100 for semester\nMeets Mondays & Wednesdays\, 5:15-6:30 pm\nPerformance: February 13th\, 2025\nTaught by Claudia Dahlman \n\n\n\n\nAdult Acting: Scene Study- In this class\, actors of all levels will sharpen their craft by diving deep into scene work\, character development\, and creating an honest and multidimensional character based on the text. We’ll delve into techniques for understanding the dynamics of relationships within a scene and how to portray intentions and actions in a performance. We will be covering numerous scenes to present to the community at the end of the semester
URL:https://visitpikeville.com/event/adult-acting-ages-18-3-2-2-2-2-2-2-2/
LOCATION:Appalachian Center for the Arts\, 218 2nd St\,\, Pikeville\, Ky\, 41501
CATEGORIES:The Appalachian Center for the Arts
ATTACH;FMTTYPE=image/webp:https://visitpikeville.com/wp-content/uploads/2025/01/winter-25-classes.webp
END:VEVENT
BEGIN:VEVENT
DTSTART;TZID=America/Kentucky/Louisville:20250205T183000
DTEND;TZID=America/Kentucky/Louisville:20250205T200000
DTSTAMP:20260424T145622
CREATED:20250102T143456Z
LAST-MODIFIED:20250102T143456Z
UID:61474-1738780200-1738785600@visitpikeville.com
SUMMARY:Musical Theatre Ensembles (ages 9-18)
DESCRIPTION:January 13th – February 13th | $100 for semester\nMeets Mondays-Wednesdays 6:30-8:00 pm\nPerformance: February 13th\, 2025?\nTaught by Brian Bush and Daniela Velasquez \n\n\n\n\nThis class is dedicated to developing key ensemble skills for musical theatre performance. Musical theatre\, by nature\, combines three key elements: acting\, singing\, and dance. This class aims to explore all these aspects through the performance of an iconic musical theatre ensemble number. In this piece\, students will learn music\, choreography\, and dig into the storytelling that the song requires. This semester\, the class will also feature an audition focus. Students will be asked to prepare a 16-32 bar cut of a musical theatre song to be used for an audition. This piece will be worked on during class with the instructors. Ultimately\, these pieces will be shown to the community on a final “sharing” day. Join us for a fantastic dive into the world of group work in musical theatre!
URL:https://visitpikeville.com/event/musical-theatre-ensembles-ages-9-18-3-2-2-2-2-2-2-2/
LOCATION:Appalachian Center for the Arts\, 218 2nd St\,\, Pikeville\, Ky\, 41501
CATEGORIES:The Appalachian Center for the Arts
ATTACH;FMTTYPE=image/webp:https://visitpikeville.com/wp-content/uploads/2025/01/winter-25-classes.webp
END:VEVENT
BEGIN:VEVENT
DTSTART;TZID=America/Kentucky/Louisville:20250205T200000
DTEND;TZID=America/Kentucky/Louisville:20250205T210000
DTSTAMP:20260424T145622
CREATED:20250102T140422Z
LAST-MODIFIED:20250102T140422Z
UID:61453-1738785600-1738789200@visitpikeville.com
SUMMARY:Teen Acting (ages 12-18)
DESCRIPTION:January 13th-February 13th | $100 for semester\nMeets Mondays & Wednesdays\, 8:00-9:00 pm\nPerformance: February 13th\, 2025\nTaught by Daniela Velasquez and Claudia Dahlman \n\n\n\n\n\n\nWhether you hope to pursue a career on stage or just want to have fun working with other teens who love theatre\, this class is for you. \nOn stage\, we will learn essential acting techniques and apply them towards monologues and scenes. We will learn how to analyze a script\, and develop an honest\, multi-dimensional character based on the text. \nWhether you are an experienced actor\, or just looking to grow out of your comfort zone\, you will fit in and build your confidence in performing.
URL:https://visitpikeville.com/event/teen-acting-ages-12-18-3-2-2-2-2-2-2-2/
LOCATION:Appalachian Center for the Arts\, 218 2nd St\,\, Pikeville\, Ky\, 41501
CATEGORIES:The Appalachian Center for the Arts
ATTACH;FMTTYPE=image/webp:https://visitpikeville.com/wp-content/uploads/2025/01/winter-25-classes.webp
END:VEVENT
END:VCALENDAR