BEGIN:VCALENDAR
VERSION:2.0
PRODID:-//Visit Pikeville - ECPv6.15.20//NONSGML v1.0//EN
CALSCALE:GREGORIAN
METHOD:PUBLISH
X-WR-CALNAME:Visit Pikeville
X-ORIGINAL-URL:https://visitpikeville.com
X-WR-CALDESC:Events for Visit Pikeville
REFRESH-INTERVAL;VALUE=DURATION:PT1H
X-Robots-Tag:noindex
X-PUBLISHED-TTL:PT1H
BEGIN:VTIMEZONE
TZID:America/Kentucky/Louisville
BEGIN:DAYLIGHT
TZOFFSETFROM:-0500
TZOFFSETTO:-0400
TZNAME:EDT
DTSTART:20240310T070000
END:DAYLIGHT
BEGIN:STANDARD
TZOFFSETFROM:-0400
TZOFFSETTO:-0500
TZNAME:EST
DTSTART:20241103T060000
END:STANDARD
BEGIN:DAYLIGHT
TZOFFSETFROM:-0500
TZOFFSETTO:-0400
TZNAME:EDT
DTSTART:20250309T070000
END:DAYLIGHT
BEGIN:STANDARD
TZOFFSETFROM:-0400
TZOFFSETTO:-0500
TZNAME:EST
DTSTART:20251102T060000
END:STANDARD
BEGIN:DAYLIGHT
TZOFFSETFROM:-0500
TZOFFSETTO:-0400
TZNAME:EDT
DTSTART:20260308T070000
END:DAYLIGHT
BEGIN:STANDARD
TZOFFSETFROM:-0400
TZOFFSETTO:-0500
TZNAME:EST
DTSTART:20261101T060000
END:STANDARD
END:VTIMEZONE
BEGIN:VEVENT
DTSTART;VALUE=DATE:20250201
DTEND;VALUE=DATE:20250202
DTSTAMP:20260424T163619
CREATED:20250113T132733Z
LAST-MODIFIED:20250113T132733Z
UID:61968-1738368000-1738454399@visitpikeville.com
SUMMARY:4-H Written Communication Contest
DESCRIPTION:Attention young writers:The Kentucky 4-H Written Communication Contest is your chance to shine and boost your communication skills! Whether it’s poetry\, songwriting\, essays\, or original monologues\, this contest has something for everyone.Participating will help you enhance your writing\, reading\, and personal communication abilities—skills that are essential for success in all areas of life. Plus\, it’s a fantastic way to express your creativity and get recognized for your talents!Don’t miss out on this amazing opportunity to grow and showcase your skills. Join the contest and let your words make an impact! #amplifyky4hPlease contact Emily Chaney at 606-432-2534 if you would like to participate. Deadline to submit is February 1st.
URL:https://visitpikeville.com/event/4-h-written-communication-contest/
LOCATION:Pike County 4H\, 148 Trivette Dr\,\, Pikeville\, KY\, 41501\, United States
CATEGORIES:Other
ATTACH;FMTTYPE=image/jpeg:https://visitpikeville.com/wp-content/uploads/2025/01/4h-showcase.jpg
END:VEVENT
BEGIN:VEVENT
DTSTART;TZID=America/Kentucky/Louisville:20250201T100000
DTEND;TZID=America/Kentucky/Louisville:20250201T104500
DTSTAMP:20260424T163619
CREATED:20250120T153632Z
LAST-MODIFIED:20250120T153632Z
UID:62256-1738404000-1738406700@visitpikeville.com
SUMMARY:Baby Yoga
DESCRIPTION:Stretch\, bond\, and play with your little one in a gentle and fun Baby Yoga session!\nPerfect for caregivers and babies aged 3 months to pre-walking\, this program incorporates simple yoga poses\, playful movement\, and soothing stretches designed to support your baby’s development and your own well-being. Baby Yoga fosters connection\, encourages mindfulness\, and creates a space for you to relax\, interact\, and meet other caregivers. No prior yoga experience is necessary—just bring a yoga mat and baby blanket and enjoy this special time with your baby!\nThis program meets monthly at the Pike County Public Library (Lee Avenue)\, with the first session being held February 1st at 10:00. No registration is required. Participants must sign a waiver.
URL:https://visitpikeville.com/event/baby-yoga-2/
LOCATION:Pike County Public Library\, 126 Lee Avenue\, Pikeville\, KY\, 41501\, United States
CATEGORIES:Pike County Public Library
ATTACH;FMTTYPE=image/jpeg:https://visitpikeville.com/wp-content/uploads/2025/01/baby-yoga-1.jpg
END:VEVENT
BEGIN:VEVENT
DTSTART;TZID=America/Kentucky/Louisville:20250201T100000
DTEND;TZID=America/Kentucky/Louisville:20250201T110000
DTSTAMP:20260424T163619
CREATED:20250102T132422Z
LAST-MODIFIED:20250102T132422Z
UID:61406-1738404000-1738407600@visitpikeville.com
SUMMARY:Creative Play (ages 5-8)​
DESCRIPTION:January 18th – February 13th | $100 for semester\nMeets Saturdays\, 10:00-11:00 am\nTaught by Daniela Velasquez and Claudia Dahlman \n\n\n\n\nThis class is for our younger students! This class is designed to get young actors on their feet and explore the vast nature of acting. This class will be dedicated to learning how to explore our imaginations\, create characters\, and move in space with intention. \nCome explore with us.
URL:https://visitpikeville.com/event/creative-play-ages-5-8-5-2-2/
LOCATION:Appalachian Center for the Arts\, 218 2nd St\,\, Pikeville\, Ky\, 41501
CATEGORIES:The Appalachian Center for the Arts
ATTACH;FMTTYPE=image/webp:https://visitpikeville.com/wp-content/uploads/2025/01/winter-25-classes.webp
END:VEVENT
BEGIN:VEVENT
DTSTART;TZID=America/Kentucky/Louisville:20250201T100000
DTEND;TZID=America/Kentucky/Louisville:20250201T130000
DTSTAMP:20260424T163619
CREATED:20250113T141525Z
LAST-MODIFIED:20250113T141525Z
UID:61989-1738404000-1738414800@visitpikeville.com
SUMMARY:Pinch's Galentine's Day Event
DESCRIPTION:Sales\, grab bags\, and more! 
URL:https://visitpikeville.com/event/pinchs-galentines-day-event/
LOCATION:Pinch Aesthetics\, 124 Division Street Suite 1\, Pikeville\, KY\, 41501\, United States
CATEGORIES:Other
ATTACH;FMTTYPE=image/jpeg:https://visitpikeville.com/wp-content/uploads/2025/01/galentines.jpg
END:VEVENT
BEGIN:VEVENT
DTSTART;TZID=America/Kentucky/Louisville:20250201T110000
DTEND;TZID=America/Kentucky/Louisville:20250201T120000
DTSTAMP:20260424T163619
CREATED:20250127T165244Z
LAST-MODIFIED:20250127T165244Z
UID:62478-1738407600-1738411200@visitpikeville.com
SUMMARY:Story Time
DESCRIPTION:tory Time is for children ages 5 and under and features books\, action/movement\, songs\, and a craft. Story Time is held Thursdays at 11:00 and 2:00 and Saturdays at 11:00. \n\n\n\n\n\n\n  \nBesides being fun\, Story Time also helps develop early literacy and school readiness skills through reading\, singing\, listening\, playing\, and social interaction. This program lasts approximately 30 minutes\, and caregivers and children are encouraged to linger in the library afterwards to further socialize and choose books to take home.
URL:https://visitpikeville.com/event/story-time-2-2-2-2-2-2-2-2-2-2-2-2-2-2-2-2-2-2-2-2-2-2-2-2-2-2-2-2-2-2-2-2-2-2-2-2-2-2-2-2-2-2-2-2-2-2-2-2-2-2-2-2-2-2-2-3-2-2-2-2-2-2-2-2-2-2-2-2-2-2-2-2-2-2-2-2-2-2-2-2-2-2-2-2-2-2-2-2-2-2-2-2-2-2-9/
LOCATION:Pike County Public Library\, 126 Lee Avenue\, Pikeville\, KY\, 41501\, United States
CATEGORIES:Pike County Public Library
ATTACH;FMTTYPE=image/png:https://visitpikeville.com/wp-content/uploads/2023/12/Story_TimeLEE.png
END:VEVENT
BEGIN:VEVENT
DTSTART;TZID=America/Kentucky/Louisville:20250201T120000
DTEND;TZID=America/Kentucky/Louisville:20250201T160000
DTSTAMP:20260424T163619
CREATED:20250102T151106Z
LAST-MODIFIED:20250102T151106Z
UID:61546-1738411200-1738425600@visitpikeville.com
SUMMARY:If This Were My Story (ages 18+)
DESCRIPTION:January 18th-February 8th | $100 for semester\nMeets Saturdays\, 12:00-4:00 pm\nPerformance: February 13th\, 2025\nTaught by Mark Hatfield \n\n\n\n\nYou have a story to tell! Learn the creative processes involved in devised theatre where the actors become playwrights and tell the stories most relevant to them. Collaborate with other theatre artists as you learn embodied poetics inspired by the pedagogy of the French theatre director Jacques Lecoq. Participants will use movement\, music\, materials\, masks\, and improvisation to develop a show based on the topic of their choosing. \nMark Hatfield is an Eastern Kentucky native who trained at the London International School of Performing Arts and School of Embodied Poetics\, and has completed an MFA in Actor Created Physical Theatre at Naropa University. He’s also completed graduate degrees in musical composition\, counseling\, and a clinical training program with the Jung Institute of Chicago. \nMark Hatfield has been a member of Artists Collaborative Theatre since 2021 and has played roles in The Little Miss Firecracker Contest\, Puffs\, Bright Star\, The Thin Place\, Misery\, 9 to 5\, Southern Fried Funeral\, Bloodsong\, Inherit the Wind\, Mamma Mia\, Southern Fried Nuptials\, Wait Until Dark\, and A Bluegrass Christmas Carol. \nAs part of the Octopus League theatre company in Boulder\, CO\, Mark has devised\, co-directed\, and performed in musicals\, plays\, story adaptations\, and clown shows. He’s also performed as a company member in Square Product Theatre productions of Boulder and as a community player with UPike’s theatre troupe. \nMark lives in Pikeville\, KY\, works as a mental health counselor in private practice\, is a doctoral student in clinical psychology\, and is a drama therapist in training. He has basically never stopped going to school and perhaps never will.
URL:https://visitpikeville.com/event/if-this-were-my-story-ages-18-2-2/
LOCATION:Appalachian Center for the Arts\, 218 2nd St\,\, Pikeville\, Ky\, 41501
CATEGORIES:The Appalachian Center for the Arts
ATTACH;FMTTYPE=image/webp:https://visitpikeville.com/wp-content/uploads/2025/01/winter-25-classes.webp
END:VEVENT
BEGIN:VEVENT
DTSTART;TZID=America/Kentucky/Louisville:20250201T140000
DTEND;TZID=America/Kentucky/Louisville:20250201T150000
DTSTAMP:20260424T163619
CREATED:20240930T133837Z
LAST-MODIFIED:20240930T133837Z
UID:57783-1738418400-1738422000@visitpikeville.com
SUMMARY:Women's Basketball vs Bryan College
DESCRIPTION:Game Day!!
URL:https://visitpikeville.com/event/womens-basketball-vs-bryan-college-2/
LOCATION:Appalachian Wireless Arena\, 126 Main Street\, Pikeville\, Ky\, 41501
CATEGORIES:UPike
ATTACH;FMTTYPE=image/png:https://visitpikeville.com/wp-content/uploads/2024/09/Screenshot-2024-09-30-at-9.38.10 AM.png
END:VEVENT
BEGIN:VEVENT
DTSTART;TZID=America/Kentucky/Louisville:20250201T160000
DTEND;TZID=America/Kentucky/Louisville:20250201T170000
DTSTAMP:20260424T163619
CREATED:20240930T134031Z
LAST-MODIFIED:20240930T134031Z
UID:57786-1738425600-1738429200@visitpikeville.com
SUMMARY:Men's Basketball vs Bryan College
DESCRIPTION:Game Day!!
URL:https://visitpikeville.com/event/mens-basketball-vs-bryan-college-2/
LOCATION:Appalachian Wireless Arena\, 126 Main Street\, Pikeville\, Ky\, 41501
CATEGORIES:UPike
ATTACH;FMTTYPE=image/png:https://visitpikeville.com/wp-content/uploads/2024/09/Screenshot-2024-09-30-at-9.40.04 AM.png
END:VEVENT
BEGIN:VEVENT
DTSTART;TZID=America/Kentucky/Louisville:20250201T163000
DTEND;TZID=America/Kentucky/Louisville:20250201T180000
DTSTAMP:20260424T163619
CREATED:20250102T132815Z
LAST-MODIFIED:20250102T132815Z
UID:61413-1738427400-1738432800@visitpikeville.com
SUMMARY:Public Speaking: Finding Your Voice Workshop! (age 14+)
DESCRIPTION:February 1st | $25\nSaturday 4:30-6:00 p.m.\nTaught by Blair Burris \n\n\n\n\nThis two-hour workshop is perfect for teens and young adults working to build their confidence or professionals wishing to advance in their careers through leadership and communication. Attendees will leave with a new understanding of breathwork\, body language\, and a new confidence in public speaking!
URL:https://visitpikeville.com/event/public-speaking-finding-your-voice-workshop-age-14/
LOCATION:Appalachian Center for the Arts\, 218 2nd St\,\, Pikeville\, Ky\, 41501
CATEGORIES:The Appalachian Center for the Arts
ATTACH;FMTTYPE=image/webp:https://visitpikeville.com/wp-content/uploads/2025/01/winter-25-classes.webp
END:VEVENT
BEGIN:VEVENT
DTSTART;TZID=America/Kentucky/Louisville:20250201T190000
DTEND;TZID=America/Kentucky/Louisville:20250201T220000
DTSTAMP:20260424T163619
CREATED:20241028T112304Z
LAST-MODIFIED:20241028T112304Z
UID:59021-1738436400-1738447200@visitpikeville.com
SUMMARY:Cage Wars XI
DESCRIPTION:Just announced!!!\nCage Wars XI\nOn sale details coming soon!!!\nMMA in Pikeville!\n2/1/2025
URL:https://visitpikeville.com/event/cage-wars-xi/
LOCATION:Appalachian Wireless Arena\, 126 Main Street\, Pikeville\, Ky\, 41501
CATEGORIES:Appalachian Wireless Arena
ATTACH;FMTTYPE=image/jpeg:https://visitpikeville.com/wp-content/uploads/2024/10/cage.jpg
END:VEVENT
BEGIN:VEVENT
DTSTART;TZID=America/Kentucky/Louisville:20250201T210000
DTEND;TZID=America/Kentucky/Louisville:20250202T000000
DTSTAMP:20260424T163619
CREATED:20250120T144240Z
LAST-MODIFIED:20250120T144240Z
UID:62229-1738443600-1738454400@visitpikeville.com
SUMMARY:Winter Weekend Party
DESCRIPTION:The Swagtones and Exit 23
URL:https://visitpikeville.com/event/winter-weekend-party/
LOCATION:Pearse’s Place\, 224 2nd St\,\, Pikeville\, KY\, 41501\, United States
CATEGORIES:Other
ATTACH;FMTTYPE=image/jpeg:https://visitpikeville.com/wp-content/uploads/2025/01/winter-weekend.jpg
END:VEVENT
BEGIN:VEVENT
DTSTART;TZID=America/Kentucky/Louisville:20250201T220000
DTEND;TZID=America/Kentucky/Louisville:20250202T013000
DTSTAMP:20260424T163619
CREATED:20241125T135053Z
LAST-MODIFIED:20241125T135053Z
UID:60129-1738447200-1738459800@visitpikeville.com
SUMMARY:After Party
DESCRIPTION:Let the countdown begin!! Open until 1:30am!! Meet and greet after the fight! Join us February 1st!
URL:https://visitpikeville.com/event/after-party/
LOCATION:Bank 253\, 253 2nd St\,\, Pikeville\, KY\, 41501\, United States
CATEGORIES:Other
ATTACH;FMTTYPE=image/jpeg:https://visitpikeville.com/wp-content/uploads/2024/11/after-party.jpg
END:VEVENT
END:VCALENDAR