BEGIN:VCALENDAR
VERSION:2.0
PRODID:-//Visit Pikeville - ECPv6.15.20//NONSGML v1.0//EN
CALSCALE:GREGORIAN
METHOD:PUBLISH
X-WR-CALNAME:Visit Pikeville
X-ORIGINAL-URL:https://visitpikeville.com
X-WR-CALDESC:Events for Visit Pikeville
REFRESH-INTERVAL;VALUE=DURATION:PT1H
X-Robots-Tag:noindex
X-PUBLISHED-TTL:PT1H
BEGIN:VTIMEZONE
TZID:America/Kentucky/Louisville
BEGIN:DAYLIGHT
TZOFFSETFROM:-0500
TZOFFSETTO:-0400
TZNAME:EDT
DTSTART:20240310T070000
END:DAYLIGHT
BEGIN:STANDARD
TZOFFSETFROM:-0400
TZOFFSETTO:-0500
TZNAME:EST
DTSTART:20241103T060000
END:STANDARD
BEGIN:DAYLIGHT
TZOFFSETFROM:-0500
TZOFFSETTO:-0400
TZNAME:EDT
DTSTART:20250309T070000
END:DAYLIGHT
BEGIN:STANDARD
TZOFFSETFROM:-0400
TZOFFSETTO:-0500
TZNAME:EST
DTSTART:20251102T060000
END:STANDARD
BEGIN:DAYLIGHT
TZOFFSETFROM:-0500
TZOFFSETTO:-0400
TZNAME:EDT
DTSTART:20260308T070000
END:DAYLIGHT
BEGIN:STANDARD
TZOFFSETFROM:-0400
TZOFFSETTO:-0500
TZNAME:EST
DTSTART:20261101T060000
END:STANDARD
END:VTIMEZONE
BEGIN:VEVENT
DTSTART;TZID=America/Kentucky/Louisville:20250128T170000
DTEND;TZID=America/Kentucky/Louisville:20250128T180000
DTSTAMP:20260424T145503
CREATED:20250102T165944Z
LAST-MODIFIED:20250102T165944Z
UID:61637-1738083600-1738087200@visitpikeville.com
SUMMARY:Book Talks
DESCRIPTION:Every Other Tuesday at 5pm-6pm
URL:https://visitpikeville.com/event/book-talks-book-club-9-2-2-2-2-2-2-2-2-2-2-2-2-2-2-2-2-2-2-2-2-2-2-2-2-2-2-2-2-2-2/
LOCATION:Pike County Public Library\, 126 Lee Avenue\, Pikeville\, KY\, 41501\, United States
CATEGORIES:Pike County Public Library
ATTACH;FMTTYPE=image/jpeg:https://visitpikeville.com/wp-content/uploads/2023/06/book-talks.jpeg
END:VEVENT
BEGIN:VEVENT
DTSTART;TZID=America/Kentucky/Louisville:20250128T171500
DTEND;TZID=America/Kentucky/Louisville:20250128T181500
DTSTAMP:20260424T145503
CREATED:20250102T134938Z
LAST-MODIFIED:20250102T134938Z
UID:61429-1738084500-1738088100@visitpikeville.com
SUMMARY:Teen Improv (ages 13-18)
DESCRIPTION:January 14-February 13\, 2025 | $100 for semester\nMeets Tuesdays & Thursdays\, 5:15pm – 6:15pm\nPerformance: February 13\, 2025\nTaught by John Code with Teaching Assistant Brian Bush \n\n\n\n\nIn this class\, we will explore the foundations of improv acting and comedy for new students as well as sharpen the skills of those with previous experience and combine them into a strong team of improv performers! Students of all levels are encouraged to join\, whether it is simply to try something new and fun or to improve on past improv experience. \nWe will be working on a wide arrange of improv games that will eventually be incorporated into a public class sharing on February 13th\, which family and friends of all participants are highly encouraged to attend!It is very important that students attend each class to get the fullest experience of the course and develop the most effective teamwork with their classmates.
URL:https://visitpikeville.com/event/teen-improv-ages-13-18-5-2-2-2-2-2/
LOCATION:Appalachian Center for the Arts\, 218 2nd St\,\, Pikeville\, Ky\, 41501
CATEGORIES:The Appalachian Center for the Arts
ATTACH;FMTTYPE=image/webp:https://visitpikeville.com/wp-content/uploads/2025/01/winter-25-classes.webp
END:VEVENT
BEGIN:VEVENT
DTSTART;TZID=America/Kentucky/Louisville:20250128T173000
DTEND;TZID=America/Kentucky/Louisville:20250128T183000
DTSTAMP:20260424T145503
CREATED:20250127T164051Z
LAST-MODIFIED:20250127T164051Z
UID:62466-1738085400-1738089000@visitpikeville.com
SUMMARY:Goat milk Shampoo Workshop
DESCRIPTION:Get crafty and treat your hair to something special! Join us for a hands-on workshop where you’ll learn how to make your very own goat milk shampoo.\nGoat milk is packed with nutrients that nourish and moisturize hair\, leaving it soft and healthy. Whether you’re looking for a sustainable alternative to store-bought products or just want to try something new\, this program is perfect for you. Registration is required.\nThis program will be held at the following locations:\nPike County Public Library (Lee Ave): Jan 28th at 5:30 – Click here to register: https://informationplace.libnet.info/event/12619005\nElkhorn City Public Library: Jan 29th at 4:30 – Click here to register: https://informationplace.libnet.info/event/12619034\nBelfry Public Library: Jan 30th at 5:30 – Click here to register: https://informationplace.libnet.info/event/12619012
URL:https://visitpikeville.com/event/goat-milk-shampoo-workshop-2/
LOCATION:Pike County Public Library\, 126 Lee Avenue\, Pikeville\, KY\, 41501\, United States
CATEGORIES:Pike County Public Library
ATTACH;FMTTYPE=image/jpeg:https://visitpikeville.com/wp-content/uploads/2025/01/goat2.jpg
END:VEVENT
BEGIN:VEVENT
DTSTART;TZID=America/Kentucky/Louisville:20250128T183000
DTEND;TZID=America/Kentucky/Louisville:20250128T194500
DTSTAMP:20260424T145503
CREATED:20250102T144905Z
LAST-MODIFIED:20250102T144905Z
UID:61508-1738089000-1738093500@visitpikeville.com
SUMMARY:Adult Improv (ages 18+)
DESCRIPTION:January 14th-February 13th | $100 for semester\nMeets Tuesdays & Thursdays\, 6:30-7:45 pm\nPerformance: February 14th\, 2025\nTaught by Crockett J. Ward with Teaching Assistant Brian Bush \n\n\n\n\nAre you ready to dive into a world of mystery\, romance\, and intrigue? This improv class offers a unique opportunity to combine creativity\, spontaneity\, and performance in a thrilling\, interactive environment. In this course\, you’ll train in Interactive and Immersive Improvisation. The culmination of your training will be an unforgettable Valentine’s Day Murder Mystery Dinner. The audience will be invited to become “detectives\,” uncovering clues\, questioning suspects\, and attempting to solve the crime—all while navigating the romance-filled\, suspenseful atmosphere of the dinner. \nBy the end of the class\, you’ll not only have an array of new improvisation techniques\, but you’ll also have the thrilling experience of performing in a fun\, high-energy murder mystery event at The Appalachian Center for the Arts. This will be a night of suspense\, laughter\, and unforgettable moments. \nWhether you’re a seasoned performer or new to improv\, this class is designed for all skill levels who are ready to embrace the thrill of interactive and immersive storytelling!
URL:https://visitpikeville.com/event/adult-improv-ages-18-5-2-2-2-2/
LOCATION:Appalachian Center for the Arts\, 218 2nd St\,\, Pikeville\, Ky\, 41501
CATEGORIES:The Appalachian Center for the Arts
ATTACH;FMTTYPE=image/webp:https://visitpikeville.com/wp-content/uploads/2025/01/winter-25-classes.webp
END:VEVENT
BEGIN:VEVENT
DTSTART;TZID=America/Kentucky/Louisville:20250128T200000
DTEND;TZID=America/Kentucky/Louisville:20250128T220000
DTSTAMP:20260424T145503
CREATED:20250102T145734Z
LAST-MODIFIED:20250102T145734Z
UID:61530-1738094400-1738101600@visitpikeville.com
SUMMARY:Adult Stage Combat (ages 18+)
DESCRIPTION:January 14th-February 13th | $100 for semester\nMeets Tuesdays & Thursdays\, 8:00-10:00 pm\nPerformance: February 13th\, 2025\nTaught by Crockett J. Ward with Teaching Assistant Claudia Dahlman \n\n\n\n\nCongratulations on taking your first steps to becoming a fighter or continuing your fight training. This class is centered around a variety of attacks\, evasions\, parries\, and reactions dealing with the Quarterstaff. We will begin with basics and build up to scripted fights. Get ready to fight your friends for fun!
URL:https://visitpikeville.com/event/adult-stage-combat-ages-18-3-2-2-2-2/
LOCATION:Appalachian Center for the Arts\, 218 2nd St\,\, Pikeville\, Ky\, 41501
CATEGORIES:The Appalachian Center for the Arts
ATTACH;FMTTYPE=image/webp:https://visitpikeville.com/wp-content/uploads/2025/01/winter-25-classes.webp
END:VEVENT
END:VCALENDAR