BEGIN:VCALENDAR
VERSION:2.0
PRODID:-//Visit Pikeville - ECPv6.15.20//NONSGML v1.0//EN
CALSCALE:GREGORIAN
METHOD:PUBLISH
X-ORIGINAL-URL:https://visitpikeville.com
X-WR-CALDESC:Events for Visit Pikeville
REFRESH-INTERVAL;VALUE=DURATION:PT1H
X-Robots-Tag:noindex
X-PUBLISHED-TTL:PT1H
BEGIN:VTIMEZONE
TZID:America/Kentucky/Louisville
BEGIN:DAYLIGHT
TZOFFSETFROM:-0500
TZOFFSETTO:-0400
TZNAME:EDT
DTSTART:20230312T070000
END:DAYLIGHT
BEGIN:STANDARD
TZOFFSETFROM:-0400
TZOFFSETTO:-0500
TZNAME:EST
DTSTART:20231105T060000
END:STANDARD
BEGIN:DAYLIGHT
TZOFFSETFROM:-0500
TZOFFSETTO:-0400
TZNAME:EDT
DTSTART:20240310T070000
END:DAYLIGHT
BEGIN:STANDARD
TZOFFSETFROM:-0400
TZOFFSETTO:-0500
TZNAME:EST
DTSTART:20241103T060000
END:STANDARD
BEGIN:DAYLIGHT
TZOFFSETFROM:-0500
TZOFFSETTO:-0400
TZNAME:EDT
DTSTART:20250309T070000
END:DAYLIGHT
BEGIN:STANDARD
TZOFFSETFROM:-0400
TZOFFSETTO:-0500
TZNAME:EST
DTSTART:20251102T060000
END:STANDARD
BEGIN:DAYLIGHT
TZOFFSETFROM:-0500
TZOFFSETTO:-0400
TZNAME:EDT
DTSTART:20260308T070000
END:DAYLIGHT
BEGIN:STANDARD
TZOFFSETFROM:-0400
TZOFFSETTO:-0500
TZNAME:EST
DTSTART:20261101T060000
END:STANDARD
END:VTIMEZONE
BEGIN:VEVENT
DTSTART;TZID=America/Kentucky/Louisville:20241223T080000
DTEND;TZID=America/Kentucky/Louisville:20250118T200000
DTSTAMP:20260424T163624
CREATED:20241223T133723Z
LAST-MODIFIED:20241223T133723Z
UID:61125-1734940800-1737230400@visitpikeville.com
SUMMARY:2025 design contest
DESCRIPTION:“Your Story Begins Here” 2025 design contest!\n\n\nOpen to all ages. Submit your art to Shannon@theapparts.org\n\n\nIf your design is chosen\, it will be featured on our 2025 APP T-Shirts!\n\n\nDeadline for entry is January 18 at 10 PM
URL:https://visitpikeville.com/event/2025-design-contest/
LOCATION:Appalachian Center for the Arts\, 218 2nd St\,\, Pikeville\, Ky\, 41501
CATEGORIES:The Appalachian Center for the Arts
ATTACH;FMTTYPE=image/jpeg:https://visitpikeville.com/wp-content/uploads/2024/12/design.jpg
END:VEVENT
BEGIN:VEVENT
DTSTART;TZID=America/Kentucky/Louisville:20250115T090000
DTEND;TZID=America/Kentucky/Louisville:20250119T100000
DTSTAMP:20260424T163624
CREATED:20250113T133512Z
LAST-MODIFIED:20250113T133512Z
UID:61972-1736931600-1737280800@visitpikeville.com
SUMMARY:Septic Installer Classes
DESCRIPTION:For more information call: 606-437-5500
URL:https://visitpikeville.com/event/septic-installer-classes/
LOCATION:Pike County Health Department\, 119 River Drive\,\, Pikeville\, KY\, 41501\, United States
CATEGORIES:Pike County Health Department
ATTACH;FMTTYPE=image/jpeg:https://visitpikeville.com/wp-content/uploads/2025/01/septic.jpg
END:VEVENT
BEGIN:VEVENT
DTSTART;TZID=America/Kentucky/Louisville:20250116T080000
DTEND;TZID=America/Kentucky/Louisville:20250116T160000
DTSTAMP:20260424T163624
CREATED:20241216T152601Z
LAST-MODIFIED:20241216T152601Z
UID:60934-1737014400-1737043200@visitpikeville.com
SUMMARY:Peabody Hiring Event
DESCRIPTION:Peabody is looking for experienced coal miners! Come meet Peabody representatives and learn about available positions\, benefits and more at our upcoming hiring event in Kentucky.\nPeabody is hiring for a variety of roles at our underground and surface operations in Illinois\, Indiana\, Alabama\, Wyoming and Colorado.\n– Experienced Underground Operator– Experienced Underground Electrician– Sr Belt Coordinator– Longwall Supervisor– Longwall Maintenance Supervisor– Continuous Miner Supervisor– Experienced Underground Surveyor– Sr Mine Engineer\nFor a full list of job openings\, please visit: jobs.peabodyenergy.com\nPlease send resumes to talentacquisition@peabodyenergy.com to schedule an interview time during the hiring event. We’re looking forward to meeting you
URL:https://visitpikeville.com/event/peabody-hiring-event/
LOCATION:Pike County Public Library\, 126 Lee Avenue\, Pikeville\, KY\, 41501\, United States
CATEGORIES:Pike County Public Library
ATTACH;FMTTYPE=image/jpeg:https://visitpikeville.com/wp-content/uploads/2024/12/peabody.jpg
END:VEVENT
BEGIN:VEVENT
DTSTART;TZID=America/Kentucky/Louisville:20250116T110000
DTEND;TZID=America/Kentucky/Louisville:20250116T120000
DTSTAMP:20260424T163624
CREATED:20250102T161533Z
LAST-MODIFIED:20250102T161533Z
UID:61587-1737025200-1737028800@visitpikeville.com
SUMMARY:Story Time
DESCRIPTION:tory Time is for children ages 5 and under and features books\, action/movement\, songs\, and a craft. Story Time is held Thursdays at 11:00 and 2:00 and Saturdays at 11:00. \n\n\n\n\n\n\n  \nBesides being fun\, Story Time also helps develop early literacy and school readiness skills through reading\, singing\, listening\, playing\, and social interaction. This program lasts approximately 30 minutes\, and caregivers and children are encouraged to linger in the library afterwards to further socialize and choose books to take home.
URL:https://visitpikeville.com/event/story-time-2-2-2-2-2-2-2-2-2-2-2-2-2-2-2-2-2-2-2-2-2-2-2-2-2-2-2-2-2-2-2-2-2-2-2-2-2-2-2-2-2-2-2-2-2-2-2-2-2-2-2-2-2-2-2-3-2-2-2-2-2-2-2-2-2-2-2-2-2-2-2-2-2-2-2-2-2-2-2-2-2-2-2-2-2-2-2-2-2-2-2-2-2-2/
LOCATION:Pike County Public Library\, 126 Lee Avenue\, Pikeville\, KY\, 41501\, United States
CATEGORIES:Pike County Public Library
ATTACH;FMTTYPE=image/png:https://visitpikeville.com/wp-content/uploads/2023/12/Story_TimeLEE.png
END:VEVENT
BEGIN:VEVENT
DTSTART;TZID=America/Kentucky/Louisville:20250116T140000
DTEND;TZID=America/Kentucky/Louisville:20250116T150000
DTSTAMP:20260424T163624
CREATED:20250102T161607Z
LAST-MODIFIED:20250102T161607Z
UID:61589-1737036000-1737039600@visitpikeville.com
SUMMARY:Story Time
DESCRIPTION:tory Time is for children ages 5 and under and features books\, action/movement\, songs\, and a craft. Story Time is held Thursdays at 11:00 and 2:00 and Saturdays at 11:00. \n\n\n\n\n\n\n  \nBesides being fun\, Story Time also helps develop early literacy and school readiness skills through reading\, singing\, listening\, playing\, and social interaction. This program lasts approximately 30 minutes\, and caregivers and children are encouraged to linger in the library afterwards to further socialize and choose books to take home.
URL:https://visitpikeville.com/event/story-time-2-2-2-2-2-2-2-2-2-2-2-2-2-2-2-2-2-2-2-2-2-2-2-2-2-2-2-2-2-2-2-2-2-2-2-2-2-2-2-2-2-2-2-2-2-2-2-2-2-2-2-2-2-2-2-3-2-2-2-2-2-2-2-2-2-2-2-2-2-2-2-2-2-2-2-2-2-2-2-2-2-2-2-2-2-2-2-2-2-2-2-2-2-2-2/
LOCATION:Pike County Public Library\, 126 Lee Avenue\, Pikeville\, KY\, 41501\, United States
CATEGORIES:Pike County Public Library
ATTACH;FMTTYPE=image/png:https://visitpikeville.com/wp-content/uploads/2023/12/Story_TimeLEE.png
END:VEVENT
BEGIN:VEVENT
DTSTART;TZID=America/Kentucky/Louisville:20250116T170000
DTEND;TZID=America/Kentucky/Louisville:20250116T184500
DTSTAMP:20260424T163624
CREATED:20250102T163708Z
LAST-MODIFIED:20250102T163708Z
UID:61606-1737046800-1737053100@visitpikeville.com
SUMMARY:Dungeons and Dragons
DESCRIPTION:Dungeons and Dragons Group meets every other Thursday at 5:00 at the Pike County Public Library (Lee Avenue). Beginners and experienced players alike are welcome.
URL:https://visitpikeville.com/event/dungeons-and-dragons-5-2-2-2-2-2-2-2-2-2-2-2-2-2-2-2-2-2-3-2-2/
LOCATION:Pike County Public Library\, 126 Lee Avenue\, Pikeville\, KY\, 41501\, United States
CATEGORIES:Pike County Public Library
ATTACH;FMTTYPE=image/png:https://visitpikeville.com/wp-content/uploads/2023/12/D_D_Group.png
END:VEVENT
BEGIN:VEVENT
DTSTART;TZID=America/Kentucky/Louisville:20250116T171500
DTEND;TZID=America/Kentucky/Louisville:20250116T181500
DTSTAMP:20260424T163624
CREATED:20250102T134749Z
LAST-MODIFIED:20250102T134749Z
UID:61423-1737047700-1737051300@visitpikeville.com
SUMMARY:Teen Improv (ages 13-18)
DESCRIPTION:January 14-February 13\, 2025 | $100 for semester\nMeets Tuesdays & Thursdays\, 5:15pm – 6:15pm\nPerformance: February 13\, 2025\nTaught by John Code with Teaching Assistant Brian Bush \n\n\n\n\nIn this class\, we will explore the foundations of improv acting and comedy for new students as well as sharpen the skills of those with previous experience and combine them into a strong team of improv performers! Students of all levels are encouraged to join\, whether it is simply to try something new and fun or to improve on past improv experience. \nWe will be working on a wide arrange of improv games that will eventually be incorporated into a public class sharing on February 13th\, which family and friends of all participants are highly encouraged to attend!It is very important that students attend each class to get the fullest experience of the course and develop the most effective teamwork with their classmates.
URL:https://visitpikeville.com/event/teen-improv-ages-13-18-5-2-2/
LOCATION:Appalachian Center for the Arts\, 218 2nd St\,\, Pikeville\, Ky\, 41501
CATEGORIES:The Appalachian Center for the Arts
ATTACH;FMTTYPE=image/webp:https://visitpikeville.com/wp-content/uploads/2025/01/winter-25-classes.webp
END:VEVENT
BEGIN:VEVENT
DTSTART;TZID=America/Kentucky/Louisville:20250116T180000
DTEND;TZID=America/Kentucky/Louisville:20250116T190000
DTSTAMP:20260424T163624
CREATED:20250113T131839Z
LAST-MODIFIED:20250113T131839Z
UID:61965-1737050400-1737054000@visitpikeville.com
SUMMARY:Open House
DESCRIPTION:Join us for the upcoming open house to explore ideas and solutions for transportation safety in our community and the city of Pikeville
URL:https://visitpikeville.com/event/open-house/
LOCATION:Pikeville City Hall\, 243 Main St #1786\,\, Pikeville\, KY\, 41501\, United States
CATEGORIES:City of Pikeville
ATTACH;FMTTYPE=image/png:https://visitpikeville.com/wp-content/uploads/2025/01/Screenshot-2025-01-13-at-8.18.12 AM.png
END:VEVENT
BEGIN:VEVENT
DTSTART;TZID=America/Kentucky/Louisville:20250116T183000
DTEND;TZID=America/Kentucky/Louisville:20250116T194500
DTSTAMP:20260424T163624
CREATED:20250102T144634Z
LAST-MODIFIED:20250102T144634Z
UID:61502-1737052200-1737056700@visitpikeville.com
SUMMARY:Adult Improv (ages 18+)
DESCRIPTION:January 14th-February 13th | $100 for semester\nMeets Tuesdays & Thursdays\, 6:30-7:45 pm\nPerformance: February 14th\, 2025\nTaught by Crockett J. Ward with Teaching Assistant Brian Bush \n\n\n\n\nAre you ready to dive into a world of mystery\, romance\, and intrigue? This improv class offers a unique opportunity to combine creativity\, spontaneity\, and performance in a thrilling\, interactive environment. In this course\, you’ll train in Interactive and Immersive Improvisation. The culmination of your training will be an unforgettable Valentine’s Day Murder Mystery Dinner. The audience will be invited to become “detectives\,” uncovering clues\, questioning suspects\, and attempting to solve the crime—all while navigating the romance-filled\, suspenseful atmosphere of the dinner. \nBy the end of the class\, you’ll not only have an array of new improvisation techniques\, but you’ll also have the thrilling experience of performing in a fun\, high-energy murder mystery event at The Appalachian Center for the Arts. This will be a night of suspense\, laughter\, and unforgettable moments. \nWhether you’re a seasoned performer or new to improv\, this class is designed for all skill levels who are ready to embrace the thrill of interactive and immersive storytelling!
URL:https://visitpikeville.com/event/adult-improv-ages-18-5-2/
LOCATION:Appalachian Center for the Arts\, 218 2nd St\,\, Pikeville\, Ky\, 41501
CATEGORIES:The Appalachian Center for the Arts
ATTACH;FMTTYPE=image/webp:https://visitpikeville.com/wp-content/uploads/2025/01/winter-25-classes.webp
END:VEVENT
BEGIN:VEVENT
DTSTART;TZID=America/Kentucky/Louisville:20250116T200000
DTEND;TZID=America/Kentucky/Louisville:20250116T220000
DTSTAMP:20260424T163624
CREATED:20250102T145543Z
LAST-MODIFIED:20250102T145543Z
UID:61524-1737057600-1737064800@visitpikeville.com
SUMMARY:Adult Stage Combat (ages 18+)
DESCRIPTION:January 14th-February 13th | $100 for semester\nMeets Tuesdays & Thursdays\, 8:00-10:00 pm\nPerformance: February 13th\, 2025\nTaught by Crockett J. Ward with Teaching Assistant Claudia Dahlman \n\n\n\n\nCongratulations on taking your first steps to becoming a fighter or continuing your fight training. This class is centered around a variety of attacks\, evasions\, parries\, and reactions dealing with the Quarterstaff. We will begin with basics and build up to scripted fights. Get ready to fight your friends for fun!
URL:https://visitpikeville.com/event/adult-stage-combat-ages-18-3-2/
LOCATION:Appalachian Center for the Arts\, 218 2nd St\,\, Pikeville\, Ky\, 41501
CATEGORIES:The Appalachian Center for the Arts
ATTACH;FMTTYPE=image/webp:https://visitpikeville.com/wp-content/uploads/2025/01/winter-25-classes.webp
END:VEVENT
END:VCALENDAR